Workbook

Sheet 表紙
A7: 宮 城 県 診 療 所 名 簿
H17: 令和８年１０月１日現在
C25: 宮 城 県 保 健 福 祉 部 医 療 政 策 課
C31: ※歯科診療所については，歯科関係を標榜している診療所を掲載している。

Sheet 診療所数
A1: 宮城県診療所数（医科・歯科）
B3: 46296 | C3: 現在
C5: 医科診療所 | I5: 歯科診療所
A6: 区 分 | C6: 診療所数 | F6: 病床数 | I6: 総数 | J6: 病床数
C7: 総数 | D7: (うち有床) | E7: (うち療養) | F7: 総数 | G7: (うち一般) | H7: (うち療養)
A8: 仙南保健所 | C8: =仙南!A102 -> 100 | D8: 6 | E8: 0 | F8: =SUM(G8:H8) -> 42 | G8: 42 | H8: 0 | I8: 60 | J8: 0
A9: 塩釜保健所 | C9: =塩釜!A283 -> 281 | D9: 23 | E9: 2 | F9: =SUM(G9:H9) -> 262 | G9: 239 | H9: 23 | I9: 154 | J9: 0
A10: 大崎保健所 | C10: ='北部（大崎・栗原）'!A166 -> 164 | D10: 12 | E10: 1 | F10: =SUM(G10:H10) -> 172 | G10: 164 | H10: 8 | I10: 93 | J10: 0
A11: 石巻保健所 | C11: ='東部（石巻・登米）'!A176 -> 174 | D11: 9 | E11: 2 | F11: =SUM(G11:H11) -> 131 | G11: 117 | H11: 14 | I11: 100 | J11: 0
A12: 気仙沼保健所 | C12: =気仙沼!A39 -> 37 | D12: 1 | E12: 0 | F12: =SUM(G12:H12) -> 3 | G12: 3 | H12: 0 | I12: 15 | J12: 0
B13: 県保健所計 | C13: =SUM(C8:C12) -> 756 | D13: =SUM(D8:D12) -> 51 | E13: =SUM(E8:E12) -> 5 | F13: =SUM(F8:F12) -> 610 | G13: =SUM(G8:G12) -> 565 | H13: =SUM(H8:H12) -> 45 | I13: =SUM(I8:I12) -> 422 | J13: 0
A14: 仙台市保健所 | B14: 青葉区 | C14: =青葉区!A391 -> 389 | D14: 12 | E14: 1 | F14: =SUM(G14:H14) -> 146 | G14: 134 | H14: 12 | I14: 229 | J14: 0
B15: 宮城野区 | C15: =宮城野区!A148 -> 146 | D15: 4 | E15: 0 | F15: =SUM(G15:H15) -> 31 | G15: 31 | H15: 0 | I15: 82 | J15: 0
B16: 若林区 | C16: =若林区!A104 -> 102 | D16: 2 | E16: 0 | F16: =SUM(G16:H16) -> 12 | G16: 12 | H16: 0 | I16: 73 | J16: 0
B17: 太白区 | C17: =太白区!A178 -> 176 | D17: 3 | E17: 0 | F17: =SUM(G17:H17) -> 53 | G17: 53 | H17: 0 | I17: 101 | J17: 0
B18: 泉区 | C18: =泉区!A168 -> 166 | D18: 11 | E18: 0 | F18: =SUM(G18:H18) -> 140 | G18: 140 | H18: 0 | I18: 103 | J18: 0
B19: 仙台市計 | C19: =SUM(C14:C18) -> 979 | D19: =SUM(D14:D18) -> 32 | E19: =SUM(E14:E18) -> 1 | F19: =SUM(F14:F18) -> 382 | G19: =SUM(G14:G18) -> 370 | H19: =SUM(H14:H18) -> 12 | I19: =SUM(I14:I18) -> 588 | J19: =SUM(J14:J18) -> 0
A20: 合 計 | C20: =C13+C19 -> 1735 | D20: =D13+D19 -> 83 | E20: =E13+E19 -> 6 | F20: =F13+F19 -> 992 | G20: =G13+G19 -> 935 | H20: =H13+H19 -> 57 | I20: =I13+I19 -> 1010 | J20: =J13+J19 -> 0

Sheet 仙南
A1: № | B1: 保健所 | C1: 開設者名 | D1: 診療所名 | E1: 管理者名 | F1: 開設年月日 | G1: 郵便番号 | H1: 所在地 | I1: 電話番号 | J1: 診 療 科 目 | AT1: 病床数 | AW1: 摘要
J2: 内科 | K2: 心療内科 | L2: 精神科 | M2: 神経科 | N2: 神経内科 | O2: 呼吸器科 | P2: 消化器科 | Q2: 胃腸科 | R2: 循環器科 | S2: アレルギー科 | T2: リウマチ科 | U2: 小児科 | V2: 外科 | W2: 整形外科 | X2: 形成外科 | Y2: 美容外科 | Z2: 脳神経外科 | AA2: 呼吸器外科 | AB2: 心臓血管外科 | AC2: 小児外科 | AD2: 皮膚泌尿器科 | AE2: 皮膚科 | AF2: 泌尿器科 | AG2: 性病科 | AH2: こう門科 | AI2: 産婦人科 | AJ2: 産科 | AK2: 婦人科 | AL2: 眼科 | AM2: 耳鼻咽喉科 | AN2: 気管食道科 | AO2: リハビリテーション科 | AP2: 放射線科 | AQ2: 麻酔科 | AR2: 歯科 | AS2: その他の科目 | AT2: 合 計 | AU2: 療養 | AV2: 一般
A3: 1 | B3: 仙南 | C3: 医療法人社団橋本整形外科医院 | D3: 橋本整形外科医院 | E3: 橋本 昌美 | F3: 34700 | G3: 989-0223 | H3: 白石市旭町２－９－１７ | I3: （0224）25-1616 | T3: ○ | W3: ○ | AO3: ○
A4: 2 | B4: 仙南 | C4: 医療法人白悠会 | D4: 引地クリニック | E4: 引地 克 | F4: 43739 | G4: 989-0218 | H4: 白石市鷹巣東一丁目5－26 | I4: （0224）26-2823 | J4: ○ | AE4: ○ | AF4: ○ | AS4: 脳神経内科 | AT4: =AU4+AV4 -> 0 | AU4: 0 | AV4: 0
A5: 3 | B5: 仙南 | C5: 大沼 秀行 | D5: おおぬまクリニック | E5: 大沼 秀行 | F5: 35350 | G5: 989-0267 | H5: 白石市延命寺北１－６ | I5: （0224）24-2333 | AM5: ○ | AN5: ○ | AT5: =AU5+AV5 -> 0 | AU5: 0 | AV5: 0
A6: 4 | B6: 仙南 | C6: 医療法人社団朝倉会 | D6: 朝倉医院 | E6: 海上 寛 | F6: 32339 | G6: 989-0275 | H6: 白石市字本町８９ | I6: （0224）25-2101 | J6: ○ | AT6: =AU6+AV6 -> 0 | AU6: 0 | AV6: 0
A7: 5 | B7: 仙南 | C7: 医療法人社団浅野眼科医院 | D7: 浅野眼科医院 | E7: 浅野 俊弘 | F7: 33071 | G7: 989-0242 | H7: 白石市字柳町６１ | I7: （0224）24-4603 | AL7: ○ | AT7: =AU7+AV7 -> 5 | AU7: 0 | AV7: 5
A8: 6 | B8: 仙南 | C8: 堤 栄克 | D8: つつみ内科外科こどもクリニック | E8: 堤 栄克 | F8: 40269 | G8: 989-0272 | H8: 白石市清水小路６－３ | I8: （0224）25-1181 | J8: ○ | U8: ○ | V8: ○ | AS8: 糖尿病内科 | AT8: =AU8+AV8 -> 0 | AU8: 0 | AV8: 0
A9: 7 | B9: 仙南 | C9: 相原 彰子 | D9: 加藤小児科内科医院 | E9: 相原 彰子 | F9: 41100 | G9: 989-0276 | H9: 白石市大手町３－１３ | I9: （0224）26-2653 | J9: ○ | U9: ○ | AT9: =AU9+AV9 -> 0 | AU9: 0 | AV9: 0
A10: 8 | B10: 仙南 | C10: 柿崎 周平 | D10: 柿崎小児科 | E10: 柿崎 周平 | F10: 43176 | G10: 989-0277 | H10: 白石市沢端町１－３７ | I10: （0224）25-2210 | U10: ○ | AT10: =AU10+AV10 -> 0 | AU10: 0 | AV10: 0
A11: 9 | B11: 仙南 | C11: 医療法人圭友会 | D11: 水野内科クリニック | E11: 水野 圭司 | F11: 43831 | G11: 989-0277 | H11: 白石市沢端町３－４３ | I11: （0224）25-2736 | J11: ○ | O11: ○ | P11: ○ | R11: ○ | AT11: =AU11+AV11 -> 0 | AU11: 0 | AV11: 0
A12: 10 | B12: 仙南 | C12: 医療法人社団梅津内科医院 | D12: 梅津内科医院 | E12: 梅津 輝行 | F12: 35963 | G12: 989-0299 | H12: 白石市銚子ヶ森１０－１３ | I12: （0224）24-3571 | J12: ○ | P12: ○ | AT12: =AU12+AV12 -> 0 | AU12: 0 | AV12: 0
A13: 11 | B13: 仙南 | C13: 医療法人社団えんどうクリニック | D13: 医療法人社団えんどうクリニック | E13: 遠藤 雅人 | F13: 37803 | G13: 989-0228 | H13: 白石市兎作４０－１ | I13: （0224）26-3888 | J13: ○ | R13: ○ | V13: ○ | AT13: =AU13+AV13 -> 0 | AU13: 0 | AV13: 0
A14: 12 | B14: 仙南 | C14: 社会福祉法人伯和会 | D14: 特別養護老人ホームえんじゅ診療所 | E14: 水野 圭司 | F14: 35592 | G14: 989-0231 | H14: 白石市福岡蔵本字茶園６２－１ | I14: （0224）25-8885 | J14: ○ | O14: ○ | P14: ○ | R14: ○ | AT14: =AU14+AV14 -> 0 | AU14: 0 | AV14: 0
A15: 13 | B15: 仙南 | C15: 社会福祉法人不忘会 | D15: 特別養護老人ホーム八宮荘診療所 | E15: 網倉 克己 | F15: 29312 | G15: 989-0733 | H15: 白石市福岡八宮字川原１０－３ | I15: （0224）24-5500 | J15: ○ | AT15: =AU15+AV15 -> 0 | AU15: 0 | AV15: 0
A16: 14 | B16: 仙南 | C16: 高橋 昌宏 | D16: たかはし内科クリニック | E16: 高橋 昌宏 | F16: 37747 | G16: 989-0255 | H16: 白石市城北町４－１１ | I16: （0224）22-2535 | J16: ○ | O16: ○ | P16: ○ | R16: ○ | AT16: =AU16+AV16 -> 0 | AU16: 0 | AV16: 0
A17: 15 | B17: 仙南 | C17: 小松 和久 | D17: こまつ外科内科クリニック | E17: 小松 和久 | F17: 38092 | G17: 989-0245 | H17: 白石市城南二丁目２－６ | I17: （0224）22-2115 | J17: ○ | V17: ○ | AC17: ○ | AE17: ○ | AH17: ○ | AT17: =AU17+AV17 -> 0 | AU17: 0 | AV17: 0
A18: 16 | B18: 仙南 | C18: 今野 英繁 | D18: 白石今野医院 | E18: 今野 英繁 | F18: 38964 | G18: 989-0203 | H18: 白石市郡山字虎子沢山１－３ | I18: （0224）25-2822 | J18: ○ | K18: ○ | L18: ○ | M18: ○
A19: 17 | B19: 仙南 | C19: 医療法人つかもとクリニック | D19: つかもとクリニック | E19: 塚本 彩人 | F19: 39083 | G19: 989-0245 | H19: 白石市城南一丁目２－２９ | I19: （0224）26-1026 | J19: ○ | K19: ○ | L19: ○ | AS19: 血液内科 | AT19: =AU19+AV19 -> 0 | AU19: 0 | AV19: 0
A20: 18 | B20: 仙南 | C20: 大橋 利史 | D20: 大手町 おおはし眼科 | E20: 大橋 利史 | F20: 39419 | G20: 989-0255 | H20: 白石市城北町４－４１ | I20: （0224）24-3161 | AL20: ○
A21: 19 | B21: 仙南 | C21: 医療法人三省会 | D21: おおはし整形外科 | E21: 大橋 隆 | F21: 42370 | G21: 989-0248 | H21: 白石市南町１－３－３３ | I21: （0224）22-2888 | W21: ○ | AO21: ○
A22: 20 | B22: 仙南 | C22: 社会福祉法人栄世会 | D22: 特別養護老人ホームひだまり診療所 | E22: 堤 栄克 | F22: 40634 | G22: 989-0229 | H22: 白石市字銚子ヶ森２６－１ | I22: （0224）29-3701 | J22: ○ | V22: ○
A23: 21 | B23: 仙南 | C23: 社会福祉法人伯和会 | D23: 特別養護老人ホームみずき診療所 | E23: 水野 圭司 | F23: 41122 | G23: 989-0231 | H23: 白石市福岡蔵本字茶園６２－５ | I23: （0224）29-3139 | J23: ○ | O23: ○ | P23: ○ | R23: ○
A24: 22 | B24: 仙南 | C24: 国立大学法人東北大学 | D24: 東北大学 東北メディカル・メガバンク機構 地域支援白石センター | E24: 小林 朋子 | F24: 41604 | G24: 989-0243 | H24: 白石市字沢目１５－６ | I24: （0224）26-9771 | AS24: 臨床検査課
A25: 23 | B25: 仙南 | C25: 菅野 裕幸 | D25: かんのリズムハートクリニック | E25: 菅野 裕幸 | F25: 42614 | G25: 989-0218 | H25: 白石市鷹巣東３－８－３ | I25: （0224）26-6330 | J25: ○ | AS25: 循環器内科、呼吸器内科、糖尿病内科 | AU25: 0 | AV25: 0
A26: 24 | B26: 仙南 | C26: 医療法人社団やまと | D26: やまと在宅診療所 白石 | E26: 大藏 暢 | F26: 45383 | G26: 989-0223 | H26: 白石市旭町１－９－２７ カーサ・セロＤ棟 | I26: （0224）26-8020 | J26: ○
A27: 25 | B27: 仙南 | C27: 社会福祉法人あけの星会 | D27: 特別養護老人ホーム聖母の家診療所 | E27: 櫛田 正男 | F27: 33067 | G27: 981-1512 | H27: 角田市横倉字丸山１ | I27: （0224）62-1731 | J27: ○ | AT27: =AU27+AV27 -> 0 | AU27: 0 | AV27: 0
A28: 26 | B28: 仙南 | C28: 医療法人社団阿部内科医院 | D28: 阿部内科医院 | E28: 阿部 文明 | F28: 33434 | G28: 981-1505 | H28: 角田市角田字牛館８９－３ | I28: （0224）63-3335 | J28: ○ | O28: ○ | Q28: ○ | R28: ○ | AT28: =AU28+AV28 -> 0 | AU28: 0 | AV28: 0
A29: 27 | B29: 仙南 | C29: 油井 秀夫 | D29: 油井眼科医院 | E29: 油井 秀夫 | F29: 31971 | G29: 981-1505 | H29: 角田市角田字牛舘５８ | I29: （0224）62-5711 | AL29: ○ | AT29: =AU29+AV29 -> 0 | AU29: 0
A30: 28 | B30: 仙南 | C30: 高山 敦 | D30: 高山内科胃腸科医院 | E30: 高山 敦 | F30: 32217 | G30: 981-1505 | H30: 角田市角田字町２４３ | I30: （0224）63-2304 | J30: ○ | Q30: ○ | AT30: =AU30+AV30 -> 0 | AU30: 0 | AV30: 0
A31: 29 | B31: 仙南 | C31: 医療法人良仁会ウィメンズクリニック金上 | D31: ウィメンズクリニック金上 | E31: 安藤 ひろみ | F31: 36509 | G31: 981-1505 | H31: 角田市角田字田町１１４－１２ | I31: （0224）61-2001 | J31: ○ | AQ31: ○ | AU31: 0
A32: 30 | B32: 仙南 | C32: 医療法人社団小川整形外科クリニック | D32: 小川整形外科クリニック | E32: 小川 俊哉 | F32: 34943 | G32: 981-1505 | H32: 角田市角田字田町６８ | I32: （0224）63-3311 | W32: ○ | AO32: ○ | AS32: 理学診療科 | AT32: 0 | AU32: 0 | AV32: 0
A33: 31 | B33: 仙南 | C33: 医療法人社団大槻明徳会 | D33: 大槻眼科医院 | E33: 石川 明 | F33: 34135 | G33: 981-1505 | H33: 角田市角田字田町９０ | I33: （0224）62-2222 | AL33: ○ | AT33: =AU33+AV33 -> 6 | AU33: 0 | AV33: 6
A34: 32 | B34: 仙南 | C34: 医療法人名取会 | D34: 名取医院 | E34: 名取 達德 | F34: 43101 | G34: 981-1505 | H34: 角田市角田字南６１－１ | I34: （0224）63-2347 | J34: ○ | N34: ○ | V34: ○ | AE34: ○ | AT34: =AU34+AV34 -> 0 | AU34: 0 | AV34: 0
A35: 33 | B35: 仙南 | C35: 社会福祉法人宮城緑風会 | D35: 緑風会診療所 | E35: 三浦 ヨウ子 | F35: 33910 | G35: 981-1522 | H35: 角田市佐倉字上土浮２－２ | I35: （0224）62-1093 | J35: ○ | AT35: =AU35+AV35 -> 0 | AU35: 0 | AV35: 0
A36: 34 | B36: 仙南 | C36: 社会福祉法人宮城緑風会 | D36: 養護老人ホーム宮城緑風園診療所 | E36: 三浦 ヨウ子 | F36: 38443 | G36: 981-1522 | H36: 角田市佐倉字小山４６－１ | I36: （0224）63-0234 | J36: ○
A37: 35 | B37: 仙南 | C37: 医療法人社団井上恩和会 | D37: 角田ふれあいクリニック | E37: 井上 晴之 | F37: 40672 | G37: 981-1505 | H37: 角田市角田字豊町１－３ | I37: （0224）63-0062 | J37: ○ | V37: ○ | AF37: ○ | AS37: 肛門外科，消化器内科、リハビリテーション科 | AT37: =AU37+AV37 -> 0 | AU37: 0 | AV37: 0
A38: 36 | B38: 仙南 | C38: 社会福祉法人ふくじゅの森 | D38: 特別養護老人ホーム寛ぎの郷・和らぎの郷 | E38: 本多 正久 | F38: 41791 | G38: 981-1525 | H38: 角田市角田字岡駅前北１－１ | I38: （0224）63-0031 | J38: ○ | L38: ○ | V38: ○
A39: 37 | B39: 仙南 | C39: 松本 周 | D39: まつもと整形外科リハビリテーションクリニック | E39: 松本 周 | F39: 45413 | G39: 981-1505 | H39: 角田市角田字町１９２ | I39: （0224）86-5330 | W39: ○ | AO39: ○
A40: 38 | B40: 仙南 | C40: 社会福祉法人みやぎ会 | D40: 特別養護老人ホーム 楽園が丘診療所 | E40: 佐々木 幸則 | F40: 45383 | G40: 989-0701 | H40: 蔵王町宮字下別当７２ | I40: （0224）32-2071 | J40: ○ | AT40: =AU40+AV40 -> 0 | AU40: 0 | AV40: 0
...

Sheet 塩釜
A1: № | B1: 保健所 | C1: 開設者名 | D1: 診療所名 | E1: 管理者名 | F1: 開設年月日 | G1: 郵便番号 | H1: 所在地 | I1: 電話番号 | J1: 診 療 科 目 | AT1: 病床数 | AW1: 摘要
J2: 内科 | K2: 心療内科 | L2: 精神科 | M2: 神経科 | N2: 神経内科 | O2: 呼吸器科 | P2: 消化器科 | Q2: 胃腸科 | R2: 循環器科 | S2: アレルギー科 | T2: リウマチ科 | U2: 小児科 | V2: 外科 | W2: 整形外科 | X2: 形成外科 | Y2: 美容外科 | Z2: 脳神経外科 | AA2: 呼吸器外科 | AB2: 心臓血管外科 | AC2: 小児外科 | AD2: 皮膚泌尿器科 | AE2: 皮膚科 | AF2: 泌尿器科 | AG2: 性病科 | AH2: こう門科 | AI2: 産婦人科 | AJ2: 産科 | AK2: 婦人科 | AL2: 眼科 | AM2: 耳鼻いんこう科 | AN2: 気管食道科 | AO2: リハビリテーション科 | AP2: 放射線科 | AQ2: 麻酔科 | AR2: 歯科 | AS2: その他の科目 | AT2: 合 計 | AU2: 療養 | AV2: 一般
A3: 1 | B3: 塩釜 | C3: 渡邉 広己 | D3: 渡辺眼科医院 | E3: 渡邉 広己 | F3: 35524 | G3: 985-0021 | H3: 塩竈市尾島町6-3 | I3: (022)362-8784 | AL3: ○ | AT3: =SUM(AU3:AV3) -> 5 | AV3: 5
A4: 2 | B4: 塩釜 | C4: 渡辺 孝志 | D4: 渡辺耳鼻咽喉科気管食道科医院 | E4: 渡辺 孝志 | F4: 26436 | G4: 985-0021 | H4: 塩竈市尾島町6-3 | I4: (022)364-6005 | S4: ○ | AM4: ○ | AN4: ○ | AT4: =SUM(AU4:AV4) -> 2 | AV4: 2
A5: 3 | B5: 塩釜 | C5: 菅原 伸夫 | D5: 菅原内科胃腸科医院 | E5: 菅原 伸夫 | F5: 31854 | G5: 985-0051 | H5: 塩竈市宮町2-28 | I5: (022)362-0513 | J5: ○ | O5: ○ | P5: ○ | R5: ○ | AT5: =SUM(AU5:AV5) -> 0
A6: 4 | B6: 塩釜 | C6: 医療法人社団鈴木眼科医院 | D6: 鈴木眼科医院 | E6: 鈴木 健史 | F6: 32676 | G6: 985-0051 | H6: 塩竈市宮町3-25 | I6: (022)365-1523 | AL6: ○ | AT6: =SUM(AU6:AV6) -> 5 | AV6: 5
A7: 5 | B7: 塩釜 | C7: 杉山 泰二 | D7: 宮町脳神経・眼科クリニック | E7: 杉山 泰二 | F7: 37001 | G7: 985-0051 | H7: 塩竈市宮町8-15 | I7: (022)362-2121 | J7: ○ | N7: ○ | AL7: ○ | AT7: =SUM(AU7:AV7) -> 0
A8: 6 | B8: 塩釜 | C8: 医療法人こがね雅会 | D8: こがね医院 | E8: 金 俊夫 | F8: 44927 | G8: 985-0026 | H8: 塩竈市旭町5-10 | I8: (022)362-2026 | J8: ○ | Q8: ○ | AT8: =SUM(AU8:AV8) -> 0
A9: 7 | B9: 塩釜 | C9: 医療法人平樹会平澤内科医院 | D9: 平澤内科医院 | E9: 平澤 頼久 | F9: 32857 | G9: 985-0031 | H9: 塩竈市石堂1-33 | I9: (022)365-0222 | J9: ○ | P9: ○ | U9: ○ | AS9: 循環器内科 | AT9: =SUM(AU9:AV9) -> 0 | AW9: R8.8.1 追加
A10: 8 | B10: 塩釜 | C10: 木原 政博 | D10: ふくちゃんクリニック | E10: 木原 政博 | F10: 40371 | G10: 985-0062 | H10: 塩竈市泉沢町22-10 | I10: (022)365-2238 | J10: ○ | K10: ○ | L10: ○ | AT10: =SUM(AU10:AV10) -> 0
A11: 9 | B11: 塩釜 | C11: 塩竈市 | D11: 塩竈市浦戸診療所 | E11: 後藤 淳 | F11: 30051 | G11: 985-0193 | H11: 塩竈市浦戸野々島字河岸50 | I11: (022)369-2350 | J11: ○ | V11: ○ | AT11: =SUM(AU11:AV11) -> 0
A12: 10 | B12: 塩釜 | C12: 公益財団法人宮城厚生協会 | D12: 公益財団法人宮城厚生協会坂総合病院付属北部診療所 | E12: 宮沼 弘明 | F12: 37106 | G12: 985-0071 | H12: 塩竈市庚塚1-3 | I12: (022)366-7251 | J12: ○ | AT12: =SUM(AU12:AV12) -> 0
A13: 11 | B13: 塩釜 | C13: 小幡 祥子 | D13: 本塩釜ひふ科クリニック | E13: 小幡 祥子 | F13: 44495 | G13: 985-0003 | H13: 塩竈市北浜1丁目2-20 | I13: (022)353-7640 | AE13: ○ | AT13: =SUM(AU13:AV13) -> 0
A14: 12 | B14: 塩釜 | C14: 医療法人社団杉山内科 | D14: 杉山内科 | E14: 杉山 幸一 | F14: 33954 | G14: 985-0003 | H14: 塩竈市北浜一丁目6-9 | I14: (022)362-1715 | J14: ○ | O14: ○ | P14: ○ | R14: ○ | U14: ○ | AT14: =SUM(AU14:AV14) -> 0
A15: 13 | B15: 塩釜 | C15: 宮城県 | D15: 宮城県塩釜保健所 | E15: 鈴木 陽 | F15: 30774 | G15: 985-0003 | H15: 塩竈市北浜四丁目8-15 | I15: (022)363-5502 | J15: ○ | AT15: =SUM(AU15:AV15) -> 0
A16: 14 | B16: 塩釜 | C16: 社会福祉法人千賀の浦福祉会 | D16: 特別養護老人ホーム清楽苑 | E16: 黒沢 久三 | F16: 31868 | G16: 985-0061 | H16: 塩竈市清水沢一丁目12-1 | I16: (022)365-5100 | J16: ○ | L16: ○ | AO16: ○ | AT16: =SUM(AU16:AV16) -> 0
A17: 15 | B17: 塩釜 | C17: 小杉 茂 | D17: 清水沢クリニック | E17: 小杉 茂 | F17: 34289 | G17: 985-0061 | H17: 塩竈市清水沢三丁目14-24 | I17: (022)367-6822 | J17: ○ | U17: ○ | AT17: =SUM(AU17:AV17) -> 0
A18: 16 | B18: 塩釜 | C18: 医療法人財団五倫会 | D18: ももせクリニック | E18: 高橋 正倫 | F18: 41640 | G18: 985-0061 | H18: 塩竈市清水沢四丁目37-20 | I18: (022)361-8201 | J18: ○ | V18: ○ | W18: ○ | AH18: ○ | AO18: ○ | AQ18: ○ | AR18: ○ | AS18: 矯正歯科、小児歯科、歯科口腔外科 | AT18: =SUM(AU18:AV18) -> 19 | AV18: 19
A19: 17 | B19: 塩釜 | C19: 社会福祉法人 宮城県障がい者福祉協会 | D19: 杏友園診療所 | E19: 及川 潤一 | F19: 37288 | G19: 985-0022 | H19: 塩竈市新富町14-10 | I19: (022)361-6815 | J19: ○ | L19: ○ | AT19: =SUM(AU19:AV19) -> 0
A20: 18 | B20: 塩釜 | C20: 医療法人社団恒心会 | D20: 新浜クリニック | E20: 齋 恒夫 | F20: 37424 | G20: 985-0024 | H20: 塩竈市新浜町一丁目6-18 | I20: (022)363-3363 | J20: ○ | K20: ○ | L20: ○ | M20: ○ | AT20: =SUM(AU20:AV20) -> 0
A21: 19 | B21: 塩釜 | C21: 千葉 伸一 | D21: ちば整形外科クリニック | E21: 千葉 伸一 | F21: 38114 | G21: 985-0042 | H21: 塩竈市玉川一丁目9-7 | I21: 022-361-6711 | T21: ○ | W21: ○ | AO21: ○ | AT21: =SUM(AU21:AV21) -> 0
A22: 20 | B22: 塩釜 | C22: 佐々木 泰夫 | D22: ささき内科・呼吸器科クリニック | E22: 佐々木 泰夫 | F22: 38329 | G22: 985-0034 | H22: 塩竈市玉川一丁目3-30 | I22: 022-365-6201 | J22: ○ | O22: ○ | AT22: =SUM(AU22:AV22) -> 0 | AV22: 0
A23: 21 | B23: 塩釜 | C23: 社会福祉法人萩の里 | D23: 小規模特別養護老人ホーム ウイズ月見ケ丘診療所 | E23: 黒沢 久三 | F23: 39680 | G23: 985-0066 | H23: 塩竃市月見ケ丘6-10 | I23: (022)355-8166 | J23: ○ | AT23: =SUM(AU23:AV23) -> 0
A24: 22 | B24: 塩釜 | C24: 鳥越 紘二 | D24: 鳥越塩釜腎クリニック | E24: 鳥越 紘二 | F24: 30238 | G24: 985-0024 | H24: 塩竈市錦町5-13 | I24: (022)365-1361 | T24: ○ | W24: ○ | AS24: 人工透析内科 | AT24: =SUM(AU24:AV24) -> 0 | AU24: 0 | AV24: 0
A25: 23 | B25: 塩釜 | C25: 黒沢 久三 | D25: くろさわ脳外科画像診断クリニック | E25: 黒沢 久三 | F25: 40848 | G25: 985-0024 | H25: 塩竃市錦町6-32 | I25: (022)366-9638 | J25: ○ | N25: ○ | V25: ○ | W25: ○ | Z25: ○ | AT25: =SUM(AU25:AV25) -> 0
A26: 24 | B26: 塩釜 | C26: 塩竈市 | D26: 塩釜地区休日急患診療センター | E26: 横山 義正 | F26: 33673 | G26: 985-0024 | H26: 塩竈市錦町7-10 | I26: (022)366-0630 | J26: ○ | U26: ○ | AT26: =SUM(AU26:AV26) -> 0
A27: 25 | B27: 塩釜 | C27: 公益社団法人宮城県塩釜医師会 | D27: 公益社団法人宮城県塩釜医師会臨床検査センター | E27: 関口 淳一 | F27: 33709 | G27: 985-0024 | H27: 塩竈市錦町7-10 | I27: (022)364-3301 | J27: ○ | AP27: ○ | AT27: =SUM(AU27:AV27) -> 0
A28: 26 | B28: 塩釜 | C28: 医療法人社団藤谷内科クリニック | D28: 藤谷内科クリニック | E28: 藤谷 浩 | F28: 36874 | G28: 985-0024 | H28: 塩竈市南錦町8-10 | I28: (022)361-0211 | J28: ○ | P28: ○ | AT28: =SUM(AU28:AV28) -> 0
A29: 27 | B29: 塩釜 | C29: 医療法人敬仁会遠藤医院 | D29: 遠藤レディスクリニック | E29: 遠藤 英敬 | F29: 34865 | G29: 985-0023 | H29: 塩竈市花立町1-32 | I29: (022)362-5603 | AI29: ○ | AQ29: ○ | AT29: =SUM(AU29:AV29) -> 7 | AV29: 7
A30: 28 | B30: 塩釜 | C30: 宮﨑 真紀子 | D30: みみはなのど宮﨑クリニック | E30: 宮﨑 真紀子 | F30: 44228 | G30: 985-0023 | H30: 塩竈市花立町13-12 | I30: (022)357-0832 | AM30: ○
A31: 29 | B31: 塩釜 | C31: 医療法人社団無量井内科クリニック | D31: 無量井内科クリニック | E31: 無量井 泰 | F31: 37239 | G31: 985-0036 | H31: 塩竈市東玉川町2-28 | I31: (022)361-3577 | J31: ○ | S31: ○ | T31: ○ | AS31: 消化器内科 | AT31: =SUM(AU31:AV31) -> 0
A32: 30 | B32: 塩釜 | C32: 川合 淳 | D32: 川合整形外科クリニック | E32: 川合 淳 | F32: 35691 | G32: 985-0004 | H32: 塩竈市藤倉二丁目4-20 | I32: (022)365-6818 | T32: ○ | W32: ○ | AO32: ○ | AT32: =SUM(AU32:AV32) -> 0
A33: 31 | B33: 塩釜 | C33: 医療法人高橋外科肛門科医院 | D33: 高橋ジェネラルクリニック | E33: 高橋 輝兆 | F33: 33224 | G33: 985-0004 | H33: 塩竈市藤倉三丁目6-4 | I33: (022)365-9005 | J33: ○ | V33: ○ | AO33: ○ | AQ33: ○ | AS33: ペインクリニック・肛門外科 | AT33: =SUM(AU33:AV33) -> 0
A34: 32 | B34: 塩釜 | C34: 医療法人社団いけの医院 | D34: いけの医院 | E34: 池野 由佳 | F34: 33588 | G34: 985-0004 | H34: 塩竈市藤倉三丁目17-5 | I34: (022)367-1110 | U34: ○ | X34: ○ | AE34: ○ | AI34: ○ | AS34: 漢方内科 | AT34: =SUM(AU34:AV34) -> 0 | AV34: 0
A35: 33 | B35: 塩釜 | C35: 医療法人社団中正会 | D35: 本間医院 | E35: 本間 正明 | F35: 35597 | G35: 985-0052 | H35: 塩竈市本町3-20 | I35: (022)364-1760 | J35: ○ | O35: ○ | P35: ○ | R35: ○ | S35: ○ | U35: ○ | AT35: =SUM(AU35:AV35) -> 0
A36: 34 | B36: 塩釜 | C36: 医療法人社団永健会 | D36: 冨永内科医院 | E36: 冨永 泰之 | F36: 42923 | G36: 985-0071 | H36: 塩竈市松陽台一丁目１番2-2号 | I36: (022)365-7188 | J36: ○ | O36: ○ | P36: ○ | R36: ○ | U36: ○ | AT36: =SUM(AU36:AV36) -> 0
A37: 35 | B37: 塩釜 | C37: 社会福祉法人大和福壽会 | D37: やまとクリニック | E37: 髙橋 義和 | F37: 41955 | G37: 985-0087 | H37: 塩竈市字伊保石20-1 | I37: (022)367-7611 | J37: ○ | Q37: ○ | U37: ○ | AS37: 内視鏡内科 | AT37: =SUM(AU37:AV37) -> 0
A38: 36 | B38: 塩釜 | C38: 医療法人GA | D38: 本塩釜耳鼻咽喉科クリニック | E38: 沖津 尚弘 | F38: 42917 | G38: 985-0003 | H38: 塩竈市北浜一丁目7-7 | I38: （050)3032-2744 | AM38: ○ | AT38: =SUM(AU38:AV38) -> 0
A39: 37 | B39: 塩釜 | C39: 医療法人恵仁会 | D39: 笠神ハートクリニック | E39: 薗部 太郎 | F39: 38169 | G39: 985-0821 | H39: 多賀城市笠神四丁目6-16 | I39: (022)361-8010 | J39: ○ | O39: ○ | R39: ○ | AT39: =SUM(AU39:AV39) -> 0
A40: 38 | B40: 塩釜 | C40: 医療法人社団景雄会藤野整形外科 | D40: 藤野整形外科 | E40: 藤野 茂 | F40: 35770 | G40: 985-0832 | H40: 多賀城市大代五丁目1-1 | I40: (022)365-5050 | W40: ○ | AO40: ○ | AT40: =SUM(AU40:AV40) -> 0
...

Sheet 北部（大崎・栗原）
A1: № | B1: 保健所 | C1: 開設者名 | D1: 診療所名 | E1: 管理者名 | F1: 開設年月日 | G1: 郵便番号 | H1: 所在地 | I1: 電話番号 | J1: 診 療 科 目 | AT1: 病床数 | AW1: 摘要
J2: 内科 | K2: 心療内科 | L2: 精神科 | M2: 神経科 | N2: 神経内科 | O2: 呼吸器科 | P2: 消化器科 | Q2: 胃腸科 | R2: 循環器科 | S2: アレルギー科 | T2: リウマチ科 | U2: 小児科 | V2: 外科 | W2: 整形外科 | X2: 形成外科 | Y2: 美容外科 | Z2: 脳神経外科 | AA2: 呼吸器外科 | AB2: 心臓血管外科 | AC2: 小児外科 | AD2: 皮膚泌尿器科 | AE2: 皮膚科 | AF2: 泌尿器科 | AG2: 性病科 | AH2: こう門科 | AI2: 産婦人科 | AJ2: 産科 | AK2: 婦人科 | AL2: 眼科 | AM2: 耳鼻咽喉科 | AN2: 気管食道科 | AO2: リハビリテーション科 | AP2: 放射線科 | AQ2: 麻酔科 | AR2: 歯科 | AS2: その他の科目 | AT2: 合 計 | AU2: 療養 | AV2: 一般
A3: 1 | B3: 大崎 | C3: 医療法人而成会 | D3: 大崎ミッドタウン総合メディケアクリニック | E3: 中村 政彦 | F3: 40940 | G3: 987-1303 | H3: 大崎市松山金谷字中田76番1 | I3: 0229-55-3349 | J3: ○ | P3: ○ | W3: ○ | AL3: ○ | AM3: ○ | AO3: ○ | AR3: ○ | AS3: 人工透析内科 | AT3: 19 | AV3: 19
A4: 2 | B4: 大崎 | C4: 医療法人社団 虹泉会 | D4: 大崎東部クリニック | E4: 村田 慶一 | F4: 39083 | G4: 987-1303 | H4: 大崎市松山金谷字中田８３ | I4: （0229）55-2511 | J4: ○ | K4: 0 | L4: 0 | M4: 0 | N4: 0 | O4: ○ | P4: ○ | Q4: 0 | R4: ○ | T4: 0 | V4: 0 | W4: 0 | X4: 0 | Y4: 0 | Z4: 0 | AA4: 0 | AB4: 0 | AC4: 0 | AD4: 0 | AE4: 0 | AF4: 0 | AG4: 0 | AH4: 0 | AI4: 0 | AJ4: 0 | AK4: 0 | AL4: 0 | AM4: 0 | AN4: 0 | AO4: 0 | AP4: 0 | AQ4: 0 | AR4: 0 | AT4: 0 | AU4: 0 | AV4: 0 | AW4: 0
A5: 3 | B5: 大崎 | C5: 渡辺 孝紀 | D5: わたなべ産婦人科 内科・小児科 | E5: 渡辺 孝紀 | F5: 31048 | G5: 987-1304 | H5: 大崎市松山千石字松山４４０ | I5: 0229-55-3535 | J5: ○ | U5: ○ | AI5: ○ | AS5: 女性内科 | AT5: 5 | AV5: 5
A6: 4 | B6: 大崎 | C6: 諏訪 信彦 | D6: かしまだい中央眼科 | E6: 諏訪 信彦 | F6: 42826 | G6: 989-4102 | H6: 大崎市鹿島台木間塚字小谷地３８３番地５ | I6: （0229）56-6111 | J6: 0 | K6: 0 | L6: 0 | M6: 0 | N6: 0 | O6: 0 | P6: 0 | Q6: 0 | R6: 0 | S6: 0 | T6: 0 | U6: 0 | V6: 0 | W6: 0 | X6: 0 | Y6: 0 | Z6: 0 | AA6: 0 | AB6: 0 | AC6: 0 | AD6: 0 | AE6: 0 | AF6: 0 | AG6: 0 | AH6: 0 | AI6: 0 | AJ6: 0 | AK6: 0 | AL6: ○ | AM6: 0 | AN6: 0 | AO6: 0 | AP6: 0 | AQ6: 0 | AR6: 0 | AT6: 0 | AU6: 0 | AV6: 0 | AW6: 0
A7: 5 | B7: 大崎 | C7: 医療法人佐久間内科医院 | D7: 佐久間内科医院 | E7: 佐久間 雅文 | F7: 34700 | G7: 989-4103 | H7: 大崎市鹿島台平渡字新屋敷下８７－１ | I7: （0229）56-3700 | J7: ○ | K7: 0 | L7: 0 | M7: 0 | N7: 0 | O7: ○ | P7: ○ | Q7: 0 | R7: ○ | S7: 0 | T7: 0 | U7: 0 | V7: 0 | W7: 0 | X7: 0 | Y7: 0 | Z7: 0 | AA7: 0 | AB7: 0 | AC7: 0 | AD7: 0 | AE7: 0 | AF7: 0 | AG7: 0 | AH7: 0 | AI7: 0 | AJ7: 0 | AK7: 0 | AL7: 0 | AM7: 0 | AN7: 0 | AO7: 0 | AP7: 0 | AQ7: 0 | AR7: 0 | AT7: 0 | AU7: 0 | AV7: 0 | AW7: 0
A8: 6 | B8: 大崎 | C8: 社会福祉法人大崎市社会福祉協議会 | D8: 敬風園診療所 | E8: 伊藤 和生 | F8: 38899 | G8: 989-4103 | H8: 大崎市鹿島台平渡字上敷１９－７ | I8: （0229）56-9400 | J8: ○ | K8: 0 | L8: ○ | M8: 0 | N8: 0 | O8: 0 | P8: 0 | Q8: 0 | R8: 0 | S8: 0 | T8: 0 | U8: 0 | V8: 0 | W8: 0 | X8: 0 | Y8: 0 | Z8: 0 | AA8: 0 | AB8: 0 | AC8: 0 | AD8: 0 | AE8: 0 | AF8: 0 | AG8: 0 | AH8: 0 | AI8: 0 | AJ8: 0 | AK8: 0 | AL8: 0 | AM8: 0 | AN8: 0 | AO8: 0 | AP8: 0 | AQ8: 0 | AR8: 0 | AT8: 0 | AU8: 0 | AV8: 0
A9: 7 | B9: 大崎 | C9: 医療法人広伸会 渡辺皮フ科クリニック | D9: わたなべ皮フ科クリニック | E9: 渡邉 将也 | F9: 41645 | G9: 989-4103 | H9: 大崎市鹿島台平渡字巳待田４３０番地の１ | I9: （0229）56-6215 | J9: 0 | K9: 0 | L9: 0 | M9: 0 | N9: 0 | O9: 0 | P9: 0 | Q9: 0 | R9: 0 | S9: 0 | T9: 0 | U9: 0 | V9: 0 | W9: 0 | X9: 0 | Y9: 0 | Z9: 0 | AA9: 0 | AB9: 0 | AC9: 0 | AD9: 0 | AE9: ○ | AF9: 0 | AG9: 0 | AH9: 0 | AI9: 0 | AJ9: 0 | AK9: 0 | AL9: 0 | AM9: 0 | AN9: 0 | AO9: 0 | AP9: 0 | AQ9: 0 | AR9: 0 | AT9: 0 | AU9: 0 | AV9: 0
A10: 8 | B10: 大崎 | C10: 医療法人社団明和会 | D10: たじり中央クリニック | E10: 佐藤 茂幸 | F10: 34151 | G10: 989-4308 | H10: 大崎市田尻沼部字新富岡３１－７ | I10: （0229）39-7955 | J10: ○ | K10: 0 | L10: 0 | M10: 0 | N10: 0 | O10: ○ | P10: 0 | Q10: ○ | R10: ○ | S10: 0 | T10: 0 | U10: ○ | V10: 0 | W10: ○ | X10: 0 | Y10: 0 | Z10: 0 | AA10: 0 | AB10: 0 | AC10: 0 | AD10: 0 | AE10: 0 | AF10: 0 | AG10: 0 | AH10: 0 | AI10: 0 | AJ10: 0 | AK10: 0 | AL10: 0 | AM10: 0 | AN10: 0 | AO10: ○ | AP10: ○ | AQ10: 0 | AR10: 0 | AT10: 0 | AU10: 0 | AV10: 0 | AW10: 0
A11: 9 | B11: 大崎 | C11: 社会福祉法人田尻福祉会 | D11: 特別養護老人ホーム「かごぼうの里」医務室 | E11: 南 尚義 | F11: 35905 | G11: 989-4413 | H11: 大崎市田尻通木字中崎東２４番地２ | I11: （0229）38-1203 | J11: ○ | K11: 0 | L11: 0 | M11: 0 | N11: 0 | O11: 0 | P11: 0 | Q11: 0 | R11: 0 | S11: 0 | T11: 0 | U11: 0 | V11: 0 | W11: 0 | X11: 0 | Y11: 0 | Z11: 0 | AA11: 0 | AB11: 0 | AC11: 0 | AD11: 0 | AE11: 0 | AF11: 0 | AG11: 0 | AH11: 0 | AI11: 0 | AJ11: 0 | AK11: 0 | AL11: 0 | AM11: 0 | AN11: 0 | AO11: 0 | AP11: 0 | AQ11: 0 | AR11: 0 | AT11: 0 | AU11: 0 | AV11: 0 | AW11: 0
A12: 10 | B12: 大崎 | C12: 大崎市 | D12: 大崎市民病院田尻診療所 | E12: 南 尚義 | F12: 35506 | G12: 989-4413 | H12: 大崎市田尻通木字中崎東１０－１ | I12: （0229）38-1152 | J12: ○ | K12: 0 | L12: 0 | M12: 0 | O12: 0 | P12: 0 | Q12: 0 | R12: 0 | S12: 0 | T12: 0 | U12: 0 | V12: 0 | W12: 0 | X12: 0 | Y12: 0 | Z12: 0 | AA12: 0 | AB12: 0 | AC12: 0 | AD12: 0 | AE12: 0 | AF12: 0 | AG12: 0 | AH12: 0 | AI12: 0 | AJ12: 0 | AK12: 0 | AL12: ○ | AM12: ○ | AN12: 0 | AO12: 0 | AP12: 0 | AQ12: 0 | AR12: 0 | AS12: 脳神経内科 | AT12: 0 | AU12: 0 | AV12: 0 | AW12: 0
A13: 11 | B13: 大崎 | C13: 医療法人社団天野内科クリニック | D13: 天野内科クリニック | E13: 天野 良彦 | F13: 33065 | G13: 989-4414 | H13: 大崎市田尻北牧目字新堀４６－８ | I13: （0229）39-1233 | J13: ○ | K13: 0 | L13: 0 | M13: 0 | N13: 0 | O13: 0 | P13: 0 | Q13: 0 | R13: 0 | S13: 0 | T13: 0 | U13: ○ | V13: 0 | W13: 0 | X13: 0 | Y13: 0 | Z13: 0 | AA13: 0 | AB13: 0 | AC13: 0 | AD13: 0 | AE13: 0 | AF13: 0 | AG13: 0 | AH13: 0 | AI13: 0 | AJ13: 0 | AK13: 0 | AL13: 0 | AM13: 0 | AN13: 0 | AO13: 0 | AP13: 0 | AQ13: 0 | AR13: 0 | AS13: 消化器内科 | AT13: 0 | AU13: 0 | AV13: 0
A14: 12 | B14: 大崎 | C14: 社会福祉法人悠悠会 | D14: 地域密着型特別養護老人ホーム悠縁内診療所 | E14: 中田 茂和 | F14: 43186 | G14: 989-4415 | H14: 大崎市田尻字御蔵１１番地１ | I14: 0229-87-5120 | J14: ○
A15: 13 | B15: 大崎 | C15: 医療法人星眼科医院 | D15: 医療法人星眼科医院 | E15: 星 秀二 | F15: 36143 | G15: 989-6102 | H15: 大崎市古川江合本町二丁目４－３１ | I15: （0229）22-7220 | J15: 0 | K15: 0 | L15: 0 | M15: 0 | N15: 0 | O15: 0 | P15: 0 | Q15: 0 | R15: 0 | S15: 0 | T15: 0 | U15: 0 | V15: 0 | W15: 0 | X15: 0 | Y15: 0 | Z15: 0 | AA15: 0 | AB15: 0 | AC15: 0 | AD15: 0 | AE15: 0 | AF15: 0 | AG15: 0 | AH15: 0 | AI15: 0 | AJ15: 0 | AK15: 0 | AL15: ○ | AM15: 0 | AN15: 0 | AO15: 0 | AP15: 0 | AQ15: 0 | AR15: 0 | AT15: 5 | AU15: 0 | AV15: 5 | AW15: 0
A16: 14 | B16: 大崎 | C16: 医療法人青翔会 | D16: 北みやぎ外科クリニック | E16: 廣澤 貴志 | F16: 32678 | G16: 989-6106 | H16: 大崎市古川幸町一丁目７－２０ | I16: （0229）23-8152 | J16: 0 | K16: 0 | L16: 0 | M16: 0 | N16: 0 | O16: 0 | P16: 0 | AF16: 0 | AG16: 0 | AI16: 0 | AJ16: 0 | AK16: 0 | AL16: 0 | AM16: 0 | AN16: 0 | AO16: 0 | AP16: 0 | AQ16: ○ | AR16: 0 | AS16: こう門外科 | AT16: 15 | AU16: 0 | AV16: 15
A17: 15 | B17: 大崎 | C17: 医療法人社団やまと | D17: やまと在宅診療所大崎 | E17: 辻 薫菜子 | F17: 45870 | G17: 989-6115 | H17: 大崎市古川駅東一丁目５番１３号 | I17: 0229-91-8981 | J17: ○ | V17: ○
A18: 16 | B18: 大崎 | C18: 医療法人英正会 関井レディースクリニック | D18: 医療法人英正会 関井レディースクリニック | E18: 関井 英高 | F18: 41640 | G18: 989-6115 | H18: 大崎市古川駅東二丁目10－31 | I18: （0229）21-3666 | J18: 0 | K18: 0 | L18: 0 | M18: 0 | N18: 0 | O18: 0 | P18: 0 | Q18: 0 | R18: 0 | S18: 0 | T18: 0 | U18: 0 | V18: 0 | W18: 0 | X18: 0 | Y18: 0 | Z18: 0 | AA18: 0 | AB18: 0 | AC18: 0 | AD18: 0 | AE18: 0 | AF18: 0 | AG18: 0 | AH18: 0 | AI18: ○ | AJ18: 0 | AK18: 0 | AL18: 0 | AM18: 0 | AN18: 0 | AO18: 0 | AP18: 0 | AQ18: ○ | AR18: 0 | AT18: 19 | AU18: 0 | AV18: 19
A19: 17 | B19: 大崎 | C19: 医療法人 泰智会 | D19: みやざき内科クリニック | E19: 宮崎 泰輔 | F19: 46127 | G19: 989-6115 | H19: 大崎市古川旭3丁目7-15 | I19: 0229-25-9330 | J19: ○ | S19: ○ | AS19: 循環器内科、消化器内科、呼吸器内科 | AT19: 0
A20: 18 | B20: 大崎 | C20: 佐野 敬一 | D20: さの整形外科クリニック | E20: 佐野 敬一 | F20: 41155 | G20: 989-6115 | H20: 大崎市古川駅東３丁目４番２４号 | I20: 0229-87-5820 | T20: ○ | W20: ○ | AO20: ○
A21: 19 | B21: 大崎 | C21: 鈴木 豪 | D21: すずき脳神経外科クリニック | E21: 鈴木 豪 | F21: 38810 | G21: 989-6116 | H21: 大崎市古川季埣一丁目１－２３ | I21: （0229）24-3770 | J21: 0 | K21: 0 | L21: 0 | M21: 0 | N21: ○ | O21: 0 | P21: 0 | Q21: 0 | R21: 0 | S21: 0 | T21: 0 | U21: 0 | V21: 0 | W21: 0 | X21: 0 | Y21: 0 | Z21: ○ | AA21: 0 | AB21: 0 | AC21: 0 | AD21: 0 | AE21: 0 | AF21: 0 | AG21: 0 | AH21: 0 | AI21: 0 | AJ21: 0 | AK21: 0 | AL21: 0 | AM21: 0 | AN21: 0 | AO21: ○ | AP21: 0 | AQ21: 0 | AR21: 0 | AT21: 0 | AU21: 0 | AV21: 0 | AW21: 0
A22: 20 | B22: 大崎 | C22: 宮城県 | D22: 宮城県大崎保健所 | E22: 野上 慶彦 | F22: 14009 | G22: 989-6117 | H22: 大崎市古川旭四丁目１番１号 | I22: （0229）91-0707 | J22: ○ | K22: 0 | L22: 0 | M22: 0 | N22: 0 | O22: 0 | P22: 0 | Q22: 0 | R22: 0 | S22: 0 | T22: 0 | U22: 0 | V22: 0 | W22: 0 | X22: 0 | Y22: 0 | Z22: 0 | AA22: 0 | AB22: 0 | AC22: 0 | AD22: 0 | AE22: 0 | AF22: 0 | AG22: 0 | AH22: 0 | AI22: 0 | AJ22: 0 | AK22: 0 | AL22: 0 | AM22: 0 | AN22: 0 | AO22: 0 | AP22: 0 | AQ22: 0 | AR22: 0 | AT22: 0 | AU22: 0 | AV22: 0 | AW22: 0
A23: 21 | B23: 大崎 | C23: 宮城県 | D23: 宮城県精神保健福祉センター附属診療所 | E23: 小原 聡子 | F23: 36959 | G23: 989-6117 | H23: 大崎市古川旭五丁目７－２０ | I23: （0229）23-0021 | J23: 0 | K23: 0 | L23: ○ | M23: ○ | N23: 0 | O23: 0 | P23: 0 | Q23: 0 | R23: 0 | S23: 0 | T23: 0 | U23: 0 | V23: 0 | W23: 0 | X23: 0 | Y23: 0 | Z23: 0 | AA23: 0 | AB23: 0 | AC23: 0 | AD23: 0 | AE23: 0 | AF23: 0 | AG23: 0 | AH23: 0 | AI23: 0 | AJ23: 0 | AK23: 0 | AL23: 0 | AM23: 0 | AN23: 0 | AO23: 0 | AP23: 0 | AQ23: 0 | AR23: 0 | AT23: 0 | AU23: 0 | AV23: 0 | AW23: 0
A24: 22 | B24: 大崎 | C24: 社会福祉法人大崎福祉会 | D24: 特別養護老人ホーム大崎ホーム内診療所 | E24: 片倉 康喜 | F24: 29819 | G24: 989-6123 | H24: 大崎市古川下中目字赤山廻５１ | I24: （0229）23-9831 | J24: ○ | K24: 0 | L24: 0 | M24: 0 | N24: 0 | O24: 0 | P24: 0 | Q24: 0 | R24: 0 | S24: 0 | T24: 0 | U24: 0 | V24: 0 | W24: 0 | X24: 0 | Y24: 0 | Z24: 0 | AA24: 0 | AB24: 0 | AC24: 0 | AD24: 0 | AE24: 0 | AF24: 0 | AG24: 0 | AH24: 0 | AI24: 0 | AJ24: 0 | AK24: 0 | AL24: 0 | AM24: 0 | AN24: 0 | AO24: 0 | AP24: 0 | AQ24: 0 | AR24: 0 | AT24: 0 | AU24: 0 | AV24: 0
A25: 23 | B25: 大崎 | C25: 社会福祉法人ウィンズライフ | D25: 特別養護老人ホームいろは 医務室 | E25: 新川 光俊 | F25: 42046 | G25: 989-6135 | H25: 大崎市古川稲葉２丁目４番２２号 | I25: 0229-25-5200 | J25: ○
A26: 24 | B26: 大崎 | C26: 医療法人心の郷 | D26: 穂波の郷クリニック | E26: 三浦 正悦 | F26: 39273 | G26: 989-6136 | H26: 大崎市古川穂波六丁目３０－１２ | I26: （0229）24-3880 | J26: ○ | K26: 0 | L26: 0 | M26: 0 | N26: 0 | O26: ○ | P26: 0 | Q26: 0 | R26: ○ | S26: 0 | T26: 0 | U26: 0 | V26: 0 | W26: 0 | X26: 0 | Y26: 0 | Z26: 0 | AA26: 0 | AB26: 0 | AC26: 0 | AD26: 0 | AE26: 0 | AF26: 0 | AG26: 0 | AH26: 0 | AI26: 0 | AJ26: 0 | AK26: 0 | AL26: 0 | AM26: 0 | AN26: 0 | AO26: ○ | AP26: 0 | AQ26: 0 | AR26: 0 | AT26: 0 | AU26: 0 | AV26: 0 | AW26: 0
A27: 25 | B27: 大崎 | C27: 尾花 伸哉 | D27: 尾花内科クリニック | E27: 尾花 伸哉 | F27: 42979 | G27: 989-6142 | H27: 大崎市古川中島町2番39号 | I27: 0229-21-0087 | J27: ○ | AS27: 消化器内科
A28: 26 | B28: 大崎 | C28: 医療法人 髙橋医院 | D28: 髙橋医院 | E28: 髙橋 望 | F28: 42370 | G28: 989-6143 | H28: 大崎市古川中里二丁目２－２５ | I28: （0229）22-0791 | J28: ○ | K28: 0 | L28: 0 | AS28: 循環器内科 | AU28: 0
A29: 27 | B29: 大崎 | C29: 佐藤 荘太郎 | D29: さとう内科循環器科医院 | E29: 佐藤 荘太郎 | F29: 35855 | G29: 989-6143 | H29: 大崎市古川中里三丁目１１－５９ | I29: （0229）23-0006 | J29: ○ | AS29: 呼吸器内科、循環器内科、消化器内科、糖尿病内科、感染症内科 | AT29: 0 | AU29: 0 | AV29: 0 | AW29: 0
A30: 28 | B30: 大崎 | C30: 早坂 弘司 | D30: 早坂整形外科 | E30: 早坂 弘司 | F30: 39569 | G30: 989-6145 | H30: 大崎市古川北稲葉１－２－２５ | I30: （0229）21-9100 | J30: 0 | K30: 0 | L30: 0 | M30: 0 | N30: 0 | O30: 0 | P30: 0 | Q30: 0 | R30: 0 | S30: 0 | T30: ○ | U30: 0 | V30: 0 | W30: ○ | X30: 0 | Y30: 0 | Z30: 0 | AA30: 0 | AB30: 0 | AC30: 0 | AD30: 0 | AE30: 0 | AF30: 0 | AG30: 0 | AH30: 0 | AI30: 0 | AJ30: 0 | AK30: 0 | AL30: 0 | AM30: 0 | AN30: 0 | AO30: ○ | AP30: 0 | AQ30: 0 | AR30: 0 | AT30: 0 | AU30: 0 | AV30: 0 | AW30: 0
A31: 29 | B31: 大崎 | C31: 医療法人社団宮里クリニック | D31: 宮里クリニック | E31: 宮里 真一 | F31: 37242 | G31: 989-6151 | H31: 大崎市古川城西二丁目６－２４ | I31: （0229）23-7529 | J31: ○ | AP31: 0 | AQ31: 0 | AR31: 0 | AS31: 消化器内科 | AT31: 0 | AU31: 0 | AV31: 0
A32: 30 | B32: 大崎 | C32: 長井 麻衣子 | D32: 長井内科医院 | E32: 長井 麻衣子 | F32: 41979 | G32: 989-6154 | H32: 大崎市古川三日町一丁目３－２５ | I32: （0229）91-1020 | J32: ○ | K32: 0 | L32: 0 | M32: 0 | N32: 0 | O32: ○ | P32: 0 | Q32: ○ | R32: ○ | S32: ○ | T32: 0 | U32: ○ | V32: 0 | W32: 0 | X32: 0 | Y32: 0 | Z32: 0 | AA32: 0 | AB32: 0 | AC32: 0 | AD32: 0 | AE32: 0 | AF32: 0 | AG32: 0 | AH32: 0 | AI32: 0 | AJ32: 0 | AK32: 0 | AL32: 0 | AM32: 0 | AN32: 0 | AO32: 0 | AP32: 0 | AQ32: 0 | AR32: 0 | AT32: 0 | AU32: 0 | AV32: 0 | AW32: 0
A33: 31 | B33: 大崎 | C33: 鈴木知子 | D33: 熊谷皮ふ科 | E33: 鈴木 知子 | F33: 41365 | G33: 989-6154 | H33: 大崎市古川三日町二丁目１－２ | I33: （0229）24-2416 | J33: 0 | K33: 0 | L33: 0 | M33: 0 | N33: 0 | O33: 0 | P33: 0 | Q33: 0 | R33: 0 | S33: 0 | T33: 0 | U33: 0 | V33: 0 | W33: 0 | X33: 0 | Y33: 0 | Z33: 0 | AA33: 0 | AB33: 0 | AC33: 0 | AD33: 0 | AE33: ○ | AF33: 0 | AG33: 0 | AH33: 0 | AI33: 0 | AJ33: 0 | AK33: 0 | AL33: ○ | AM33: 0 | AN33: 0 | AO33: 0 | AP33: 0 | AQ33: 0 | AR33: 0 | AT33: 0 | AU33: 0 | AV33: 0
A34: 32 | B34: 大崎 | C34: 鴇田 俊一 | D34: 鴇田整形外科医院 | E34: 鴇田 俊一 | F34: 35078 | G34: 989-6155 | H34: 大崎市古川南町一丁目６－３１ | I34: （0229）22-0887 | J34: 0 | K34: 0 | L34: 0 | M34: 0 | N34: 0 | O34: 0 | P34: 0 | Q34: 0 | R34: 0 | S34: 0 | T34: 0 | U34: 0 | V34: 0 | W34: ○ | X34: 0 | Y34: 0 | Z34: 0 | AA34: 0 | AB34: 0 | AC34: 0 | AD34: 0 | AE34: 0 | AF34: 0 | AG34: 0 | AH34: 0 | AI34: 0 | AJ34: 0 | AK34: 0 | AL34: 0 | AM34: 0 | AN34: 0 | AO34: ○ | AP34: 0 | AQ34: 0 | AR34: 0 | AT34: 0 | AU34: 0 | AV34: 0
A35: 33 | B35: 大崎 | C35: 医療法人遠藤皮膚科医院 | D35: 医療法人遠藤皮膚科医院 | E35: 遠藤 幸紀 | F35: 32678 | G35: 989-6155 | H35: 大崎市古川南町三丁目６－３８ | I35: （0229）23-5320 | J35: 0 | K35: 0 | L35: 0 | M35: 0 | N35: 0 | O35: 0 | P35: 0 | Q35: 0 | R35: 0 | S35: 0 | T35: 0 | U35: 0 | V35: 0 | W35: 0 | X35: 0 | Y35: 0 | Z35: 0 | AA35: 0 | AB35: 0 | AC35: 0 | AD35: 0 | AE35: ○ | AF35: 0 | AG35: 0 | AH35: 0 | AI35: 0 | AJ35: 0 | AK35: 0 | AL35: 0 | AM35: 0 | AN35: 0 | AO35: 0 | AP35: 0 | AQ35: 0 | AR35: 0 | AT35: 0 | AU35: 0 | AV35: 0 | AW35: 0
A36: 34 | B36: 大崎 | C36: 医療法人誠歯会斎藤歯科医院 | D36: さいとう耳鼻咽喉科クリニック | E36: 齋藤 雄太郎 | F36: 46296 | G36: 989-6155 | H36: 大崎市古川南町四丁目１－２３ | I36: （0229）24-3314 | J36: 0 | K36: 0 | L36: 0 | M36: 0 | N36: 0 | O36: 0 | P36: 0 | Q36: 0 | R36: 0 | S36: 0 | T36: 0 | U36: 0 | V36: 0 | W36: 0 | X36: 0 | Y36: 0 | Z36: 0 | AA36: 0 | AB36: 0 | AC36: 0 | AD36: 0 | AE36: 0 | AF36: 0 | AG36: 0 | AH36: 0 | AI36: 0 | AJ36: 0 | AK36: 0 | AL36: 0 | AM36: ○ | AN36: 0 | AO36: 0 | AP36: 0 | AQ36: 0 | AR36: 0 | AT36: 0 | AU36: 0 | AV36: 0 | AW36: 0
A37: 35 | B37: 大崎 | C37: 医療法人 清仁会 | D37: 医療法人清仁会 古川クリニック | E37: 増田 高行 | F37: 38749 | G37: 989-6156 | H37: 大崎市古川西館３丁目３－２ | I37: （0229）91-9119 | J37: ○ | K37: 0 | L37: 0 | M37: 0 | N37: 0 | O37: 0 | P37: 0 | Q37: 0 | R37: ○ | S37: 0 | T37: 0 | U37: 0 | V37: 0 | W37: 0 | X37: 0 | Y37: 0 | Z37: 0 | AA37: 0 | AB37: 0 | AC37: 0 | AD37: 0 | AE37: 0 | AF37: 0 | AG37: 0 | AH37: 0 | AI37: 0 | AJ37: 0 | AK37: 0 | AL37: 0 | AM37: 0 | AN37: 0 | AO37: 0 | AP37: 0 | AQ37: 0 | AR37: 0 | AT37: 0 | AU37: 0 | AV37: 0
A38: 36 | B38: 大崎 | C38: 佐竹 順一 | D38: 古川駅南耳鼻咽喉科 | E38: 佐竹 順一 | F38: 36173 | G38: 989-6161 | H38: 大崎市古川駅南一丁目８－１ | I38: （0229）91-8741 | J38: 0 | K38: 0 | L38: 0 | M38: 0 | N38: 0 | O38: 0 | P38: 0 | Q38: 0 | R38: 0 | S38: ○ | T38: 0 | U38: 0 | V38: 0 | W38: 0 | X38: 0 | Y38: 0 | Z38: 0 | AA38: 0 | AB38: 0 | AC38: 0 | AD38: 0 | AE38: 0 | AF38: 0 | AG38: 0 | AH38: 0 | AI38: 0 | AJ38: 0 | AK38: 0 | AL38: 0 | AM38: ○ | AN38: 0 | AO38: 0 | AP38: 0 | AR38: 0 | AT38: 0 | AU38: 0 | AV38: 0 | AW38: 0
A39: 37 | B39: 大崎 | C39: 医療法人社団 遊心会 | D39: こだしろクリニック | E39: 小田代 司 | F39: 39295 | G39: 989-6161 | H39: 大崎市古川駅南一丁目２７ | I39: （0229）21-8577 | J39: ○ | K39: ○ | L39: ○ | M39: ○ | N39: 0 | O39: 0 | P39: 0 | Q39: 0 | R39: 0 | S39: 0 | T39: 0 | U39: 0 | V39: 0 | W39: 0 | X39: 0 | Y39: 0 | Z39: 0 | AA39: 0 | AB39: 0 | AC39: 0 | AD39: 0 | AE39: 0 | AF39: 0 | AG39: 0 | AH39: 0 | AI39: 0 | AJ39: 0 | AK39: 0 | AL39: 0 | AM39: 0 | AN39: 0 | AO39: 0 | AP39: 0 | AQ39: 0 | AR39: 0 | AT39: 0 | AU39: 0 | AV39: 0 | AW39: 0
A40: 38 | B40: 大崎 | C40: 宮城県 | D40: 宮城県子ども総合センター付属診療所大崎診療室 | E40: 小野寺 滋実 | F40: 36963 | G40: 989-6161 | H40: 大崎市古川駅南二丁目４－３ | I40: （0229）22-0030 | J40: 0 | K40: 0 | L40: ○ | M40: 0 | N40: 0 | O40: 0 | P40: 0 | Q40: 0 | R40: 0 | S40: 0 | T40: 0 | V40: 0 | W40: 0 | X40: 0 | Y40: 0 | Z40: 0 | AA40: 0 | AB40: 0 | AC40: 0 | AD40: 0 | AE40: 0 | AF40: 0 | AG40: 0 | AH40: 0 | AI40: 0 | AJ40: 0 | AK40: 0 | AL40: 0 | AM40: 0 | AN40: 0 | AO40: 0 | AP40: 0 | AQ40: 0 | AR40: 0 | AS40: 児童精神科 | AT40: 0 | AU40: 0 | AV40: 0
...

Sheet 東部（石巻・登米）
A1: № | B1: 保健所 | C1: 開設者名 | D1: 診療所名 | E1: 管理者名 | F1: 開設年月日 | G1: 郵便番号 | H1: 所在地 | I1: 電話番号 | J1: 診 療 科 目 | AT1: 病床数 | AW1: 摘要
J2: 内科 | K2: 心療内科 | L2: 精神科 | M2: 神経科 | N2: 神経内科 | O2: 呼吸器科 | P2: 消化器科 | Q2: 胃腸科 | R2: 循環器科 | S2: アレルギー科 | T2: リウマチ科 | U2: 小児科 | V2: 外科 | W2: 整形外科 | X2: 形成外科 | Y2: 美容外科 | Z2: 脳神経外科 | AA2: 呼吸器外科 | AB2: 心臓血管外科 | AC2: 小児外科 | AD2: 皮膚泌尿器科 | AE2: 皮膚科 | AF2: 泌尿器科 | AG2: 性病科 | AH2: こう門科 | AI2: 産婦人科 | AJ2: 産科 | AK2: 婦人科 | AL2: 眼科 | AM2: 耳鼻咽喉科 | AN2: 気管食道科 | AO2: リハビリテーション科 | AP2: 放射線科 | AQ2: 麻酔科 | AR2: 歯科 | AS2: その他の科目 | AT2: 合 計 | AU2: 療養 | AV2: 一般
A3: 1 | B3: 石巻 | C3: 社会福祉法人 和仁福祉会 | D3: 特別養護老人ホーム第二和香園医務室 | E3: 白土 邦男 | F3: 35004 | G3: 986-0005 | H3: 石巻市大瓜字箕輪17 | I3: （0225）23-3811 | J3: ○ | K3: 0 | L3: 0 | M3: 0 | N3: 0 | O3: 0 | P3: 0 | Q3: 0 | R3: 0 | S3: 0 | T3: 0 | U3: 0 | V3: 0 | W3: 0 | X3: 0 | Y3: 0 | Z3: 0 | AA3: 0 | AB3: 0 | AC3: 0 | AD3: 0 | AE3: 0 | AF3: 0 | AG3: 0 | AH3: 0 | AI3: 0 | AJ3: 0 | AK3: 0 | AL3: 0 | AM3: 0 | AN3: 0 | AO3: 0 | AP3: 0 | AQ3: 0 | AR3: 0 | AT3: 0 | AU3: 0 | AV3: 0 | AW3: 0
A4: 2 | B4: 石巻 | C4: 医療法人佐久間眼科小児科医院 | D4: 佐久間眼科小児科医院 | E4: 佐久間 健彦 | F4: 36749 | G4: 986-0016 | H4: 石巻市八幡町1-3-22 | I4: （0225）92-7651 | J4: 0 | K4: 0 | L4: 0 | M4: 0 | N4: 0 | O4: 0 | P4: 0 | Q4: 0 | R4: 0 | S4: 0 | T4: 0 | U4: ○ | V4: 0 | X4: 0 | Y4: 0 | Z4: 0 | AA4: 0 | AB4: 0 | AC4: 0 | AD4: 0 | AE4: 0 | AF4: 0 | AG4: 0 | AH4: 0 | AI4: 0 | AJ4: 0 | AK4: 0 | AL4: ○ | AM4: 0 | AN4: 0 | AP4: 0 | AQ4: 0 | AR4: 0 | AU4: 0 | AW4: 0
A5: 3 | B5: 石巻 | C5: 医療法人社団 鈴木皮膚科医院 | D5: 鈴木皮膚科医院 | E5: 鈴木 明宏 | F5: 33954 | G5: 986-0016 | H5: 石巻市八幡町2-5-16 | I5: （0225）22-3572 | J5: 0 | K5: 0 | L5: 0 | M5: 0 | N5: 0 | P5: 0 | Q5: 0 | R5: 0 | S5: 0 | T5: 0 | U5: 0 | X5: 0 | Y5: 0 | Z5: 0 | AA5: 0 | AB5: 0 | AC5: 0 | AD5: 0 | AE5: ○ | AF5: 0 | AG5: 0 | AH5: 0 | AJ5: 0 | AK5: 0 | AM5: 0 | AN5: 0 | AO5: 0 | AP5: 0 | AQ5: 0 | AR5: 0 | AT5: 0 | AU5: 0 | AV5: 0 | AW5: 0
A6: 4 | B6: 石巻 | C6: 医療法人社団 二宮外科 | D6: 二宮外科クリニック | E6: 二宮 健次 | F6: 43431 | G6: 986-0017 | H6: 石巻市不動町1丁目7番3号 | I6: （0225）22-0202 | J6: ○ | K6: 0 | L6: 0 | M6: 0 | N6: 0 | O6: 0 | P6: 0 | Q6: 0 | R6: 0 | S6: 0 | T6: 0 | U6: 0 | V6: ○ | W6: ○ | X6: 0 | Y6: 0 | Z6: 0 | AA6: 0 | AB6: 0 | AC6: 0 | AD6: 0 | AF6: ○ | AG6: 0 | AH6: ○ | AI6: 0 | AJ6: 0 | AK6: 0 | AL6: 0 | AM6: 0 | AN6: 0 | AO6: ○ | AP6: 0 | AQ6: 0 | AR6: 0 | AS6: 肛門外科
A7: 5 | B7: 石巻 | C7: 石巻市 | D7: 石巻市田代診療所 | E7: 佐藤 仁人 | F7: 38443 | G7: 986-0023 | H7: 石巻市大字田代浜字仁斗田126 | I7: （0225）98-2005 | J7: ○ | K7: 0 | L7: 0 | M7: 0 | N7: 0 | O7: 0 | P7: 0 | Q7: 0 | R7: 0 | S7: 0 | T7: 0 | U7: 0 | V7: 0 | W7: 0 | X7: 0 | Y7: 0 | Z7: 0 | AA7: 0 | AB7: 0 | AC7: 0 | AD7: 0 | AE7: 0 | AF7: 0 | AG7: 0 | AH7: 0 | AI7: 0 | AJ7: 0 | AK7: 0 | AL7: 0 | AM7: 0 | AN7: 0 | AO7: 0 | AP7: 0 | AQ7: 0 | AR7: 0 | AT7: 0 | AU7: 0 | AV7: 0 | AW7: 0
A8: 6 | B8: 石巻 | C8: 医療法人社団 かづま内科クリニック | D8: かづま内科クリニック | E8: 片倉 恒徳 | F8: 34318 | G8: 986-0042 | H8: 石巻市鹿妻南1-13-16 | I8: （0225）96-7700 | J8: ○ | K8: ○ | L8: ○ | M8: 0 | O8: 0 | P8: 0 | Q8: ○ | R8: 0 | S8: 0 | T8: 0 | U8: 0 | W8: 0 | X8: 0 | Y8: 0 | Z8: 0 | AA8: 0 | AB8: 0 | AC8: 0 | AD8: 0 | AE8: 0 | AG8: 0 | AH8: 0 | AI8: 0 | AJ8: 0 | AK8: 0 | AL8: 0 | AM8: 0 | AN8: 0 | AO8: 0 | AP8: 0 | AT8: 0 | AU8: 0 | AV8: 0 | AW8: 0
A9: 7 | B9: 石巻 | C9: 医療法人 鈴木整形外科クリニック | D9: 鈴木整形外科クリニック | E9: 鈴木 廣 | F9: 39083 | G9: 986-0043 | H9: 石巻市鹿妻北1-6-15 | I9: （0225）92-7707 | J9: 0 | K9: 0 | L9: 0 | M9: 0 | N9: 0 | O9: 0 | P9: 0 | Q9: 0 | R9: 0 | S9: 0 | T9: 0 | U9: 0 | V9: 0 | W9: ○ | X9: 0 | Y9: 0 | Z9: 0 | AA9: 0 | AB9: 0 | AC9: 0 | AD9: 0 | AE9: 0 | AF9: 0 | AG9: 0 | AH9: 0 | AI9: 0 | AJ9: 0 | AK9: 0 | AL9: 0 | AM9: 0 | AN9: 0 | AO9: ○ | AP9: 0 | AQ9: 0 | AT9: 0 | AU9: 0 | AV9: 0 | AW9: 0
A10: 8 | B10: 石巻 | C10: 舘田 要 | D10: 舘田耳鼻咽喉科医院 | E10: 舘田 要 | F10: 27103 | G10: 986-0101 | H10: 石巻市相野谷字旧屋敷150 | I10: （0225）62-3036 | J10: 0 | K10: 0 | L10: 0 | M10: 0 | N10: 0 | O10: 0 | P10: 0 | Q10: 0 | R10: 0 | S10: 0 | T10: 0 | U10: 0 | V10: 0 | W10: 0 | X10: 0 | Y10: 0 | Z10: 0 | AA10: 0 | AB10: 0 | AC10: 0 | AD10: 0 | AE10: 0 | AF10: 0 | AG10: 0 | AH10: 0 | AI10: 0 | AJ10: 0 | AK10: 0 | AL10: 0 | AM10: ○ | AN10: ○ | AO10: 0 | AP10: 0 | AQ10: 0 | AR10: 0 | AT10: 0 | AU10: 0 | AV10: 0 | AW10: 休止中
A11: 9 | B11: 石巻 | C11: 医療法人光義会 | D11: 成田医院 | E11: 成田 満義 | F11: 37257 | G11: 986-0101 | H11: 石巻市相野谷字飯野川町122 | I11: （0225）62-3221 | J11: ○ | K11: 0 | L11: 0 | M11: 0 | N11: 0 | O11: ○ | P11: ○ | Q11: 0 | R11: ○ | S11: 0 | T11: 0 | U11: ○ | V11: 0 | W11: 0 | X11: 0 | Y11: 0 | Z11: 0 | AA11: 0 | AB11: 0 | AC11: 0 | AD11: 0 | AE11: 0 | AF11: 0 | AG11: 0 | AH11: 0 | AI11: 0 | AJ11: 0 | AK11: 0 | AL11: 0 | AM11: 0 | AN11: 0 | AO11: 0 | AP11: 0 | AQ11: 0 | AR11: 0 | AT11: 0 | AU11: 0 | AV11: 0 | AW11: 0
A12: 10 | B12: 石巻 | C12: 寺村 一峰 | D12: 釜谷診療所 | E12: 寺村 一峰 | F12: 35621 | G12: 986-0111 | H12: 石巻市釜谷字韮島32 | I12: (0225)64-2101 | J12: ○ | K12: 0 | L12: 0 | M12: 0 | N12: 0 | O12: 0 | S12: 0 | T12: 0 | U12: ○ | X12: 0 | Y12: 0 | Z12: 0 | AA12: 0 | AB12: 0 | AC12: 0 | AD12: 0 | AE12: 0 | AF12: 0 | AG12: 0 | AH12: 0 | AI12: 0 | AJ12: 0 | AK12: 0 | AM12: 0 | AN12: 0 | AP12: 0 | AR12: 0 | AW12: 休止中
A13: 11 | B13: 石巻 | C13: 社会福祉法人 和仁福祉会 | D13: 特別養護老人ホーム仁風園医務室 | E13: 齋藤 仁一 | F13: 34974 | G13: 986-0121 | H13: 石巻市大森字内田1-28 | I13: （0225）62-3380 | J13: ○ | K13: 0 | L13: 0 | M13: 0 | N13: 0 | O13: 0 | P13: 0 | Q13: 0 | R13: 0 | S13: 0 | T13: 0 | U13: 0 | V13: 0 | W13: 0 | X13: 0 | Y13: 0 | Z13: 0 | AA13: 0 | AB13: 0 | AC13: 0 | AD13: 0 | AE13: 0 | AF13: 0 | AG13: 0 | AH13: 0 | AI13: 0 | AJ13: 0 | AK13: 0 | AL13: 0 | AM13: 0 | AN13: 0 | AO13: 0 | AP13: 0 | AQ13: 0 | AR13: 0 | AT13: 0 | AU13: 0 | AV13: 0 | AW13: 0
A14: 12 | B14: 石巻 | C14: 社会福祉法人 みやぎ会 | D14: 特別養護老人ホームはしうら医務室 | E14: 栗原 洋志 | F14: 42079 | G14: 986-0202 | H14: 石巻市北上町橋浦字大須88-1 | I14: (0225)25-7820 | J14: ○ | K14: 0 | L14: 0 | M14: 0 | N14: 0 | O14: 0 | P14: 0 | Q14: 0 | R14: 0 | S14: 0 | T14: 0 | U14: 0 | V14: ○ | X14: 0 | Y14: 0 | Z14: 0 | AA14: 0 | AB14: 0 | AC14: 0 | AD14: 0 | AE14: 0 | AF14: 0 | AG14: 0 | AH14: 0 | AI14: 0 | AJ14: 0 | AK14: 0 | AL14: 0 | AM14: 0 | AN14: 0 | AO14: 0 | AP14: 0 | AR14: 0 | AT14: 0 | AU14: 0 | AV14: 0 | AW14: 0
A15: 13 | B15: 石巻 | C15: 石巻市 | D15: 石巻市橋浦診療所 | E15: 只野 光一 | F15: 38443 | G15: 986-0202 | H15: 石巻市北上町橋浦字大須215 | I15: （0225）67-2051 | J15: ○ | K15: 0 | L15: 0 | M15: 0 | N15: 0 | O15: 0 | P15: 0 | Q15: 0 | R15: 0 | S15: 0 | T15: 0 | U15: ○ | V15: 0 | W15: 0 | X15: 0 | Y15: 0 | Z15: 0 | AA15: 0 | AB15: 0 | AC15: 0 | AD15: 0 | AE15: 0 | AF15: 0 | AG15: 0 | AH15: 0 | AI15: 0 | AJ15: 0 | AK15: 0 | AL15: 0 | AM15: 0 | AN15: 0 | AO15: 0 | AP15: 0 | AQ15: 0 | AR15: 0 | AT15: 0 | AU15: 0 | AV15: 0 | AW15: 0
A16: 14 | B16: 石巻 | C16: 社会福祉法人 みやぎ会 | D16: 特別養護老人ホームきたかみ医務室 | E16: 栗原 洋志 | F16: 39203 | G16: 986-0202 | H16: 石巻市北上町橋浦字大須234 | I16: （0225）61-7201 | J16: ○ | K16: 0 | L16: 0 | M16: 0 | N16: 0 | O16: 0 | P16: 0 | Q16: 0 | R16: 0 | S16: 0 | T16: 0 | U16: 0 | V16: ○ | W16: 0 | X16: 0 | Y16: 0 | Z16: 0 | AA16: 0 | AB16: 0 | AC16: 0 | AD16: 0 | AE16: 0 | AF16: 0 | AG16: 0 | AH16: 0 | AI16: 0 | AJ16: 0 | AK16: 0 | AL16: 0 | AM16: 0 | AN16: 0 | AO16: 0 | AP16: 0 | AQ16: 0 | AR16: 0 | AT16: 0 | AU16: 0 | AV16: 0 | AW16: 0
A17: 15 | B17: 石巻 | C17: 河野 政信 | D17: ものう眼科クリニック | E17: 河野 政信 | F17: 38443 | G17: 986-0313 | H17: 石巻市桃生町中津山字四軒前70-1 | I17: （0225）79-1388 | J17: 0 | K17: 0 | L17: 0 | M17: 0 | N17: 0 | O17: 0 | P17: 0 | Q17: 0 | R17: 0 | S17: 0 | T17: 0 | U17: 0 | V17: 0 | W17: 0 | X17: 0 | Y17: 0 | Z17: 0 | AA17: 0 | AB17: 0 | AC17: 0 | AD17: 0 | AE17: 0 | AF17: 0 | AG17: 0 | AH17: 0 | AI17: 0 | AJ17: 0 | AK17: 0 | AL17: ○ | AM17: 0 | AN17: 0 | AO17: 0 | AP17: 0 | AQ17: 0 | AR17: 0 | AU17: 0 | AW17: 0
A18: 16 | B18: 石巻 | C18: 社会福祉法人東北福祉会 | D18: 特別養護老人ホームファミリオ医務室 | E18: 河野 秀信 | F18: 36251 | G18: 986-0313 | H18: 石巻市桃生町中津山字八木46-3 | I18: （0225）76-5325 | J18: ○ | K18: 0 | L18: 0 | M18: 0 | N18: 0 | O18: 0 | P18: 0 | Q18: 0 | R18: 0 | S18: 0 | T18: 0 | U18: 0 | V18: 0 | W18: 0 | X18: 0 | Y18: 0 | Z18: 0 | AA18: 0 | AB18: 0 | AC18: 0 | AD18: 0 | AE18: 0 | AF18: 0 | AG18: 0 | AH18: 0 | AI18: 0 | AJ18: 0 | AK18: 0 | AL18: 0 | AM18: 0 | AN18: 0 | AO18: 0 | AP18: 0 | AQ18: 0 | AR18: 0 | AT18: 0 | AU18: 0 | AV18: 0 | AW18: 0
A19: 17 | B19: 石巻 | C19: 医療法人社団信和会 | D19: 医療法人社団信和会ものうファミリークリニック | E19: 河野 秀信 | F19: 40087 | G19: 986-0313 | H19: 石巻市桃生町中津山字八木167-4 | I19: （0225）76-4024 | J19: ○ | K19: 0 | L19: 0 | M19: 0 | N19: 0 | O19: 0 | P19: 0 | Q19: 0 | R19: 0 | S19: 0 | T19: 0 | U19: ○ | V19: 0 | W19: 0 | X19: 0 | Y19: 0 | Z19: 0 | AA19: 0 | AB19: 0 | AC19: 0 | AD19: 0 | AE19: 0 | AF19: 0 | AG19: 0 | AH19: 0 | AI19: 0 | AJ19: 0 | AK19: 0 | AL19: 0 | AM19: 0 | AN19: 0 | AO19: 0 | AP19: 0 | AQ19: 0 | AR19: 0 | AT19: 0 | AU19: 0 | AV19: 0 | AW19: 0
A20: 18 | B20: 石巻 | C20: 医療法人 博愛仁志会 | D20: 栗原医院 | E20: 栗原 洋志 | F20: 40391 | G20: 986-0314 | H20: 石巻市桃生町寺崎字舟場前23-1 | I20: （0225）76-4170 | J20: ○ | K20: 0 | L20: 0 | M20: 0 | N20: 0 | O20: 0 | P20: 0 | Q20: 0 | R20: 0 | S20: 0 | T20: 0 | U20: 0 | V20: ○ | W20: ○ | X20: 0 | Y20: 0 | Z20: 0 | AA20: 0 | AB20: 0 | AC20: 0 | AD20: 0 | AE20: 0 | AF20: 0 | AG20: 0 | AH20: 0 | AI20: 0 | AJ20: 0 | AK20: 0 | AL20: 0 | AM20: 0 | AN20: 0 | AO20: 0 | AP20: 0 | AQ20: 0 | AR20: 0 | AT20: 19 | AU20: 10 | AV20: 9 | AW20: 0
A21: 19 | B21: 石巻 | C21: 医療法人 アイワイシー | D21: いしのまき矢吹クリニック | E21: 矢吹 法孝 | F21: 40238 | G21: 986-0805 | H21: 石巻市大橋3-2-7 | I21: （0225）21-6117 | J21: ○ | K21: 0 | L21: 0 | M21: 0 | N21: 0 | O21: 0 | P21: ○ | Q21: 0 | R21: 0 | S21: 0 | T21: 0 | U21: 0 | V21: 0 | W21: 0 | X21: 0 | Y21: 0 | Z21: 0 | AA21: 0 | AB21: 0 | AC21: 0 | AD21: 0 | AE21: 0 | AF21: 0 | AG21: 0 | AH21: 0 | AI21: 0 | AJ21: 0 | AK21: 0 | AL21: 0 | AM21: 0 | AN21: 0 | AO21: 0 | AP21: 0 | AQ21: 0 | AR21: 0 | AT21: 0 | AU21: 0 | AV21: 0 | AW21: 0
A22: 20 | B22: 石巻 | C22: 医療法人 古山内科・循環器科 | D22: 古山内科・循環器科 | E22: 古山 元之 | F22: 35045 | G22: 986-0811 | H22: 石巻市元倉1-9-9-8 | I22: （0225）23-0221 | J22: ○ | K22: 0 | L22: 0 | M22: 0 | N22: 0 | O22: ○ | Q22: 0 | R22: ○ | S22: 0 | T22: 0 | U22: 0 | V22: 0 | X22: 0 | Y22: 0 | Z22: 0 | AA22: 0 | AB22: 0 | AC22: 0 | AD22: 0 | AE22: 0 | AF22: 0 | AG22: 0 | AH22: 0 | AI22: 0 | AJ22: 0 | AK22: 0 | AL22: 0 | AM22: 0 | AN22: 0 | AP22: 0 | AQ22: 0 | AR22: 0 | AS22: 循環器内科、呼吸器内科 | AT22: 0 | AU22: 0 | AV22: 0 | AW22: 0
A23: 21 | B23: 石巻 | C23: 医療法人 きし内科クリニック | D23: 駅前北きし内科クリニック | E23: 岸 幹夫 | F23: 41334 | G23: 986-0813 | H23: 石巻市駅前北通り1-14-21 | I23: （0225）95-3123 | J23: ○ | K23: 0 | L23: 0 | M23: 0 | N23: 0 | O23: ○ | P23: ○ | Q23: 0 | R23: ○ | S23: 0 | T23: 0 | U23: 0 | X23: 0 | Y23: 0 | Z23: 0 | AA23: 0 | AB23: 0 | AC23: 0 | AD23: 0 | AE23: 0 | AF23: 0 | AG23: 0 | AJ23: 0 | AK23: 0 | AL23: 0 | AM23: 0 | AN23: 0 | AO23: 0 | AP23: 0 | AQ23: 0 | AR23: 0 | AS23: 消化器内科、循環器内科、呼吸器内科 | AU23: 0
A24: 22 | B24: 石巻 | C24: 医療法人社団 伊藤内科クリニック | D24: 伊藤内科クリニック | E24: 伊藤 健一 | F24: 35796 | G24: 986-0815 | H24: 石巻市中里2-12-1 | I24: （0225）96-6372 | J24: ○ | N24: 0 | O24: 0 | P24: 0 | Q24: 0 | R24: ○ | S24: 0 | T24: 0 | U24: 0 | V24: 0 | W24: 0 | X24: 0 | Y24: 0 | Z24: 0 | AA24: 0 | AB24: 0 | AC24: 0 | AD24: 0 | AE24: 0 | AF24: 0 | AG24: 0 | AH24: 0 | AI24: 0 | AJ24: 0 | AK24: 0 | AL24: 0 | AM24: 0 | AN24: 0 | AO24: 0 | AP24: 0 | AQ24: 0 | AR24: 0 | AT24: 0 | AU24: 0 | AV24: 0
A25: 23 | B25: 石巻 | C25: 医療法人社団 伊藤内科クリニック | D25: いとう心療クリニック | E25: 伊藤 健太郎 | F25: 40452 | G25: 986-0815 | H25: 石巻市中里2-12-26 | I25: (0225)98-3201 | K25: ○ | L25: ○
A26: 24 | B26: 石巻 | C26: 医療法人 中山こどもクリニック | D26: 中山こどもクリニック | E26: 中山 孝之 | F26: 35796 | G26: 986-0815 | H26: 石巻市中里3-4-27 | I26: （0225）95-4121 | K26: 0 | L26: 0 | M26: 0 | N26: 0 | O26: 0 | P26: 0 | Q26: 0 | R26: 0 | S26: 0 | T26: 0 | U26: ○ | W26: 0 | X26: 0 | Y26: 0 | Z26: 0 | AA26: 0 | AB26: 0 | AC26: 0 | AD26: 0 | AE26: 0 | AF26: 0 | AG26: 0 | AH26: 0 | AJ26: 0 | AK26: 0 | AL26: 0 | AM26: 0 | AN26: 0 | AO26: 0 | AP26: 0 | AQ26: 0 | AR26: 0 | AT26: 0 | AU26: 0 | AV26: 0 | AW26: 0
A27: 25 | B27: 石巻 | C27: 宮城 秀晃 | D27: 宮城クリニック | E27: 宮城 秀晃 | F27: 35551 | G27: 986-0815 | H27: 石巻市中里7-3-35 | I27: （0225）22-5410 | J27: ○ | K27: 0 | L27: ○ | M27: ○ | N27: 0 | O27: 0 | P27: 0 | Q27: 0 | R27: 0 | S27: 0 | T27: 0 | U27: 0 | V27: 0 | W27: 0 | X27: 0 | Y27: 0 | Z27: 0 | AA27: 0 | AB27: 0 | AC27: 0 | AD27: 0 | AE27: 0 | AF27: 0 | AG27: 0 | AH27: 0 | AI27: 0 | AJ27: 0 | AK27: 0 | AL27: 0 | AM27: 0 | AN27: 0 | AO27: 0 | AP27: 0 | AQ27: 0 | AR27: 0 | AT27: 0 | AU27: 0 | AV27: 0 | AW27: 0
A28: 26 | B28: 石巻 | C28: 医療法人桐葉会 | D28: よしろう内科 | E28: 千葉 淑朗 | F28: 42552 | G28: 986-0821 | H28: 石巻市住吉町1-8-46 | I28: （0225）22-3277 | J28: ○ | L28: 0 | M28: 0 | N28: 0 | O28: ○ | Q28: ○ | R28: ○ | S28: ○ | T28: 0 | U28: 0 | V28: 0 | W28: 0 | X28: 0 | Y28: 0 | Z28: 0 | AA28: 0 | AB28: 0 | AC28: 0 | AD28: 0 | AE28: 0 | AF28: 0 | AG28: 0 | AH28: 0 | AI28: 0 | AJ28: 0 | AK28: 0 | AM28: 0 | AN28: 0 | AO28: 0 | AP28: 0 | AQ28: 0 | AR28: 0 | AS28: 腎臓内科、糖尿病内科、循環器内科、呼吸器内科 | AT28: 0 | AU28: 0 | AV28: 0 | AW28: 0
A29: 27 | B29: 石巻 | C29: 医療法人 玄秀会 | D29: 千葉内科クリニック | E29: 千葉 秀三 | F29: 38353 | G29: 986-0821 | H29: 石巻市住吉町2-5-2 | I29: (0225)21-6336 | J29: ○ | K29: 0 | L29: 0 | M29: 0 | N29: 0 | O29: ○ | R29: ○ | S29: 0 | T29: 0 | U29: ○ | X29: 0 | Y29: 0 | Z29: 0 | AA29: 0 | AB29: 0 | AC29: 0 | AD29: 0 | AE29: 0 | AF29: 0 | AG29: 0 | AH29: 0 | AI29: 0 | AJ29: 0 | AK29: 0 | AM29: 0 | AN29: 0 | AP29: 0 | AR29: 0 | AW29: 休止中
A30: 28 | B30: 石巻 | C30: 医療法人社団 佐藤整形外科医院 | D30: 佐藤整形外科医院 | E30: 佐藤 俊一郎 | F30: 32492 | G30: 986-0822 | H30: 石巻市中央1-13-17 | I30: （0225）95-1755 | J30: 0 | K30: 0 | L30: 0 | M30: 0 | N30: 0 | O30: 0 | P30: 0 | Q30: 0 | R30: 0 | S30: 0 | T30: ○ | U30: 0 | V30: 0 | W30: ○ | X30: 0 | Y30: 0 | Z30: 0 | AA30: 0 | AB30: 0 | AC30: 0 | AD30: 0 | AE30: 0 | AF30: 0 | AG30: 0 | AH30: 0 | AI30: 0 | AJ30: 0 | AK30: 0 | AL30: 0 | AM30: 0 | AN30: 0 | AO30: ○ | AP30: 0 | AQ30: 0 | AR30: 0 | AU30: 0
A31: 29 | B31: 石巻 | C31: 医療法人社団 齋藤産婦人科医院 | D31: 齋藤産婦人科医院 | E31: 齋藤 潔 | F31: 45870 | G31: 986-0822 | H31: 石巻市中央3-5-26 | I31: （0225）22-0707 | K31: 0 | L31: 0 | M31: 0 | N31: 0 | O31: 0 | Q31: 0 | S31: 0 | T31: 0 | U31: 0 | V31: 0 | W31: 0 | X31: 0 | Y31: 0 | Z31: 0 | AA31: 0 | AB31: 0 | AC31: 0 | AD31: 0 | AE31: 0 | AF31: 0 | AG31: 0 | AH31: 0 | AI31: ○ | AJ31: 0 | AK31: 0 | AL31: 0 | AM31: 0 | AN31: 0 | AO31: 0 | AQ31: 0 | AR31: 0 | AU31: 0 | AW31: 0
A32: 30 | B32: 石巻 | C32: 医療法人社団 石巻診療所 | D32: 石巻診療所 | E32: 矢崎 重彦 | F32: 32676 | G32: 986-0825 | H32: 石巻市穀町5-24 | I32: （0225）23-0125 | J32: ○ | K32: 0 | L32: 0 | M32: 0 | N32: 0 | O32: 0 | P32: 0 | Q32: 0 | R32: 0 | S32: 0 | T32: ○ | U32: 0 | W32: ○ | X32: 0 | Y32: 0 | Z32: 0 | AA32: 0 | AB32: 0 | AC32: 0 | AD32: 0 | AE32: 0 | AF32: 0 | AG32: 0 | AH32: 0 | AI32: 0 | AJ32: 0 | AK32: 0 | AL32: 0 | AM32: 0 | AN32: 0 | AO32: ○ | AP32: 0 | AQ32: 0 | AR32: 0 | AT32: 0 | AU32: 0 | AV32: 0 | AW32: 0
A33: 31 | B33: 石巻 | C33: 医療法人社団かわらだ内科・胃大腸クリニック | D33: かわらだ内科・胃大腸クリニック | E33: 川原田博章 | F33: 36691 | G33: 986-0826 | H33: 石巻市鋳銭場1-10 | I33: （0225）21-5335 | J33: ○ | K33: 0 | L33: 0 | M33: 0 | N33: 0 | O33: 0 | Q33: ○ | R33: 0 | S33: 0 | T33: 0 | U33: ○ | V33: 0 | W33: 0 | X33: 0 | Y33: 0 | Z33: 0 | AA33: 0 | AB33: 0 | AC33: 0 | AD33: 0 | AE33: 0 | AF33: 0 | AG33: 0 | AH33: 0 | AI33: 0 | AJ33: 0 | AK33: 0 | AL33: 0 | AM33: 0 | AN33: 0 | AO33: 0 | AP33: 0 | AQ33: 0 | AR33: 0 | AT33: 0 | AU33: 0 | AV33: 0 | AW33: 0
A34: 32 | B34: 石巻 | C34: 一般社団法人 石巻市医師会 | D34: 一般社団法人石巻市医師会附属診療所 | E34: 佐藤 清壽 | F34: 30348 | G34: 986-0826 | H34: 石巻市鋳銭場1-27 | I34: （0225）95-6238 | J34: ○ | K34: 0 | L34: 0 | M34: 0 | N34: 0 | O34: 0 | P34: 0 | Q34: 0 | R34: 0 | S34: 0 | T34: 0 | U34: 0 | V34: 0 | W34: 0 | X34: 0 | Y34: 0 | Z34: 0 | AA34: 0 | AB34: 0 | AC34: 0 | AD34: 0 | AE34: 0 | AF34: 0 | AG34: 0 | AH34: 0 | AI34: 0 | AJ34: 0 | AK34: 0 | AL34: 0 | AM34: 0 | AN34: 0 | AO34: 0 | AP34: 0 | AQ34: 0 | AR34: 0 | AT34: 0 | AU34: 0 | AV34: 0 | AW34: 0
A35: 33 | B35: 石巻 | C35: 医療法人社団 六郷耳鼻咽喉科 | D35: 六郷耳鼻咽喉科 | E35: 六郷 正暁 | F35: 32856 | G35: 986-0826 | H35: 石巻市鋳銭場5-35 | I35: （0225）22-5012 | J35: 0 | K35: 0 | L35: 0 | M35: 0 | N35: 0 | O35: 0 | P35: 0 | Q35: 0 | R35: 0 | S35: 0 | T35: 0 | U35: 0 | V35: 0 | W35: 0 | X35: 0 | Y35: 0 | Z35: 0 | AA35: 0 | AB35: 0 | AC35: 0 | AD35: 0 | AE35: 0 | AF35: 0 | AG35: 0 | AH35: 0 | AI35: 0 | AJ35: 0 | AK35: 0 | AL35: 0 | AM35: ○ | AN35: ○ | AO35: 0 | AP35: 0 | AQ35: 0 | AR35: 0 | AT35: 0 | AU35: 0 | AV35: 0 | AW35: 0
A36: 34 | B36: 石巻 | C36: 医療法人 髙橋消化器内科 | D36: 髙橋消化器内科 | E36: 髙橋 邦広 | F36: 32856 | G36: 986-0827 | H36: 石巻市千石町2-5 | I36: （0225）95-1621 | J36: ○ | K36: 0 | L36: 0 | M36: 0 | N36: 0 | O36: 0 | P36: ○ | Q36: 0 | R36: 0 | S36: 0 | T36: 0 | U36: 0 | V36: 0 | W36: 0 | X36: 0 | Y36: 0 | Z36: 0 | AA36: 0 | AB36: 0 | AC36: 0 | AD36: 0 | AE36: 0 | AF36: 0 | AG36: 0 | AH36: 0 | AI36: 0 | AJ36: 0 | AK36: 0 | AL36: 0 | AM36: 0 | AN36: 0 | AO36: 0 | AP36: 0 | AQ36: 0 | AR36: 0 | AT36: 0 | AU36: 0 | AV36: 0 | AW36: 0
A37: 35 | B37: 石巻 | C37: 医療法人 阿部こどもクリニック | D37: 阿部こどもクリニック | E37: 阿部淳一郎 | F37: 35796 | G37: 986-0827 | H37: 石巻市千石町6-11 | I37: （0225）22-1152 | J37: 0 | K37: 0 | L37: 0 | M37: 0 | N37: 0 | O37: 0 | P37: 0 | Q37: 0 | R37: 0 | S37: 0 | T37: 0 | U37: ○ | V37: 0 | W37: 0 | X37: 0 | Y37: 0 | Z37: 0 | AA37: 0 | AB37: 0 | AC37: 0 | AD37: 0 | AE37: 0 | AF37: 0 | AG37: 0 | AH37: 0 | AI37: 0 | AJ37: 0 | AK37: 0 | AL37: 0 | AM37: 0 | AN37: 0 | AO37: 0 | AP37: 0 | AQ37: 0 | AR37: 0 | AT37: 0 | AU37: 0 | AV37: 0 | AW37: 0
A38: 36 | B38: 石巻 | C38: 医療法人 相沢泌尿器科医院 | D38: 相沢泌尿器科医院 | E38: 相沢 正孝 | F38: 33086 | G38: 986-0834 | H38: 石巻市門脇町1-5-18 | I38: （0225）22-2901 | J38: 0 | K38: 0 | L38: 0 | M38: 0 | N38: 0 | O38: 0 | P38: 0 | Q38: 0 | R38: 0 | S38: 0 | T38: 0 | U38: 0 | V38: ○ | W38: 0 | X38: 0 | Y38: 0 | Z38: 0 | AA38: 0 | AB38: 0 | AC38: 0 | AD38: 0 | AE38: 0 | AF38: ○ | AG38: 0 | AH38: 0 | AI38: 0 | AJ38: 0 | AK38: 0 | AL38: 0 | AM38: 0 | AN38: 0 | AO38: 0 | AP38: 0 | AT38: 0 | AU38: 0 | AV38: 0 | AW38: 0
A39: 37 | B39: 石巻 | C39: 日本製紙株式会社 | D39: 日本製紙株式会社石巻工場診療所 | E39: 大石 千明 | F39: 36448 | G39: 986-0836 | H39: 石巻市南光町1-12-8 | I39: （0225）95-0346 | J39: ○ | K39: 0 | L39: 0 | M39: 0 | N39: 0 | O39: ○ | Q39: 0 | R39: ○ | S39: ○ | T39: 0 | U39: ○ | V39: 0 | W39: 0 | X39: 0 | Y39: 0 | Z39: 0 | AA39: 0 | AB39: 0 | AC39: 0 | AD39: 0 | AE39: ○ | AF39: 0 | AG39: 0 | AH39: 0 | AI39: 0 | AL39: ○ | AN39: 0 | AO39: 0 | AP39: 0 | AQ39: 0 | AR39: 0 | AT39: 0 | AU39: 0 | AV39: 0 | AW39: 0
A40: 38 | B40: 石巻 | C40: 医療法人 清芳会 | D40: 中浦内科医院 | E40: 佐藤 純 | F40: 38825 | G40: 986-0847 | H40: 石巻市中浦1-2-111 | I40: （0225）21-7551 | J40: ○ | K40: 0 | L40: 0 | M40: 0 | N40: 0 | O40: 0 | P40: 0 | Q40: ○ | R40: ○ | S40: 0 | T40: 0 | U40: ○ | V40: 0 | W40: 0 | X40: 0 | Y40: 0 | Z40: 0 | AA40: 0 | AB40: 0 | AC40: 0 | AD40: 0 | AE40: 0 | AF40: 0 | AG40: 0 | AH40: 0 | AI40: 0 | AJ40: 0 | AK40: 0 | AL40: 0 | AM40: 0 | AN40: 0 | AO40: 0 | AP40: 0 | AQ40: 0 | AR40: 0 | AT40: 0 | AU40: 0 | AV40: 0 | AW40: 0
...

Sheet 気仙沼
A1: № | B1: 保健所 | C1: 開設者名 | D1: 診療所名 | E1: 管理者名 | F1: 開設年月日 | G1: 郵便番号 | H1: 所在地 | I1: 電話番号 | J1: 診 療 科 目 | AT1: 病床数 | AW1: 摘要
J2: 内科 | K2: 心療内科 | L2: 精神科 | M2: 神経科 | N2: 神経内科 | O2: 呼吸器科 | P2: 消化器科 | Q2: 胃腸科 | R2: 循環器科 | S2: アレルギー科 | T2: リウマチ科 | U2: 小児科 | V2: 外科 | W2: 整形外科 | X2: 形成外科 | Y2: 美容外科 | Z2: 脳神経外科 | AA2: 呼吸器外科 | AB2: 心臓血管外科 | AC2: 小児外科 | AD2: 皮膚泌尿器科 | AE2: 皮膚科 | AF2: 泌尿器科 | AG2: 性病科 | AH2: こう門科 | AI2: 産婦人科 | AJ2: 産科 | AK2: 婦人科 | AL2: 眼科 | AM2: 耳鼻咽喉科 | AN2: 気管食道科 | AO2: リハビリテーション科 | AP2: 放射線科 | AQ2: 麻酔科 | AR2: 歯科 | AS2: その他の科目 | AT2: 合 計 | AU2: 療養 | AV2: 一般
A3: 1 | B3: 気仙沼 | C3: 笠沼 勇一 | D3: 南気仙沼内科医院 | E3: 笠沼 勇一 | F3: 43922 | G3: 988-0025 | H3: 気仙沼市内の脇１丁目６−１５−１ | I3: （0226）22-3321 | J3: ○ | P3: ○
A4: 2 | B4: 気仙沼 | C4: 医療法人武田眼科医院 | D4: 武田眼科医院 | E4: 武田 宜之 | F4: 32854 | G4: 988-0043 | H4: 気仙沼市南郷９－７ | I4: （0226）23-3285 | J4: 0 | K4: 0 | L4: 0 | M4: 0 | N4: 0 | O4: 0 | P4: 0 | Q4: 0 | R4: 0 | S4: 0 | T4: 0 | U4: 0 | V4: 0 | W4: 0 | X4: 0 | Y4: 0 | Z4: 0 | AA4: 0 | AB4: 0 | AC4: 0 | AD4: 0 | AE4: 0 | AF4: 0 | AG4: 0 | AH4: 0 | AI4: 0 | AJ4: 0 | AK4: 0 | AL4: ○ | AM4: 0 | AN4: 0 | AO4: 0 | AP4: 0 | AQ4: 0 | AR4: 0 | AT4: 0 | AU4: 0 | AV4: 0 | AW4: 0
A5: 3 | B5: 気仙沼 | C5: 医療法人千歩会 | D5: こまつ内科医院 | E5: 小松 正歩 | F5: 44562 | G5: 988-0045 | H5: 気仙沼市田谷11-11 | I5: （0226）29-6482 | J5: ○ | AS5: 消化器内科、循環器内科
A6: 4 | B6: 気仙沼 | C6: 森戸伸吾 | D6: 条南整形外科 | E6: 森戸 伸吾 | F6: 39969 | G6: 988-0053 | H6: 気仙沼市田中前２－１－１０ | I6: （0226）29-6711 | J6: 0 | K6: 0 | L6: 0 | M6: 0 | N6: 0 | O6: 0 | P6: 0 | Q6: 0 | R6: 0 | S6: 0 | T6: ○ | U6: 0 | V6: 0 | W6: ○ | X6: 0 | Y6: 0 | Z6: 0 | AA6: 0 | AB6: 0 | AC6: 0 | AD6: 0 | AE6: 0 | AF6: 0 | AG6: 0 | AH6: 0 | AI6: 0 | AJ6: 0 | AK6: 0 | AL6: 0 | AM6: 0 | AN6: 0 | AO6: ○ | AP6: 0 | AQ6: 0 | AR6: 0 | AT6: 0 | AU6: 0 | AV6: 0 | AW6: 0
A7: 5 | B7: 気仙沼 | C7: 医療法人社団三条小児科医院 | D7: 三条小児科医院 | E7: 三条 雅英 | F7: 33219 | G7: 988-0053 | H7: 気仙沼市田中前二丁目８の４ | I7: （0226）23-0088 | J7: 0 | K7: 0 | L7: 0 | M7: 0 | N7: 0 | O7: 0 | P7: 0 | Q7: 0 | R7: 0 | S7: 0 | T7: 0 | U7: ○ | V7: 0 | W7: 0 | X7: 0 | Y7: 0 | Z7: 0 | AA7: 0 | AB7: 0 | AC7: 0 | AD7: 0 | AE7: 0 | AF7: 0 | AG7: 0 | AH7: 0 | AI7: 0 | AJ7: 0 | AK7: 0 | AL7: 0 | AM7: 0 | AN7: 0 | AO7: 0 | AP7: 0 | AQ7: 0 | AR7: 0 | AT7: 0 | AU7: 0 | AV7: 0 | AW7: 0
A8: 6 | B8: 気仙沼 | C8: 国立大学法人東北大学 | D8: 東北大学 東北メディカル・メガバンク機構 地域支援気仙沼センター | E8: 濱中 洋平 | F8: 41575 | G8: 988-0053 | H8: 気仙沼市田中前4-1-1 | I8: （022）728-3964 | AS8: 臨床検査科
A9: 7 | B9: 気仙沼 | C9: 医療法人華月会 | D9: 村岡外科クリニック | E9: 村岡 正朗 | F9: 33219 | G9: 988-0053 | H9: 気仙沼市田中前4-4-7 | I9: （0226）23-3990 | K9: 0 | L9: 0 | M9: 0 | N9: 0 | Q9: ○ | R9: 0 | S9: 0 | T9: 0 | U9: 0 | V9: ○ | W9: 0 | X9: 0 | Y9: 0 | Z9: 0 | AA9: 0 | AB9: 0 | AC9: 0 | AD9: 0 | AI9: 0 | AJ9: 0 | AK9: 0 | AL9: 0 | AM9: 0 | AN9: 0 | AP9: 0 | AQ9: 0 | AR9: 0 | AT9: 0 | AU9: 0 | AV9: 0 | AW9: 0
A10: 8 | B10: 気仙沼 | C10: 医療法人あさひ会 | D10: おだか医院 | E10: 小高 庸一郎 | F10: 34501 | G10: 988-0053 | H10: 気仙沼市田中前４－１０－２ | I10: （0226）22-3210 | J10: ○ | K10: 0 | L10: 0 | M10: 0 | N10: 0 | O10: ○ | Q10: ○ | R10: 0 | S10: 0 | T10: 0 | U10: 0 | V10: ○ | W10: 0 | X10: 0 | Y10: 0 | Z10: 0 | AA10: 0 | AB10: 0 | AC10: 0 | AD10: 0 | AE10: ○ | AF10: 0 | AG10: 0 | AH10: 0 | AI10: 0 | AJ10: 0 | AK10: 0 | AL10: 0 | AM10: 0 | AN10: 0 | AO10: 0 | AP10: 0 | AQ10: 0 | AR10: 0 | AT10: 0 | AU10: 0 | AV10: 0 | AW10: 0
A11: 9 | B11: 気仙沼 | C11: 内啓一郎 | D11: うちクリニック | E11: 内 啓一郎 | F11: 39211 | G11: 988-0066 | H11: 気仙沼市東新城1-6-13 | I11: （0226）23-0087 | J11: ○ | K11: 0 | L11: 0 | M11: 0 | N11: 0 | O11: 0 | P11: 0 | Q11: 0 | R11: 0 | S11: 0 | T11: 0 | U11: 0 | V11: 0 | W11: 0 | X11: 0 | Y11: 0 | Z11: 0 | AA11: 0 | AB11: 0 | AC11: 0 | AD11: 0 | AE11: ○ | AF11: ○ | AG11: 0 | AH11: 0 | AI11: 0 | AJ11: 0 | AK11: 0 | AL11: 0 | AM11: 0 | AN11: 0 | AO11: 0 | AP11: 0 | AQ11: 0 | AR11: 0 | AT11: 0 | AU11: 0 | AV11: 0 | AW11: 0
A12: 10 | B12: 気仙沼 | C12: 医療法人社団斎藤外科 | D12: 齋藤外科クリニック | E12: 齋藤 穂積 | F12: 36479 | G12: 988-0066 | H12: 気仙沼市東新城1-12-1 | I12: （0226）22-7260 | J12: 0 | K12: 0 | L12: 0 | M12: 0 | N12: 0 | O12: 0 | P12: 0 | Q12: 0 | R12: 0 | S12: 0 | T12: 0 | U12: 0 | V12: ○ | W12: 0 | X12: 0 | Y12: 0 | Z12: 0 | AA12: 0 | AB12: 0 | AC12: 0 | AD12: 0 | AE12: ○ | AF12: 0 | AG12: 0 | AH12: ○ | AI12: 0 | AJ12: 0 | AK12: 0 | AL12: 0 | AM12: 0 | AN12: 0 | AO12: 0 | AP12: 0 | AQ12: ○ | AR12: 0 | AT12: 0 | AU12: 0 | AV12: 0 | AW12: 0
A13: 11 | B13: 気仙沼 | C13: 社会福祉法人なかつうみ会 | D13: 特別養護老人ホーム 恵潮苑 | E13: 村岡 正朗 | F13: 35886 | G13: 988-0066 | H13: 気仙沼市東新城２－２－３ | I13: （0226）21-1221 | J13: ○ | K13: 0 | L13: 0 | M13: 0 | N13: 0 | O13: 0 | P13: 0 | Q13: 0 | R13: 0 | S13: 0 | T13: 0 | U13: 0 | V13: 0 | W13: 0 | X13: 0 | Y13: 0 | Z13: 0 | AA13: 0 | AB13: 0 | AC13: 0 | AD13: 0 | AE13: 0 | AF13: 0 | AG13: 0 | AH13: 0 | AI13: 0 | AJ13: 0 | AK13: 0 | AL13: 0 | AM13: 0 | AN13: 0 | AO13: 0 | AP13: 0 | AQ13: 0 | AR13: 0 | AT13: 0 | AU13: 0 | AV13: 0 | AW13: 0
A14: 12 | B14: 気仙沼 | C14: （医）進整会 | D14: 志田整形外科医院 | E14: 志田 章 | F14: 41051 | G14: 988-0066 | H14: 気仙沼市東新城2-6-4 | I14: （0226）22-6838 | W14: ○ | AO14: ○
A15: 13 | B15: 気仙沼 | C15: 医療法人社団晃和会 | D15: 医療法人社団晃和会あいざわクリニック | E15: 大和田 雅信 | F15: 36237 | G15: 988-0066 | H15: 気仙沼市東新城2-9-1 | I15: （0226）21-1160 | J15: ○ | K15: 0 | L15: 0 | M15: 0 | N15: 0 | P15: ○ | R15: 0 | S15: 0 | T15: 0 | U15: 0 | V15: 0 | W15: 0 | X15: 0 | Y15: 0 | Z15: 0 | AA15: 0 | AB15: 0 | AC15: 0 | AD15: 0 | AE15: 0 | AF15: 0 | AG15: 0 | AH15: 0 | AI15: 0 | AJ15: 0 | AK15: 0 | AL15: 0 | AM15: 0 | AN15: 0 | AP15: 0 | AQ15: 0 | AR15: 0 | AS15: 糖尿病内科 | AT15: 0 | AU15: 0 | AV15: 0
A16: 14 | B16: 気仙沼 | C16: 宮城県 | D16: 気仙沼保健所 | E16: 照井 有紀 | F16: 38663 | G16: 988-0066 | H16: 気仙沼市東新城３－３－３ | I16: （0226）22-6661 | J16: ○ | K16: 0 | L16: 0 | M16: 0 | N16: 0 | O16: 0 | P16: 0 | Q16: 0 | R16: 0 | S16: 0 | T16: 0 | U16: 0 | V16: 0 | W16: 0 | X16: 0 | Y16: 0 | Z16: 0 | AA16: 0 | AB16: 0 | AC16: 0 | AD16: 0 | AE16: 0 | AF16: 0 | AG16: 0 | AH16: 0 | AI16: 0 | AJ16: 0 | AK16: 0 | AL16: 0 | AM16: 0 | AN16: 0 | AO16: 0 | AP16: 0 | AQ16: 0 | AR16: 0 | AT16: 0 | AU16: 0 | AV16: 0 | AW16: 0
A17: 15 | B17: 気仙沼 | C17: 宮城県 | D17: 宮城県子ども総合センター附属診療所気仙沼診療室 | E17: 小野寺 滋実 | F17: 38808 | G17: 988-0066 | H17: 気仙沼市東新城３－３－３ | I17: （0226）21-1020 | J17: 0 | K17: 0 | L17: ○ | M17: 0 | N17: 0 | O17: 0 | P17: 0 | Q17: 0 | R17: 0 | S17: 0 | T17: 0 | U17: ○ | V17: 0 | W17: 0 | X17: 0 | Y17: 0 | Z17: 0 | AA17: 0 | AB17: 0 | AC17: 0 | AD17: 0 | AE17: 0 | AF17: 0 | AG17: 0 | AH17: 0 | AI17: 0 | AJ17: 0 | AK17: 0 | AL17: 0 | AM17: 0 | AN17: 0 | AO17: 0 | AP17: 0 | AQ17: 0 | AR17: 0 | AS17: 児童精神科 | AT17: 0 | AU17: 0 | AV17: 0 | AW17: 0
A18: 16 | B18: 気仙沼 | C18: 小林直樹 | D18: 小林直樹眼科 | E18: 小林 直樹 | F18: 37627 | G18: 988-0066 | H18: 気仙沼市東新城３－１０－８ | I18: （0226）23-5855 | J18: 0 | K18: 0 | L18: 0 | M18: 0 | N18: 0 | O18: 0 | P18: 0 | Q18: 0 | R18: 0 | S18: 0 | T18: 0 | U18: 0 | V18: 0 | W18: 0 | X18: 0 | Y18: 0 | Z18: 0 | AA18: 0 | AB18: 0 | AC18: 0 | AD18: 0 | AE18: 0 | AF18: 0 | AG18: 0 | AH18: 0 | AI18: 0 | AJ18: 0 | AK18: 0 | AL18: ○ | AM18: 0 | AN18: 0 | AO18: 0 | AP18: 0 | AQ18: 0 | AR18: 0 | AT18: 0 | AU18: 0 | AV18: 0 | AW18: 0
A19: 17 | B19: 気仙沼 | C19: 医療法人尚仁会 | D19: 森田医院 | E19: 森田 潔 | F19: 33259 | G19: 988-0084 | H19: 気仙沼市八日町１－４－１ | I19: （0226）22-6633 | J19: ○ | K19: 0 | L19: 0 | M19: 0 | N19: 0 | O19: 0 | P19: 0 | Q19: ○ | R19: ○ | S19: 0 | T19: 0 | U19: 0 | V19: 0 | W19: 0 | X19: 0 | Y19: 0 | Z19: 0 | AA19: 0 | AB19: 0 | AC19: 0 | AD19: 0 | AE19: 0 | AF19: 0 | AG19: 0 | AH19: 0 | AI19: 0 | AJ19: 0 | AK19: 0 | AL19: 0 | AM19: 0 | AN19: 0 | AO19: 0 | AP19: 0 | AQ19: 0 | AR19: 0 | AS19: 睡眠障害内科 | AT19: 3 | AU19: 0 | AV19: 3 | AW19: 0
