Workbook

Sheet 表紙
A7: 宮 城 県 診 療 所 名 簿
H17: 令和８年１０月１日現在
C25: 宮 城 県 保 健 福 祉 部 医 療 政 策 課
C31: ※歯科診療所については，歯科関係を標榜している診療所を掲載している。

Sheet 診療所数
A1: 宮城県診療所数（医科・歯科）
B3: 46296 | C3: 現在
C5: 医科診療所 | I5: 歯科診療所
A6: 区 分 | C6: 診療所数 | F6: 病床数 | I6: 総数 | J6: 病床数
C7: 総数 | D7: (うち有床) | E7: (うち療養) | F7: 総数 | G7: (うち一般) | H7: (うち療養)
A8: 仙南保健所 | C8: =仙南!A102 -> 100 | D8: 6 | E8: 0 | F8: =SUM(G8:H8) -> 42 | G8: 42 | H8: 0 | I8: 60 | J8: 0
A9: 塩釜保健所 | C9: =塩釜!A283 -> 281 | D9: 23 | E9: 2 | F9: =SUM(G9:H9) -> 262 | G9: 239 | H9: 23 | I9: 154 | J9: 0
A10: 大崎保健所 | C10: ='北部（大崎・栗原）'!A166 -> 164 | D10: 12 | E10: 1 | F10: =SUM(G10:H10) -> 172 | G10: 164 | H10: 8 | I10: 93 | J10: 0
A11: 石巻保健所 | C11: ='東部（石巻・登米）'!A176 -> 174 | D11: 9 | E11: 2 | F11: =SUM(G11:H11) -> 131 | G11: 117 | H11: 14 | I11: 100 | J11: 0
A12: 気仙沼保健所 | C12: =気仙沼!A39 -> 37 | D12: 1 | E12: 0 | F12: =SUM(G12:H12) -> 3 | G12: 3 | H12: 0 | I12: 15 | J12: 0
B13: 県保健所計 | C13: =SUM(C8:C12) -> 756 | D13: =SUM(D8:D12) -> 51 | E13: =SUM(E8:E12) -> 5 | F13: =SUM(F8:F12) -> 610 | G13: =SUM(G8:G12) -> 565 | H13: =SUM(H8:H12) -> 45 | I13: =SUM(I8:I12) -> 422 | J13: 0
A14: 仙台市保健所 | B14: 青葉区 | C14: =青葉区!A391 -> 389 | D14: 12 | E14: 1 | F14: =SUM(G14:H14) -> 146 | G14: 134 | H14: 12 | I14: 229 | J14: 0
B15: 宮城野区 | C15: =宮城野区!A148 -> 146 | D15: 4 | E15: 0 | F15: =SUM(G15:H15) -> 31 | G15: 31 | H15: 0 | I15: 82 | J15: 0
B16: 若林区 | C16: =若林区!A104 -> 102 | D16: 2 | E16: 0 | F16: =SUM(G16:H16) -> 12 | G16: 12 | H16: 0 | I16: 73 | J16: 0
B17: 太白区 | C17: =太白区!A178 -> 176 | D17: 3 | E17: 0 | F17: =SUM(G17:H17) -> 53 | G17: 53 | H17: 0 | I17: 101 | J17: 0
B18: 泉区 | C18: =泉区!A168 -> 166 | D18: 11 | E18: 0 | F18: =SUM(G18:H18) -> 140 | G18: 140 | H18: 0 | I18: 103 | J18: 0
B19: 仙台市計 | C19: =SUM(C14:C18) -> 979 | D19: =SUM(D14:D18) -> 32 | E19: =SUM(E14:E18) -> 1 | F19: =SUM(F14:F18) -> 382 | G19: =SUM(G14:G18) -> 370 | H19: =SUM(H14:H18) -> 12 | I19: =SUM(I14:I18) -> 588 | J19: =SUM(J14:J18) -> 0
A20: 合 計 | C20: =C13+C19 -> 1735 | D20: =D13+D19 -> 83 | E20: =E13+E19 -> 6 | F20: =F13+F19 -> 992 | G20: =G13+G19 -> 935 | H20: =H13+H19 -> 57 | I20: =I13+I19 -> 1010 | J20: =J13+J19 -> 0

Sheet 仙南
A1: № | B1: 保健所 | C1: 開設者名 | D1: 診療所名 | E1: 管理者名 | F1: 開設年月日 | G1: 郵便番号 | H1: 所在地 | I1: 電話番号 | J1: 診 療 科 目 | AT1: 病床数 | AW1: 摘要
J2: 内科 | K2: 心療内科 | L2: 精神科 | M2: 神経科 | N2: 神経内科 | O2: 呼吸器科 | P2: 消化器科 | Q2: 胃腸科 | R2: 循環器科 | S2: アレルギー科 | T2: リウマチ科 | U2: 小児科 | V2: 外科 | W2: 整形外科 | X2: 形成外科 | Y2: 美容外科 | Z2: 脳神経外科 | AA2: 呼吸器外科 | AB2: 心臓血管外科 | AC2: 小児外科 | AD2: 皮膚泌尿器科 | AE2: 皮膚科 | AF2: 泌尿器科 | AG2: 性病科 | AH2: こう門科 | AI2: 産婦人科 | AJ2: 産科 | AK2: 婦人科 | AL2: 眼科 | AM2: 耳鼻咽喉科 | AN2: 気管食道科 | AO2: リハビリテーション科 | AP2: 放射線科 | AQ2: 麻酔科 | AR2: 歯科 | AS2: その他の科目 | AT2: 合 計 | AU2: 療養 | AV2: 一般
A3: 1 | B3: 仙南 | C3: 医療法人社団橋本整形外科医院 | D3: 橋本整形外科医院 | E3: 橋本 昌美 | F3: 34700 | G3: 989-0223 | H3: 白石市旭町２－９－１７ | I3: （0224）25-1616 | T3: ○ | W3: ○ | AO3: ○
A4: 2 | B4: 仙南 | C4: 医療法人白悠会 | D4: 引地クリニック | E4: 引地 克 | F4: 43739 | G4: 989-0218 | H4: 白石市鷹巣東一丁目5－26 | I4: （0224）26-2823 | J4: ○ | AE4: ○ | AF4: ○ | AS4: 脳神経内科 | AT4: =AU4+AV4 -> 0 | AU4: 0 | AV4: 0
A5: 3 | B5: 仙南 | C5: 大沼 秀行 | D5: おおぬまクリニック | E5: 大沼 秀行 | F5: 35350 | G5: 989-0267 | H5: 白石市延命寺北１－６ | I5: （0224）24-2333 | AM5: ○ | AN5: ○ | AT5: =AU5+AV5 -> 0 | AU5: 0 | AV5: 0
A6: 4 | B6: 仙南 | C6: 医療法人社団朝倉会 | D6: 朝倉医院 | E6: 海上 寛 | F6: 32339 | G6: 989-0275 | H6: 白石市字本町８９ | I6: （0224）25-2101 | J6: ○ | AT6: =AU6+AV6 -> 0 | AU6: 0 | AV6: 0
A7: 5 | B7: 仙南 | C7: 医療法人社団浅野眼科医院 | D7: 浅野眼科医院 | E7: 浅野 俊弘 | F7: 33071 | G7: 989-0242 | H7: 白石市字柳町６１ | I7: （0224）24-4603 | AL7: ○ | AT7: =AU7+AV7 -> 5 | AU7: 0 | AV7: 5
A8: 6 | B8: 仙南 | C8: 堤 栄克 | D8: つつみ内科外科こどもクリニック | E8: 堤 栄克 | F8: 40269 | G8: 989-0272 | H8: 白石市清水小路６－３ | I8: （0224）25-1181 | J8: ○ | U8: ○ | V8: ○ | AS8: 糖尿病内科 | AT8: =AU8+AV8 -> 0 | AU8: 0 | AV8: 0
A9: 7 | B9: 仙南 | C9: 相原 彰子 | D9: 加藤小児科内科医院 | E9: 相原 彰子 | F9: 41100 | G9: 989-0276 | H9: 白石市大手町３－１３ | I9: （0224）26-2653 | J9: ○ | U9: ○ | AT9: =AU9+AV9 -> 0 | AU9: 0 | AV9: 0
A10: 8 | B10: 仙南 | C10: 柿崎 周平 | D10: 柿崎小児科 | E10: 柿崎 周平 | F10: 43176 | G10: 989-0277 | H10: 白石市沢端町１－３７ | I10: （0224）25-2210 | U10: ○ | AT10: =AU10+AV10 -> 0 | AU10: 0 | AV10: 0
A11: 9 | B11: 仙南 | C11: 医療法人圭友会 | D11: 水野内科クリニック | E11: 水野 圭司 | F11: 43831 | G11: 989-0277 | H11: 白石市沢端町３－４３ | I11: （0224）25-2736 | J11: ○ | O11: ○ | P11: ○ | R11: ○ | AT11: =AU11+AV11 -> 0 | AU11: 0 | AV11: 0
A12: 10 | B12: 仙南 | C12: 医療法人社団梅津内科医院 | D12: 梅津内科医院 | E12: 梅津 輝行 | F12: 35963 | G12: 989-0299 | H12: 白石市銚子ヶ森１０－１３ | I12: （0224）24-3571 | J12: ○ | P12: ○ | AT12: =AU12+AV12 -> 0 | AU12: 0 | AV12: 0
A13: 11 | B13: 仙南 | C13: 医療法人社団えんどうクリニック | D13: 医療法人社団えんどうクリニック | E13: 遠藤 雅人 | F13: 37803 | G13: 989-0228 | H13: 白石市兎作４０－１ | I13: （0224）26-3888 | J13: ○ | R13: ○ | V13: ○ | AT13: =AU13+AV13 -> 0 | AU13: 0 | AV13: 0
A14: 12 | B14: 仙南 | C14: 社会福祉法人伯和会 | D14: 特別養護老人ホームえんじゅ診療所 | E14: 水野 圭司 | F14: 35592 | G14: 989-0231 | H14: 白石市福岡蔵本字茶園６２－１ | I14: （0224）25-8885 | J14: ○ | O14: ○ | P14: ○ | R14: ○ | AT14: =AU14+AV14 -> 0 | AU14: 0 | AV14: 0
A15: 13 | B15: 仙南 | C15: 社会福祉法人不忘会 | D15: 特別養護老人ホーム八宮荘診療所 | E15: 網倉 克己 | F15: 29312 | G15: 989-0733 | H15: 白石市福岡八宮字川原１０－３ | I15: （0224）24-5500 | J15: ○ | AT15: =AU15+AV15 -> 0 | AU15: 0 | AV15: 0
A16: 14 | B16: 仙南 | C16: 高橋 昌宏 | D16: たかはし内科クリニック | E16: 高橋 昌宏 | F16: 37747 | G16: 989-0255 | H16: 白石市城北町４－１１ | I16: （0224）22-2535 | J16: ○ | O16: ○ | P16: ○ | R16: ○ | AT16: =AU16+AV16 -> 0 | AU16: 0 | AV16: 0
A17: 15 | B17: 仙南 | C17: 小松 和久 | D17: こまつ外科内科クリニック | E17: 小松 和久 | F17: 38092 | G17: 989-0245 | H17: 白石市城南二丁目２－６ | I17: （0224）22-2115 | J17: ○ | V17: ○ | AC17: ○ | AE17: ○ | AH17: ○ | AT17: =AU17+AV17 -> 0 | AU17: 0 | AV17: 0
A18: 16 | B18: 仙南 | C18: 今野 英繁 | D18: 白石今野医院 | E18: 今野 英繁 | F18: 38964 | G18: 989-0203 | H18: 白石市郡山字虎子沢山１－３ | I18: （0224）25-2822 | J18: ○ | K18: ○ | L18: ○ | M18: ○
A19: 17 | B19: 仙南 | C19: 医療法人つかもとクリニック | D19: つかもとクリニック | E19: 塚本 彩人 | F19: 39083 | G19: 989-0245 | H19: 白石市城南一丁目２－２９ | I19: （0224）26-1026 | J19: ○ | K19: ○ | L19: ○ | AS19: 血液内科 | AT19: =AU19+AV19 -> 0 | AU19: 0 | AV19: 0
A20: 18 | B20: 仙南 | C20: 大橋 利史 | D20: 大手町 おおはし眼科 | E20: 大橋 利史 | F20: 39419 | G20: 989-0255 | H20: 白石市城北町４－４１ | I20: （0224）24-3161 | AL20: ○
A21: 19 | B21: 仙南 | C21: 医療法人三省会 | D21: おおはし整形外科 | E21: 大橋 隆 | F21: 42370 | G21: 989-0248 | H21: 白石市南町１－３－３３ | I21: （0224）22-2888 | W21: ○ | AO21: ○
A22: 20 | B22: 仙南 | C22: 社会福祉法人栄世会 | D22: 特別養護老人ホームひだまり診療所 | E22: 堤 栄克 | F22: 40634 | G22: 989-0229 | H22: 白石市字銚子ヶ森２６－１ | I22: （0224）29-3701 | J22: ○ | V22: ○
A23: 21 | B23: 仙南 | C23: 社会福祉法人伯和会 | D23: 特別養護老人ホームみずき診療所 | E23: 水野 圭司 | F23: 41122 | G23: 989-0231 | H23: 白石市福岡蔵本字茶園６２－５ | I23: （0224）29-3139 | J23: ○ | O23: ○ | P23: ○ | R23: ○
A24: 22 | B24: 仙南 | C24: 国立大学法人東北大学 | D24: 東北大学 東北メディカル・メガバンク機構 地域支援白石センター | E24: 小林 朋子 | F24: 41604 | G24: 989-0243 | H24: 白石市字沢目１５－６ | I24: （0224）26-9771 | AS24: 臨床検査課
A25: 23 | B25: 仙南 | C25: 菅野 裕幸 | D25: かんのリズムハートクリニック | E25: 菅野 裕幸 | F25: 42614 | G25: 989-0218 | H25: 白石市鷹巣東３－８－３ | I25: （0224）26-6330 | J25: ○ | AS25: 循環器内科、呼吸器内科、糖尿病内科 | AU25: 0 | AV25: 0
A26: 24 | B26: 仙南 | C26: 医療法人社団やまと | D26: やまと在宅診療所 白石 | E26: 大藏 暢 | F26: 45383 | G26: 989-0223 | H26: 白石市旭町１－９－２７ カーサ・セロＤ棟 | I26: （0224）26-8020 | J26: ○
A27: 25 | B27: 仙南 | C27: 社会福祉法人あけの星会 | D27: 特別養護老人ホーム聖母の家診療所 | E27: 櫛田 正男 | F27: 33067 | G27: 981-1512 | H27: 角田市横倉字丸山１ | I27: （0224）62-1731 | J27: ○ | AT27: =AU27+AV27 -> 0 | AU27: 0 | AV27: 0
A28: 26 | B28: 仙南 | C28: 医療法人社団阿部内科医院 | D28: 阿部内科医院 | E28: 阿部 文明 | F28: 33434 | G28: 981-1505 | H28: 角田市角田字牛館８９－３ | I28: （0224）63-3335 | J28: ○ | O28: ○ | Q28: ○ | R28: ○ | AT28: =AU28+AV28 -> 0 | AU28: 0 | AV28: 0
A29: 27 | B29: 仙南 | C29: 油井 秀夫 | D29: 油井眼科医院 | E29: 油井 秀夫 | F29: 31971 | G29: 981-1505 | H29: 角田市角田字牛舘５８ | I29: （0224）62-5711 | AL29: ○ | AT29: =AU29+AV29 -> 0 | AU29: 0
A30: 28 | B30: 仙南 | C30: 高山 敦 | D30: 高山内科胃腸科医院 | E30: 高山 敦 | F30: 32217 | G30: 981-1505 | H30: 角田市角田字町２４３ | I30: （0224）63-2304 | J30: ○ | Q30: ○ | AT30: =AU30+AV30 -> 0 | AU30: 0 | AV30: 0
A31: 29 | B31: 仙南 | C31: 医療法人良仁会ウィメンズクリニック金上 | D31: ウィメンズクリニック金上 | E31: 安藤 ひろみ | F31: 36509 | G31: 981-1505 | H31: 角田市角田字田町１１４－１２ | I31: （0224）61-2001 | J31: ○ | AQ31: ○ | AU31: 0
A32: 30 | B32: 仙南 | C32: 医療法人社団小川整形外科クリニック | D32: 小川整形外科クリニック | E32: 小川 俊哉 | F32: 34943 | G32: 981-1505 | H32: 角田市角田字田町６８ | I32: （0224）63-3311 | W32: ○ | AO32: ○ | AS32: 理学診療科 | AT32: 0 | AU32: 0 | AV32: 0
A33: 31 | B33: 仙南 | C33: 医療法人社団大槻明徳会 | D33: 大槻眼科医院 | E33: 石川 明 | F33: 34135 | G33: 981-1505 | H33: 角田市角田字田町９０ | I33: （0224）62-2222 | AL33: ○ | AT33: =AU33+AV33 -> 6 | AU33: 0 | AV33: 6
A34: 32 | B34: 仙南 | C34: 医療法人名取会 | D34: 名取医院 | E34: 名取 達德 | F34: 43101 | G34: 981-1505 | H34: 角田市角田字南６１－１ | I34: （0224）63-2347 | J34: ○ | N34: ○ | V34: ○ | AE34: ○ | AT34: =AU34+AV34 -> 0 | AU34: 0 | AV34: 0
A35: 33 | B35: 仙南 | C35: 社会福祉法人宮城緑風会 | D35: 緑風会診療所 | E35: 三浦 ヨウ子 | F35: 33910 | G35: 981-1522 | H35: 角田市佐倉字上土浮２－２ | I35: （0224）62-1093 | J35: ○ | AT35: =AU35+AV35 -> 0 | AU35: 0 | AV35: 0
A36: 34 | B36: 仙南 | C36: 社会福祉法人宮城緑風会 | D36: 養護老人ホーム宮城緑風園診療所 | E36: 三浦 ヨウ子 | F36: 38443 | G36: 981-1522 | H36: 角田市佐倉字小山４６－１ | I36: （0224）63-0234 | J36: ○
A37: 35 | B37: 仙南 | C37: 医療法人社団井上恩和会 | D37: 角田ふれあいクリニック | E37: 井上 晴之 | F37: 40672 | G37: 981-1505 | H37: 角田市角田字豊町１－３ | I37: （0224）63-0062 | J37: ○ | V37: ○ | AF37: ○ | AS37: 肛門外科，消化器内科、リハビリテーション科 | AT37: =AU37+AV37 -> 0 | AU37: 0 | AV37: 0
A38: 36 | B38: 仙南 | C38: 社会福祉法人ふくじゅの森 | D38: 特別養護老人ホーム寛ぎの郷・和らぎの郷 | E38: 本多 正久 | F38: 41791 | G38: 981-1525 | H38: 角田市角田字岡駅前北１－１ | I38: （0224）63-0031 | J38: ○ | L38: ○ | V38: ○
A39: 37 | B39: 仙南 | C39: 松本 周 | D39: まつもと整形外科リハビリテーションクリニック | E39: 松本 周 | F39: 45413 | G39: 981-1505 | H39: 角田市角田字町１９２ | I39: （0224）86-5330 | W39: ○ | AO39: ○
A40: 38 | B40: 仙南 | C40: 社会福祉法人みやぎ会 | D40: 特別養護老人ホーム 楽園が丘診療所 | E40: 佐々木 幸則 | F40: 45383 | G40: 989-0701 | H40: 蔵王町宮字下別当７２ | I40: （0224）32-2071 | J40: ○ | AT40: =AU40+AV40 -> 0 | AU40: 0 | AV40: 0
A41: 39 | B41: 仙南 | C41: 医療法人社団内方医院 | D41: 内方医院 | E41: 佐藤 寿史 | F41: 35790 | G41: 989-0701 | H41: 蔵王町宮字町３２ | I41: （0224）32-2101 | J41: ○ | P41: ○ | R41: ○ | U41: ○ | AU41: 0
A42: 40 | B42: 仙南 | C42: 医療法人社団恒心会佐藤医院 | D42: 恒心会 佐藤医院 | E42: 佐藤 恒明 | F42: 32889 | G42: 989-0701 | H42: 蔵王町宮字町３６ | I42: （0224）32-2002 | J42: ○ | O42: ○ | P42: ○ | R42: ○ | U42: ○ | AE42: ○ | AT42: =AU42+AV42 -> 0 | AU42: 0 | AV42: 0
A43: 41 | B43: 仙南 | C43: 社会福祉法人桃寿会 | D43: 特別養護老人ホームざおうの杜診療所 | E43: 三浦 良 | F43: 39340 | G43: 989-0851 | H43: 蔵王町大字曲竹字田中４８－１ | I43: （0224）22-7050 | J43: ○
A44: 42 | B44: 仙南 | C44: 社会福祉法人桃寿会 | D44: 特別養護老人ホームざおうの杜あおそ館診療所 | E44: 佐藤 寿史 | F44: 40634 | G44: 989-0851 | H44: 蔵王町大字曲竹字道路西８－１０ | I44: （0224）22-7131 | J44: ○
A45: 43 | B45: 仙南 | C45: 社会福祉法人芽吹 | D45: 特別養護老人ホームせせらぎのさと蔵王 | E45: 岡田 信司 | F45: 41744 | G45: 989-0916 | H45: 蔵王町遠刈田温泉字小妻坂７９－８ | I45: (0224)34-1511 | J45: ○
A46: 44 | B46: 仙南 | C46: 七ヶ宿町 | D46: 七ヶ宿町国民健康保険診療所 | E46: 髙畠 恭介 | F46: 34254 | G46: 989-0512 | H46: 七ヶ宿町字関１８３ | I46: （0224）37-2002 | J46: ○ | U46: ○ | V46: ○ | AR46: ○ | AT46: =AU46+AV46 -> 0 | AU46: 0
A47: 45 | B47: 仙南 | C47: 七ヶ宿町 | D47: 七ヶ宿町国民健康保険 湯原診療所 | E47: 髙畠 恭介 | F47: 32599 | G47: 989-0652 | H47: 七ヶ宿字東口道下４－６ | I47: （0224）37-3055 | J47: ○ | U47: ○ | V47: ○ | AT47: =AU47+AV47 -> 0 | AU47: 0 | AV47: 0
A48: 46 | B48: 仙南 | C48: 社会福祉法人宮城福祉会 | D48: 特別養護老人ホームゆりの里七ヶ宿診療所 | E48: 武藤 大成 | F48: 38398 | G48: 989-0531 | H48: 七ヶ宿町字矢立３－１ | I48: （0224）37-2855 | J48: ○ | AT48: =AU48+AV48 -> 0 | AU48: 0 | AV48: 0
A49: 47 | B49: 仙南 | C49: 医療法人三桜会 | D49: 水戸眼科医院 | E49: 水戸 武三 | F49: 42736 | G49: 989-1246 | H49: 大河原町字新東２９－５ | I49: （0224）52-5511 | AL49: ○ | AT49: =AU49+AV49 -> 0 | AU49: 0 | AV49: 0
A50: 48 | B50: 仙南 | C50: 大久 俊和 | D50: 大河原耳鼻咽喉科クリニック | E50: 大久 俊和 | F50: 36325 | G50: 989-1245 | H50: 大河原町字新南２５－１３ | I50: （0224）52-8733 | AM50: ○ | AT50: =AU50+AV50 -> 0 | AU50: 0 | AV50: 0
A51: 49 | B51: 仙南 | C51: 医療法人社団博優会 | D51: 医療法人社団博優会いのまた眼科 | E51: 猪股 健一 | F51: 35370 | G51: 989-1244 | H51: 大河原町字西町８０－３ | I51: （0224）53-1113 | AL51: ○ | AT51: =AU51+AV51 -> 0 | AU51: 0 | AV51: 0
A52: 50 | B52: 仙南 | C52: 日下 玄 | D52: 日下内科医院 | E52: 日下 玄 | F52: 45748 | G52: 989-1241 | H52: 大河原町字町７３ | I52: （0224）52-1058 | J52: ○ | P52: ○ | AT52: =AU52+AV52 -> 0 | AU52: 0 | AV52: 0
A53: 51 | B53: 仙南 | C53: 河内 三郎 | D53: かわち医院 | E53: 河内 三郎 | F53: 33526 | G53: 989-1223 | H53: 大河原町字東新町１０－７ | I53: （0224）52-3115 | J53: ○ | V53: ○ | AE53: ○ | AH53: ○ | AQ53: ○ | AT53: =AU53+AV53 -> 0 | AU53: 0 | AV53: 0
A54: 52 | B54: 仙南 | C54: 宮城県 | D54: 宮城県仙南保健所 | E54: 菊池 寛 | F54: 24929 | G54: 989-1243 | H54: 大河原町字南１２９－１ | I54: （0224）53-3115 | J54: ○ | AT54: =AU54+AV54 -> 0 | AU54: 0 | AV54: 0
A55: 53 | B55: 仙南 | C55: 社会福祉法人常盤福祉会 | D55: 特別養護老人ホーム桜寿苑診療所 | E55: 河内 三郎 | F55: 34060 | G55: 989-1201 | H55: 大河原町大谷字上谷前２２０－３ | I55: （0224）52-0211 | J55: ○ | AT55: =AU55+AV55 -> 0 | AU55: 0 | AV55: 0
A56: 54 | B56: 仙南 | C56: 甘糟 仁 | D56: 甘糟医院 | E56: 甘糟 仁 | F56: 37229 | G56: 989-1201 | H56: 大河原町大谷字末広８１ | I56: （0224）53-1460 | J56: ○ | P56: ○ | U56: ○ | AT56: =AU56+AV56 -> 0 | AU56: 0 | AV56: 0
A57: 55 | B57: 仙南 | C57: 高橋 功 | D57: さくら内科消化器科 | E57: 高橋 功 | F57: 37505 | G57: 989-1213 | H57: 大河原町字住吉町１１－１ | I57: （0224）53-5151 | J57: ○ | P57: ○ | AT57: =AU57+AV57 -> 0 | AU57: 0 | AV57: 0
A58: 56 | B58: 仙南 | C58: 医療法人さくら小児科医院 | D58: さくら小児科医院 | E58: 伊藤 辰夫 | F58: 38718 | G58: 989-1213 | H58: 大河原町字住吉町１１－１ | I58: （0224）51-5355 | U58: ○ | AT58: =AU58+AV58 -> 0 | AU58: 0 | AV58: 0
A59: 57 | B59: 仙南 | C59: 医療法人庄司クリニック | D59: 庄司クリニック | E59: 庄司 則文 | F59: 39814 | G59: 989-1201 | H59: 大河原町大谷字戸ノ内前３５－１ | I59: （0224）51-3471 | J59: ○ | AF59: ○ | AS59: 人工透析科 | AT59: =AU59+AV59 -> 0 | AU59: 0 | AV59: 0
A60: 58 | B60: 仙南 | C60: 医療法人社団清山会 | D60: 医療法人社団清山会さくらの杜診療所 | E60: 諸根 彬 | F60: 38930 | G60: 989-1225 | H60: 大河原町字広表３３－４ | I60: （0224）51-4605 | W60: ○ | AF60: ○
A61: 59 | B61: 仙南 | C61: 平井 完史 | D61: 平井内科 | E61: 平井 完史 | F61: 39220 | G61: 989-1214 | H61: 大河原町字甲子町３－５ | I61: （0224）52-2777 | J61: ○
A62: 60 | B62: 仙南 | C62: 齋藤 雄一 | D62: 南桜ホームケアクリニック | E62: 齋藤 雄一 | F62: 40269 | G62: 989-1272 | H62: 大河原町字南桜町７－８ | I62: （0224）51-0721 | J62: ○ | AS62: 緩和ケア内科、疼痛緩和内科
A63: 61 | B63: 仙南 | C63: 医療法人千桜会 | D63: おおがわら皮膚科クリニック | E63: 沼田 透効 | F63: 42736 | G63: 989-1213 | H63: 大河原町字住吉町９－７ | I63: (0224)51-8458 | S63: ○ | AE63: ○
A64: 62 | B64: 仙南 | C64: 大河原町 | D64: 仙南夜間初期急患センター | E64: 平井 完史 | F64: 42037 | G64: 981-0954 | H64: 大河原町字西３８－１ | I64: (0224)51-9986 | J64: ○
A65: 63 | B65: 仙南 | C65: 医療法人じん整形外科クリニック | D65: じん整形外科クリニック | E65: 日下 仁 | F65: 44197 | G65: 989-1267 | H65: 大河原町字小島26－6 | I65: (0224)86-5363 | T65: ○ | W65: ○ | AO65: ○ | AS65: ペインクリニック内科
A66: 64 | B66: 仙南 | C66: 医療法人いとうハートクリック | D66: いとうハートクリニック | E66: 伊藤 愛剛 | F66: 45078 | G66: 989-1246 | H66: 大河原町字新東２２－４ | I66: （0224）87-8701 | AS66: 循環器内科
A67: 65 | B67: 仙南 | C67: 最首 文恵 | D67: 町南診療所 | E67: 最首 文恵 | F67: 35566 | G67: 989-1305 | H67: 村田町字町南３３－１ | I67: （0224）83-5503 | J67: ○ | AQ67: ○ | AT67: =AU67+AV67 -> 0 | AU67: 0 | AV67: 0
A68: 66 | B68: 仙南 | C68: 株式会社菅生 | D68: ＳＵＧＯ診療所 | E68: 今村 幹雄 | F68: 33731 | G68: 989-1301 | H68: 村田町菅生６－１ | I68: （0224）83-3111 | J68: ○ | V68: ○ | AT68: =AU68+AV68 -> 0 | AU68: 0 | AV68: 0
A69: 67 | B69: 仙南 | C69: 荘司 裕 | D69: 村田内科クリニック | E69: 荘司 裕 | F69: 44166 | G69: 989-1302 | H69: 村田町大字小泉字西浦８４－１ | I69: （0224）83-6061 | J69: ○ | O69: ○ | R69: ○ | AT69: 0 | AU69: 0 | AV69: 0
A70: 68 | B70: 仙南 | C70: 社会福祉法人柏松会 | D70: 特別養護老人ホーム柏松苑診療所 | E70: 安西 良一 | F70: 32316 | G70: 989-1311 | H70: 村田町大字足立字上ヶ戸１７－５ | I70: （0224）83-5753 | J70: ○ | V70: ○ | AT70: =AU70+AV70 -> 0 | AU70: 0 | AV70: 0
A71: 69 | B71: 仙南 | C71: 財団法人善積回春会 | D71: 一般財団法人善積回春会 善積医院 | E71: 善積 祐介 | F71: 35034 | G71: 989-1305 | H71: 村田町大字村田字西４６ | I71: （0224）83-2172 | J71: ○ | W71: ○ | AT71: =AU71+AV71 -> 0
A72: 70 | B72: 仙南 | C72: みやぎ県南中核病院企業団 | D72: みやぎ県南中核病院附属村田診療所 | E72: 安西 良一 | F72: 37448 | G72: 989-1305 | H72: 村田町大字村田字反町１１２ | I72: （0224）83-2445 | J72: ○ | U72: ○ | V72: ○ | AE72: ○ | AT72: =AU72+AV72 -> 0 | AU72: 0
A73: 71 | B73: 仙南 | C73: 医療法人社団泉松会 | D73: 村田透析クリニック | E73: 米田 実 | F73: 41162 | G73: 989-1321 | H73: 村田町大字沼辺字新小谷地２７－１ | I73: （0224）86-5755 | J73: ○ | AS73: 人口透析内科
A74: 72 | B74: 仙南 | C74: 社会福祉法人柏松会 | D74: 特別養護老人ホーム柏松会別館穂の香 | E74: 安西 良一 | F74: 42064 | G74: 989-1311 | H74: 村田町大字足立字湯内前17-5 | I74: （0224）51-8785 | J74: ○ | V74: ○
A75: 73 | B75: 仙南 | C75: 医療法人光希会 | D75: 高沢内科 | E75: 高澤 磨 | F75: 43647 | G75: 989-1622 | H75: 柴田町西船迫３－５－１ | I75: （0224）57-1231 | J75: ○ | P75: ○ | Q75: ○ | AT75: =AU75+AV75 -> 0
A76: 74 | B76: 仙南 | C76: 宮上 順志 | D76: 宮上クリニック | E76: 宮上 順志 | F76: 33588 | G76: 989-1622 | H76: 柴田町西船迫２－７－１ | I76: （0224）55-4103 | J76: ○ | U76: ○ | AI76: ○ | AQ76: ○ | AT76: =AU76+AV76 -> 11 | AU76: 0 | AV76: 11
A77: 75 | B77: 仙南 | C77: みやぎ県南医療生活協同組合 | D77: みやぎ県南医療生活協同組合しばた協同クリニック | E77: 小幡 篤 | F77: 35309 | G77: 989-1606 | H77: 柴田町船岡新栄４－４－１ | I77: （0224）57-2310 | J77: ○ | P77: ○ | R77: ○ | AT77: =AU77+AV77 -> 0 | AU77: 0 | AV77: 0
A78: 76 | B78: 仙南 | C78: 防衛省 | D78: 陸上自衛隊船岡駐屯地医務室 | E78: 宍倉 佐紀 | F78: 22285 | G78: 989-1606 | H78: 柴田町船岡字大沼端１－１ | I78: （0224）55-2301 | J78: ○ | V78: ○ | AR78: ○ | AT78: =AU78+AV78 -> 5 | AU78: 0 | AV78: 5
A79: 77 | B79: 仙南 | C79: 医療法人社団毛利クリニック | D79: 毛利産婦人科医院 | E79: 毛利 裕之 | F79: 36147 | G79: 989-1603 | H79: 柴田町船岡西１－９－２８ | I79: （0224）55-3509 | AI79: ○ | AQ79: ○ | AT79: =AU79+AV79 -> 11 | AU79: 0 | AV79: 11
A80: 78 | B80: 仙南 | C80: 医療法人村川医院 | D80: 村川医院 | E80: 村川 淳一 | F80: 33071 | G80: 989-1601 | H80: 柴田町船岡中央２－９－１６ | I80: （0224）54-2316 | J80: ○ | P80: ○ | AT80: =AU80+AV80 -> 0 | AU80: 0 | AV80: 0
A81: 79 | B81: 仙南 | C81: 医療法人玉川 | D81: 太田内科 | E81: 太田 宗夫 | F81: 39814 | G81: 989-1601 | H81: 柴田町船岡中央３－３－３４ | I81: （0224）55-1702 | J81: ○ | O81: ○ | Q81: ○ | R81: ○ | AT81: =AU81+AV81 -> 0 | AU81: 0 | AV81: 0
A82: 80 | B82: 仙南 | C82: 医療法人社団康和会 | D82: 八木沼眼科クリニック | E82: 八木沼 康之 | F82: 33430 | G82: 989-1604 | H82: 柴田町船岡東２－８－３９ | I82: （0224）54-1472 | AL82: ○ | AT82: =AU82+AV82 -> 0 | AU82: 0 | AV82: 0
A83: 81 | B83: 仙南 | C83: 医療法人英仁会 | D83: 永沼整形外科 | E83: 永沼 英樹 | F83: 35521 | G83: 989-1604 | H83: 柴田町船岡東２－９－３４ | I83: （0224）54-2244 | V83: ○ | W83: ○ | AT83: =AU83+AV83 -> 0 | AU83: 0 | AV83: 0
A84: 82 | B84: 仙南 | C84: 学校法人朴沢学園 | D84: 仙台大学健康管理センター付属診療所 | E84: 櫻井 雅浩 | F84: 36693 | G84: 989-1605 | H84: 柴田町船岡南２－２－１８仙台大学大学院研究棟１階 | I84: （0224）55-1121 | J84: ○ | V84: ○ | W84: ○ | AT84: =AU84+AV84 -> 0 | AU84: 0 | AV84: 0
A85: 83 | B85: 仙南 | C85: 社会福祉法人常盤福祉会 | D85: 特別養護老人ホーム常盤園 | E85: 高澤 麿 | F85: 43600 | G85: 989-1622 | H85: 柴田町大字船岡字西船迫2－7－4 | I85: （0224）55-1421 | J85: ○ | AT85: =AU85+AV85 -> 0 | AU85: 0 | AV85: 0
A86: 84 | B86: 仙南 | C86: リコーインダストリー（株） | D86: 東北リコー診療所 | E86: 菊池 広大 | F86: 32372 | G86: 989-1612 | H86: 柴田町中名生字神明堂３－１ | I86: （0224）88-7023 | J86: ○ | AT86: =AU86+AV86 -> 0 | AU86: 0 | AV86: 0
A87: 85 | B87: 仙南 | C87: 医療法人社団秀成会 | D87: 乾医院 | E87: 乾 秀 | F87: 33312 | G87: 989-1753 | H87: 柴田町槻木下町３－１－２０ | I87: （0224）56-1451 | J87: ○ | V87: ○ | W87: ○ | AF87: ○ | AH87: ○ | AT87: =AU87+AV87 -> 0 | AU87: 0 | AV87: 0
A88: 86 | B88: 仙南 | C88: 玉渕 尚宏 | D88: 槻木皮膚科クリニック | E88: 玉渕 尚宏 | F88: 43862 | G88: 989-1753 | H88: 柴田町槻木上町１－１－５４ | I88: （0224）56-4111 | AE88: ○ | AT88: =AU88+AV88 -> 0 | AU88: 0 | AV88: 0
A89: 87 | B89: 仙南 | C89: 玉渕 泰史 | D89: 玉渕医院 | E89: 玉渕 泰史 | F89: 43862 | G89: 989-1753 | H89: 柴田町槻木上町１－１－５４ | I89: （0224）56-1012 | J89: ○ | AS89: 胃腸内科 | AT89: =AU89+AV89 -> 0 | AU89: 0 | AV89: 0
A90: 88 | B90: 仙南 | C90: 医療法人社団槻萌会 | D90: 大沼胃腸科内科外科医院 | E90: 大沼 勝 | F90: 33771 | G90: 989-1753 | H90: 柴田町槻木上町３－１－１０ | I90: （0224）56-1441 | J90: ○ | V90: ○ | W90: ○ | AS90: 胃腸内科、循環器内科 | AT90: =AU90+AV90 -> 0
A91: 89 | B91: 仙南 | C91: 医療法人京愛会 | D91: やすだ耳鼻咽喉科・アレルギー科クリニック | E91: 安田 京 | F91: 43466 | G91: 989-1758 | H91: 柴田町槻木駅西1丁目４－７ | I91: （0224）86-3329 | S91: ○ | AM91: ○ | AT91: =AU91+AV91 -> 4 | AV91: 4
A92: 90 | B92: 仙南 | C92: 社会福祉法人常盤福祉会 | D92: 特別養護老人ホーム第二常盤園診療所 | E92: 乾 秀 | F92: 40634 | G92: 989-1762 | H92: 柴田町大字海老穴字丸山４０－２ | I92: （0224）56-5761 | J92: ○
A93: 91 | B93: 仙南 | C93: 医療法人おおぬま小児科 | D93: おおぬま小児科 | E93: 大沼 健兒 | F93: 42186 | G93: 989-1753 | H93: 柴田町槻木上町１－１－５１ | I93: （0224）87-7561 | U93: ○ | AT93: =AU93+AV93 -> 0 | AU93: 0 | AV93: 0
A94: 92 | B94: 仙南 | C94: 医療法人芳松会 | D94: いのまた胃と腸・内科クリニック | E94: 猪股 芳文 | F94: 44562 | G94: 989-1753 | H94: 柴田町槻木上町二丁目７－２５ | I94: (0224)87-8750 | J94: ○ | P94: ○ | AU94: 0 | AV94: 0
A95: 93 | B95: 仙南 | C95: 一般社団法人仁萩会 | D95: 船岡中央クリニック | E95: 二瓶 憲 | F95: 44690 | G95: 989-1607 | H95: 柴田町船岡新栄三丁目４３－９ | I95: (0224)86-5390 | J95: ○ | K95: ○ | O95: ○ | P95: ○ | R95: ○
A96: 94 | B96: 仙南 | C96: 社会福祉法人鶴寿会 | D96: 特別養護老人ホーム釜房みどりの園診療所 | E96: 石川 暁 | F96: 29434 | G96: 989-1503 | H96: 川崎町大字川内字芋ノ窪１６－３－２ | I96: （0224）84-4853 | J96: ○ | AT96: =AU96+AV96 -> 0 | AU96: 0 | AV96: 0
A97: 95 | B97: 仙南 | C97: 医療法人社団山家内科小児科医院 | D97: 山家内科小児科医院 | E97: 山家 誠 | F97: 35065 | G97: 989-1501 | H97: 川崎町大字前川字中町７６－２ | I97: （0224）84-2023 | J97: ○ | U97: ○ | AT97: =AU97+AV97 -> 0 | AU97: 0 | AV97: 0
A98: 96 | B98: 仙南 | C98: 社会福祉法人ウェルフェア仙台 | D98: 特別養護老人ホーム 仙南ジェロントピア診療所 | E98: 磯上 勝彦 | F98: 34425 | G98: 981-2105 | H98: 丸森町舘矢間松掛字宮田６７ | I98: （0224）72-2860 | J98: ○ | AT98: =AU98+AV98 -> 0 | AU98: 0 | AV98: 0
A99: 97 | B99: 仙南 | C99: 山本 政秀 | D99: 山本医院 | E99: 山本 政秀 | F99: 37321 | G99: 981-2165 | H99: 丸森町字町西６２－１ | I99: （0224）72-1351 | J99: ○ | V99: ○ | AT99: =AU99+AV99 -> 0 | AU99: 0 | AV99: 0
A100: 98 | B100: 仙南 | C100: 三澤 誠一 | D100: 三澤医院 | E100: 三澤 誠一 | F100: 37987 | G100: 981-2104 | H100: 丸森町大館３－１１０ | I100: （0224）72-1166 | J100: ○ | AT100: =AU100+AV100 -> 0 | AU100: 0 | AV100: 0
...

Sheet 塩釜
A1: № | B1: 保健所 | C1: 開設者名 | D1: 診療所名 | E1: 管理者名 | F1: 開設年月日 | G1: 郵便番号 | H1: 所在地 | I1: 電話番号 | J1: 診 療 科 目 | AT1: 病床数 | AW1: 摘要
J2: 内科 | K2: 心療内科 | L2: 精神科 | M2: 神経科 | N2: 神経内科 | O2: 呼吸器科 | P2: 消化器科 | Q2: 胃腸科 | R2: 循環器科 | S2: アレルギー科 | T2: リウマチ科 | U2: 小児科 | V2: 外科 | W2: 整形外科 | X2: 形成外科 | Y2: 美容外科 | Z2: 脳神経外科 | AA2: 呼吸器外科 | AB2: 心臓血管外科 | AC2: 小児外科 | AD2: 皮膚泌尿器科 | AE2: 皮膚科 | AF2: 泌尿器科 | AG2: 性病科 | AH2: こう門科 | AI2: 産婦人科 | AJ2: 産科 | AK2: 婦人科 | AL2: 眼科 | AM2: 耳鼻いんこう科 | AN2: 気管食道科 | AO2: リハビリテーション科 | AP2: 放射線科 | AQ2: 麻酔科 | AR2: 歯科 | AS2: その他の科目 | AT2: 合 計 | AU2: 療養 | AV2: 一般
A3: 1 | B3: 塩釜 | C3: 渡邉 広己 | D3: 渡辺眼科医院 | E3: 渡邉 広己 | F3: 35524 | G3: 985-0021 | H3: 塩竈市尾島町6-3 | I3: (022)362-8784 | AL3: ○ | AT3: =SUM(AU3:AV3) -> 5 | AV3: 5
A4: 2 | B4: 塩釜 | C4: 渡辺 孝志 | D4: 渡辺耳鼻咽喉科気管食道科医院 | E4: 渡辺 孝志 | F4: 26436 | G4: 985-0021 | H4: 塩竈市尾島町6-3 | I4: (022)364-6005 | S4: ○ | AM4: ○ | AN4: ○ | AT4: =SUM(AU4:AV4) -> 2 | AV4: 2
A5: 3 | B5: 塩釜 | C5: 菅原 伸夫 | D5: 菅原内科胃腸科医院 | E5: 菅原 伸夫 | F5: 31854 | G5: 985-0051 | H5: 塩竈市宮町2-28 | I5: (022)362-0513 | J5: ○ | O5: ○ | P5: ○ | R5: ○ | AT5: =SUM(AU5:AV5) -> 0
A6: 4 | B6: 塩釜 | C6: 医療法人社団鈴木眼科医院 | D6: 鈴木眼科医院 | E6: 鈴木 健史 | F6: 32676 | G6: 985-0051 | H6: 塩竈市宮町3-25 | I6: (022)365-1523 | AL6: ○ | AT6: =SUM(AU6:AV6) -> 5 | AV6: 5
A7: 5 | B7: 塩釜 | C7: 杉山 泰二 | D7: 宮町脳神経・眼科クリニック | E7: 杉山 泰二 | F7: 37001 | G7: 985-0051 | H7: 塩竈市宮町8-15 | I7: (022)362-2121 | J7: ○ | N7: ○ | AL7: ○ | AT7: =SUM(AU7:AV7) -> 0
A8: 6 | B8: 塩釜 | C8: 医療法人こがね雅会 | D8: こがね医院 | E8: 金 俊夫 | F8: 44927 | G8: 985-0026 | H8: 塩竈市旭町5-10 | I8: (022)362-2026 | J8: ○ | Q8: ○ | AT8: =SUM(AU8:AV8) -> 0
A9: 7 | B9: 塩釜 | C9: 医療法人平樹会平澤内科医院 | D9: 平澤内科医院 | E9: 平澤 頼久 | F9: 32857 | G9: 985-0031 | H9: 塩竈市石堂1-33 | I9: (022)365-0222 | J9: ○ | P9: ○ | U9: ○ | AS9: 循環器内科 | AT9: =SUM(AU9:AV9) -> 0 | AW9: R8.8.1 追加
A10: 8 | B10: 塩釜 | C10: 木原 政博 | D10: ふくちゃんクリニック | E10: 木原 政博 | F10: 40371 | G10: 985-0062 | H10: 塩竈市泉沢町22-10 | I10: (022)365-2238 | J10: ○ | K10: ○ | L10: ○ | AT10: =SUM(AU10:AV10) -> 0
A11: 9 | B11: 塩釜 | C11: 塩竈市 | D11: 塩竈市浦戸診療所 | E11: 後藤 淳 | F11: 30051 | G11: 985-0193 | H11: 塩竈市浦戸野々島字河岸50 | I11: (022)369-2350 | J11: ○ | V11: ○ | AT11: =SUM(AU11:AV11) -> 0
A12: 10 | B12: 塩釜 | C12: 公益財団法人宮城厚生協会 | D12: 公益財団法人宮城厚生協会坂総合病院付属北部診療所 | E12: 宮沼 弘明 | F12: 37106 | G12: 985-0071 | H12: 塩竈市庚塚1-3 | I12: (022)366-7251 | J12: ○ | AT12: =SUM(AU12:AV12) -> 0
A13: 11 | B13: 塩釜 | C13: 小幡 祥子 | D13: 本塩釜ひふ科クリニック | E13: 小幡 祥子 | F13: 44495 | G13: 985-0003 | H13: 塩竈市北浜1丁目2-20 | I13: (022)353-7640 | AE13: ○ | AT13: =SUM(AU13:AV13) -> 0
A14: 12 | B14: 塩釜 | C14: 医療法人社団杉山内科 | D14: 杉山内科 | E14: 杉山 幸一 | F14: 33954 | G14: 985-0003 | H14: 塩竈市北浜一丁目6-9 | I14: (022)362-1715 | J14: ○ | O14: ○ | P14: ○ | R14: ○ | U14: ○ | AT14: =SUM(AU14:AV14) -> 0
A15: 13 | B15: 塩釜 | C15: 宮城県 | D15: 宮城県塩釜保健所 | E15: 鈴木 陽 | F15: 30774 | G15: 985-0003 | H15: 塩竈市北浜四丁目8-15 | I15: (022)363-5502 | J15: ○ | AT15: =SUM(AU15:AV15) -> 0
A16: 14 | B16: 塩釜 | C16: 社会福祉法人千賀の浦福祉会 | D16: 特別養護老人ホーム清楽苑 | E16: 黒沢 久三 | F16: 31868 | G16: 985-0061 | H16: 塩竈市清水沢一丁目12-1 | I16: (022)365-5100 | J16: ○ | L16: ○ | AO16: ○ | AT16: =SUM(AU16:AV16) -> 0
A17: 15 | B17: 塩釜 | C17: 小杉 茂 | D17: 清水沢クリニック | E17: 小杉 茂 | F17: 34289 | G17: 985-0061 | H17: 塩竈市清水沢三丁目14-24 | I17: (022)367-6822 | J17: ○ | U17: ○ | AT17: =SUM(AU17:AV17) -> 0
A18: 16 | B18: 塩釜 | C18: 医療法人財団五倫会 | D18: ももせクリニック | E18: 高橋 正倫 | F18: 41640 | G18: 985-0061 | H18: 塩竈市清水沢四丁目37-20 | I18: (022)361-8201 | J18: ○ | V18: ○ | W18: ○ | AH18: ○ | AO18: ○ | AQ18: ○ | AR18: ○ | AS18: 矯正歯科、小児歯科、歯科口腔外科 | AT18: =SUM(AU18:AV18) -> 19 | AV18: 19
A19: 17 | B19: 塩釜 | C19: 社会福祉法人 宮城県障がい者福祉協会 | D19: 杏友園診療所 | E19: 及川 潤一 | F19: 37288 | G19: 985-0022 | H19: 塩竈市新富町14-10 | I19: (022)361-6815 | J19: ○ | L19: ○ | AT19: =SUM(AU19:AV19) -> 0
A20: 18 | B20: 塩釜 | C20: 医療法人社団恒心会 | D20: 新浜クリニック | E20: 齋 恒夫 | F20: 37424 | G20: 985-0024 | H20: 塩竈市新浜町一丁目6-18 | I20: (022)363-3363 | J20: ○ | K20: ○ | L20: ○ | M20: ○ | AT20: =SUM(AU20:AV20) -> 0
A21: 19 | B21: 塩釜 | C21: 千葉 伸一 | D21: ちば整形外科クリニック | E21: 千葉 伸一 | F21: 38114 | G21: 985-0042 | H21: 塩竈市玉川一丁目9-7 | I21: 022-361-6711 | T21: ○ | W21: ○ | AO21: ○ | AT21: =SUM(AU21:AV21) -> 0
A22: 20 | B22: 塩釜 | C22: 佐々木 泰夫 | D22: ささき内科・呼吸器科クリニック | E22: 佐々木 泰夫 | F22: 38329 | G22: 985-0034 | H22: 塩竈市玉川一丁目3-30 | I22: 022-365-6201 | J22: ○ | O22: ○ | AT22: =SUM(AU22:AV22) -> 0 | AV22: 0
A23: 21 | B23: 塩釜 | C23: 社会福祉法人萩の里 | D23: 小規模特別養護老人ホーム ウイズ月見ケ丘診療所 | E23: 黒沢 久三 | F23: 39680 | G23: 985-0066 | H23: 塩竃市月見ケ丘6-10 | I23: (022)355-8166 | J23: ○ | AT23: =SUM(AU23:AV23) -> 0
A24: 22 | B24: 塩釜 | C24: 鳥越 紘二 | D24: 鳥越塩釜腎クリニック | E24: 鳥越 紘二 | F24: 30238 | G24: 985-0024 | H24: 塩竈市錦町5-13 | I24: (022)365-1361 | T24: ○ | W24: ○ | AS24: 人工透析内科 | AT24: =SUM(AU24:AV24) -> 0 | AU24: 0 | AV24: 0
A25: 23 | B25: 塩釜 | C25: 黒沢 久三 | D25: くろさわ脳外科画像診断クリニック | E25: 黒沢 久三 | F25: 40848 | G25: 985-0024 | H25: 塩竃市錦町6-32 | I25: (022)366-9638 | J25: ○ | N25: ○ | V25: ○ | W25: ○ | Z25: ○ | AT25: =SUM(AU25:AV25) -> 0
A26: 24 | B26: 塩釜 | C26: 塩竈市 | D26: 塩釜地区休日急患診療センター | E26: 横山 義正 | F26: 33673 | G26: 985-0024 | H26: 塩竈市錦町7-10 | I26: (022)366-0630 | J26: ○ | U26: ○ | AT26: =SUM(AU26:AV26) -> 0
A27: 25 | B27: 塩釜 | C27: 公益社団法人宮城県塩釜医師会 | D27: 公益社団法人宮城県塩釜医師会臨床検査センター | E27: 関口 淳一 | F27: 33709 | G27: 985-0024 | H27: 塩竈市錦町7-10 | I27: (022)364-3301 | J27: ○ | AP27: ○ | AT27: =SUM(AU27:AV27) -> 0
A28: 26 | B28: 塩釜 | C28: 医療法人社団藤谷内科クリニック | D28: 藤谷内科クリニック | E28: 藤谷 浩 | F28: 36874 | G28: 985-0024 | H28: 塩竈市南錦町8-10 | I28: (022)361-0211 | J28: ○ | P28: ○ | AT28: =SUM(AU28:AV28) -> 0
A29: 27 | B29: 塩釜 | C29: 医療法人敬仁会遠藤医院 | D29: 遠藤レディスクリニック | E29: 遠藤 英敬 | F29: 34865 | G29: 985-0023 | H29: 塩竈市花立町1-32 | I29: (022)362-5603 | AI29: ○ | AQ29: ○ | AT29: =SUM(AU29:AV29) -> 7 | AV29: 7
A30: 28 | B30: 塩釜 | C30: 宮﨑 真紀子 | D30: みみはなのど宮﨑クリニック | E30: 宮﨑 真紀子 | F30: 44228 | G30: 985-0023 | H30: 塩竈市花立町13-12 | I30: (022)357-0832 | AM30: ○
A31: 29 | B31: 塩釜 | C31: 医療法人社団無量井内科クリニック | D31: 無量井内科クリニック | E31: 無量井 泰 | F31: 37239 | G31: 985-0036 | H31: 塩竈市東玉川町2-28 | I31: (022)361-3577 | J31: ○ | S31: ○ | T31: ○ | AS31: 消化器内科 | AT31: =SUM(AU31:AV31) -> 0
A32: 30 | B32: 塩釜 | C32: 川合 淳 | D32: 川合整形外科クリニック | E32: 川合 淳 | F32: 35691 | G32: 985-0004 | H32: 塩竈市藤倉二丁目4-20 | I32: (022)365-6818 | T32: ○ | W32: ○ | AO32: ○ | AT32: =SUM(AU32:AV32) -> 0
A33: 31 | B33: 塩釜 | C33: 医療法人高橋外科肛門科医院 | D33: 高橋ジェネラルクリニック | E33: 高橋 輝兆 | F33: 33224 | G33: 985-0004 | H33: 塩竈市藤倉三丁目6-4 | I33: (022)365-9005 | J33: ○ | V33: ○ | AO33: ○ | AQ33: ○ | AS33: ペインクリニック・肛門外科 | AT33: =SUM(AU33:AV33) -> 0
A34: 32 | B34: 塩釜 | C34: 医療法人社団いけの医院 | D34: いけの医院 | E34: 池野 由佳 | F34: 33588 | G34: 985-0004 | H34: 塩竈市藤倉三丁目17-5 | I34: (022)367-1110 | U34: ○ | X34: ○ | AE34: ○ | AI34: ○ | AS34: 漢方内科 | AT34: =SUM(AU34:AV34) -> 0 | AV34: 0
A35: 33 | B35: 塩釜 | C35: 医療法人社団中正会 | D35: 本間医院 | E35: 本間 正明 | F35: 35597 | G35: 985-0052 | H35: 塩竈市本町3-20 | I35: (022)364-1760 | J35: ○ | O35: ○ | P35: ○ | R35: ○ | S35: ○ | U35: ○ | AT35: =SUM(AU35:AV35) -> 0
A36: 34 | B36: 塩釜 | C36: 医療法人社団永健会 | D36: 冨永内科医院 | E36: 冨永 泰之 | F36: 42923 | G36: 985-0071 | H36: 塩竈市松陽台一丁目１番2-2号 | I36: (022)365-7188 | J36: ○ | O36: ○ | P36: ○ | R36: ○ | U36: ○ | AT36: =SUM(AU36:AV36) -> 0
A37: 35 | B37: 塩釜 | C37: 社会福祉法人大和福壽会 | D37: やまとクリニック | E37: 髙橋 義和 | F37: 41955 | G37: 985-0087 | H37: 塩竈市字伊保石20-1 | I37: (022)367-7611 | J37: ○ | Q37: ○ | U37: ○ | AS37: 内視鏡内科 | AT37: =SUM(AU37:AV37) -> 0
A38: 36 | B38: 塩釜 | C38: 医療法人GA | D38: 本塩釜耳鼻咽喉科クリニック | E38: 沖津 尚弘 | F38: 42917 | G38: 985-0003 | H38: 塩竈市北浜一丁目7-7 | I38: （050)3032-2744 | AM38: ○ | AT38: =SUM(AU38:AV38) -> 0
A39: 37 | B39: 塩釜 | C39: 医療法人恵仁会 | D39: 笠神ハートクリニック | E39: 薗部 太郎 | F39: 38169 | G39: 985-0821 | H39: 多賀城市笠神四丁目6-16 | I39: (022)361-8010 | J39: ○ | O39: ○ | R39: ○ | AT39: =SUM(AU39:AV39) -> 0
A40: 38 | B40: 塩釜 | C40: 医療法人社団景雄会藤野整形外科 | D40: 藤野整形外科 | E40: 藤野 茂 | F40: 35770 | G40: 985-0832 | H40: 多賀城市大代五丁目1-1 | I40: (022)365-5050 | W40: ○ | AO40: ○ | AT40: =SUM(AU40:AV40) -> 0
A41: 39 | B41: 塩釜 | C41: 医療法人沼崎クリニック | D41: 沼崎小児科眼科クリニック | E41: 沼崎 好子 | F41: 37239 | G41: 985-0832 | H41: 多賀城市大代五丁目2-5 | I41: (022)366-8855 | U41: ○ | AL41: ○ | AT41: =SUM(AU41:AV41) -> 0
A42: 40 | B42: 塩釜 | C42: 音羽 孝則 | D42: おおしろファミリークリニック | E42: 音羽 孝則 | F42: 44967 | G42: 985-0831 | H42: 多賀城市笠神４丁目８番３号 | I42: (022)762-6560 | J42: ○ | U42: ○ | AE42: ○ | AT42: =SUM(AU42:AV42) -> 0
A43: 41 | B43: 塩釜 | C43: 防衛省陸上自衛隊多賀城駐屯地 | D43: 防衛省陸上自衛隊多賀城駐屯地医務室 | E43: 大堀 壮一 | F43: 20141 | G43: 985-0834 | H43: 多賀城市丸山二丁目1-1 | I43: (022)365-2121 | J43: ○ | AR43: ○ | AT43: =SUM(AU43:AV43) -> 10 | AV43: 10
A44: 42 | B44: 塩釜 | C44: 公益財団法人宮城厚生協会 | D44: 公益財団法人宮城厚生協会坂総合クリニック | E44: 髙橋 洋 | F44: 36206 | G44: 985-0835 | H44: 多賀城市下馬二丁目13-7 | I44: (022)361-7011 | J44: ○ | L44: ○ | N44: ○ | T44: ○ | U44: ○ | V44: ○ | W44: ○ | X44: ○ | Z44: ○ | AA44: ○ | AB44: ○ | AE44: ○ | AF44: ○ | AI44: ○ | AL44: ○ | AM44: ○ | AS44: 消化器内科、呼吸器内科、循環器内科、糖尿病・代謝内科、漢方内科、肛門外科、緩和ケア内科、遺伝子診療科 | AT44: =SUM(AU44:AV44) -> 0
A45: 43 | B45: 塩釜 | C45: 樋渡 奈奈子 | D45: おおば医院 | E45: 樋渡 奈奈子 | F45: 39818 | G45: 985-0835 | H45: 多賀城市下馬三丁目1-28 | I45: (022)363-0213 | J45: ○ | U45: ○ | AT45: =SUM(AU45:AV45) -> 12 | AU45: 6 | AV45: 6
A46: 44 | B46: 塩釜 | C46: 山田 耕道 | D46: 山田内科医院 | E46: 山田 耕道 | F46: 40842 | G46: 985-0835 | H46: 多賀城市下馬三丁目33-3 | I46: (022)365-5911 | J46: ○ | N46: ○ | O46: ○ | P46: ○ | R46: ○ | U46: ○ | AT46: =SUM(AU46:AV46) -> 0
A47: 45 | B47: 塩釜 | C47: 医療法人浅井整形外科医院 | D47: 浅井整形外科医院 | E47: 浅井 龍彦 | F47: 33224 | G47: 985-0841 | H47: 多賀城市鶴ヶ谷二丁目18-1 | I47: (022)365-1811 | W47: ○ | AT47: =SUM(AU47:AV47) -> 0
A48: 46 | B48: 塩釜 | C48: 熊坂 久美子 | D48: 橋本皮膚科医院 | E48: 熊坂 久美子 | F48: 42758 | G48: 985-0841 | H48: 多賀城市鶴ヶ谷二丁目20-12 | I48: (022)364-8525 | AE48: ○ | AT48: =SUM(AU48:AV48) -> 0
A49: 47 | B49: 塩釜 | C49: 松下 真史 | D49: 多賀城腎・泌尿器クリニック | E49: 松下 真史 | F49: 40695 | G49: 985-0842 | H49: 多賀城市桜木一丁目1-20 | I49: (022)364-4335 | AF49: ○ | AT49: =SUM(AU49:AV49) -> 19 | AV49: 19
A50: 48 | B50: 塩釜 | C50: 国立大学法人東北大学 | D50: 東北大学東北メディカル・メガバンク機構地域支援多賀城センター | E50: 賽澤 篤 | F50: 41575 | G50: 985-0842 | H50: 多賀城市桜木三丁目４－１ | I50: (022)353-9331 | AS50: 臨床検査科 | AT50: =SUM(AU50:AV50) -> 0
A51: 49 | B51: 塩釜 | C51: 医療法人敬仁会遠藤医院 | D51: 遠藤マタニティクリニック | E51: 遠藤 和敬 | F51: 38573 | G51: 985-0845 | H51: 多賀城市町前二丁目2-8 | I51: (022)361-1230 | AJ51: ○ | AQ51: ○ | AT51: =SUM(AU51:AV51) -> 18 | AV51: 18
A52: 50 | B52: 塩釜 | C52: 医療法人山田憲一内科医院 | D52: 山田憲一内科医院 | E52: 山田怜奈 | F52: 34681 | G52: 985-0852 | H52: 多賀城市山王字中山王13-1 | I52: (022)368-2200 | J52: ○ | P52: ○ | AS52: 糖尿病内科 | AT52: =SUM(AU52:AV52) -> 0
A53: 51 | B53: 塩釜 | C53: 医療法人社団さとう整形外科クリニック | D53: さとう整形外科クリニック | E53: 佐藤 研 | F53: 35136 | G53: 985-0853 | H53: 多賀城市高橋一丁目4-13 | I53: (022)309-3050 | W53: ○ | AO53: ○ | AT53: =SUM(AU53:AV53) -> 0
A54: 52 | B54: 塩釜 | C54: 医療法人米地会 | D54: よねち内科クリニック | E54: 米地 真 | F54: 38169 | G54: 985-0853 | H54: 多賀城市高橋四丁目14-6 | I54: (022)389-1760 | J54: ○ | O54: ○ | R54: ○ | AT54: =SUM(AU54:AV54) -> 0
A55: 53 | B55: 塩釜 | C55: 社会福祉法人千賀の浦福祉会 | D55: 特別養護老人ホーム多賀城苑医務室 | E55: 黒沢 久三 | F55: 34843 | G55: 985-0853 | H55: 多賀城市高橋四丁目24-1 | I55: (022)309-3881 | J55: ○ | L55: ○ | AT55: =SUM(AU55:AV55) -> 0
A56: 54 | B56: 塩釜 | C56: 医療法人兀兀堂 | D56: コツコツクリニック多賀城整形外科 | E56: 田中 庸二 | F56: 43282 | G56: 985-0853 | H56: 多賀城市高橋四丁目20-5 | I56: (022)762-8806 | T56: ○ | W56: ○ | AO56: ○ | AT56: =SUM(AU56:AV56) -> 0
A57: 55 | B57: 塩釜 | C57: 医療法人卓敬会まえひらクリニック | D57: まえひらクリニック | E57: 真栄平 昇 | F57: 37785 | G57: 985-0853 | H57: 多賀城市高橋五丁目3-2 | I57: (022)389-2575 | J57: ○ | O57: ○ | S57: ○ | AT57: =SUM(AU57:AV57) -> 0
A58: 56 | B58: 塩釜 | C58: 大浪 英之 | D58: おおなみ眼科クリニック | E58: 大浪 英之 | F58: 42570 | G58: 985-0853 | H58: 多賀城市高橋五丁目3-5 | I58: (022)368-8805 | AL58: ○ | AT58: =SUM(AU58:AV58) -> 0
A59: 57 | B59: 塩釜 | C59: 石井 アケミ | D59: 石井小児科 | E59: 石井 アケミ | F59: 34625 | G59: 985-0862 | H59: 多賀城市高崎三丁目27-27 | I59: (022)368-8081 | J59: ○ | L59: ○ | U59: ○ | AT59: =SUM(AU59:AV59) -> 0
A60: 58 | B60: 塩釜 | C60: 石垣 五月 | D60: さざんか往診クリニック | E60: 石垣 五月 | F60: 41365 | G60: 985-0863 | H60: 多賀城市東田中2-2-3ベルステーションビル3B | I60: (022)353-6261 | O60: ○ | P60: ○ | R60: ○ | AT60: =SUM(AU60:AV60) -> 0
A61: 59 | B61: 塩釜 | C61: 善積 信介 | D61: よしづみ内科・糖尿病クリニック | E61: 善積 信介 | F61: 43348 | G61: 985-0863 | H61: 多賀城市東田中字志引85-1 | I61: (022)354-0231 | J61: ○ | AS61: 糖尿病内科、消化器内科
A62: 60 | B62: 塩釜 | C62: 一般社団法人あかざ | D62: 多賀城えきまえ皮膚科 | E62: 髙木 尚之 | F62: 44204 | G62: 985-0863 | H62: 多賀城市東田中二丁目40-32-105 | I62: (022)385-5745 | X62: ○ | AE62: ○
A63: 61 | B63: 塩釜 | C63: 医療法人ライヴズ | D63: じょうなんファミリークリニック | E63: 更科 広記 | F63: 41296 | G63: 985-0865 | H63: 多賀城市城南一丁目10-6 | I63: (022)781-7725 | J63: ○ | P63: ○ | U63: ○ | V63: ○ | AT63: =SUM(AU63:AV63) -> 0
A64: 62 | B64: 塩釜 | C64: 医療法人拓明会 | D64: 多賀城みやばやしキッズクリニック | E64: 宮林 拓矢 | F64: 44347 | G64: 985-0865 | H64: 多賀城市城南1丁目11番45号 | I64: (022)355-5415 | S64: ○ | U64: ○ | AT64: =SUM(AU64:AV64) -> 0
A65: 63 | B65: 塩釜 | C65: 鈴木 穣 | D65: 仙塩診療所 | E65: 鈴木 穣 | F65: 44862 | G65: 985-0872 | H65: 多賀城市伝上山一丁目5-5 | I65: (022)362-3003 | J65: ○ | O65: ○ | P65: ○ | R65: ○ | U65: ○ | AT65: =SUM(AU65:AV65) -> 0
A66: 64 | B66: 塩釜 | C66: 医療法人日和会 | D66: おだかクリニック | E66: 小鷹 日出夫 | F66: 38718 | G66: 985-0873 | H66: 多賀城市中央一丁目16-6 | I66: (022)309-4970 | J66: ○ | R66: ○ | AT66: =SUM(AU66:AV66) -> 0
A67: 65 | B67: 塩釜 | C67: 角田 和彦 | D67: かくたこども＆アレルギークリニック | E67: 角田 和彦 | F67: 38231 | G67: 985-0873 | H67: 多賀城市中央一丁目16-8 | I67: (022)368-7717 | S67: ○ | U67: ○ | AT67: =SUM(AU67:AV67) -> 0
A68: 66 | B68: 塩釜 | C68: 医療法人菅野愛生会 | D68: こころのクリニック みどりの風 | E68: 髙橋 秀正 | F68: 40057 | G68: 985-0873 | H68: 多賀城市中央三丁目10-5 | I68: (022)352-1580 | K68: ○ | L68: ○ | AT68: =SUM(AU68:AV68) -> 0
A69: 67 | B69: 塩釜 | C69: 医療法人社団多賀城アイクリニック | D69: 多賀城眼科 | E69: 渡辺 誠一 | F69: 33070 | G69: 985-0874 | H69: 多賀城市八幡二丁目16-41 | I69: (022)366-7439 | AL69: ○ | AT69: =SUM(AU69:AV69) -> 0 | AV69: 0
A70: 68 | B70: 塩釜 | C70: 今井 信行 | D70: 今井医院 | E70: 今井 信行 | F70: 34439 | G70: 985-0874 | H70: 多賀城市八幡二丁目12-70 | I70: (022)366-7337 | J70: ○ | Q70: ○ | U70: ○ | AT70: =SUM(AU70:AV70) -> 0
A71: 69 | B71: 塩釜 | C71: 医療法人社団関口内科胃腸科医院 | D71: 関口内科胃腸科医院 | E71: 関口 淳一 | F71: 33589 | G71: 985-0874 | H71: 多賀城市八幡三丁目5-9 | I71: (022)362-2668 | J71: ○ | Q71: ○ | AT71: 0 | AU71: 0 | AV71: 0
A72: 70 | B72: 塩釜 | C72: 医療法人社団高緩会 | D72: 神経科・多賀城メンタルクリニック | E72: 吉田 伯美 | F72: 37607 | G72: 985-0874 | H72: 多賀城市八幡三丁目6-21 我妻不動産第五ビル２Ｆ | I72: (022)367-9136 | J72: ○ | K72: ○ | L72: ○ | M72: ○ | AE72: ○ | AL72: ○ | AT72: =SUM(AU72:AV72) -> 0
A73: 71 | B73: 塩釜 | C73: 大井 聖幸 | D73: 大井耳鼻咽喉科 | E73: 大井 聖幸 | F73: 35747 | G73: 985-0874 | H73: 多賀城市八幡四丁目3-8 大井ｸﾘﾆｯｸﾋﾞﾙ１階 | I73: (022)366-4387 | AM73: ○ | AT73: =SUM(AU73:AV73) -> 0
A74: 72 | B74: 塩釜 | C74: 大井 知教 | D74: 大井皮膚科泌尿器科医院 | E74: 大井 知教 | F74: 35745 | G74: 985-0874 | H74: 多賀城市八幡四丁目3-8 大井ｸﾘﾆｯｸﾋﾞﾙ2階 | I74: (022)364-1312 | AE74: ○ | AF74: ○ | AT74: =SUM(AU74:AV74) -> 0
A75: 73 | B75: 塩釜 | C75: 医療法人社団邦友会 | D75: 小野寺記念たけなか医院 | E75: 竹中 由希夫 | F75: 36145 | G75: 981-0215 | H75: 松島町高城字町61 | I75: (022)354-2607 | J75: ○ | U75: ○ | AS75: 消化器内科 | AT75: =SUM(AU75:AV75) -> 0
A76: 74 | B76: 塩釜 | C76: 松島医療生活協同組合 | D76: 松島医療生活協同組合松島海岸診療所 | E76: 菅野 耀介 | F76: 26404 | G76: 981-0213 | H76: 松島町松島字普賢堂2-11 | I76: (022)354-3702 | J76: ○ | P76: ○ | R76: ○ | U76: ○ | AR76: ○ | AS76: 矯正歯科、小児歯科 | AT76: =SUM(AU76:AV76) -> 0
A77: 75 | B77: 塩釜 | C77: 医療法人社団中山クリニック | D77: 中山クリニック | E77: 田中 佳優 | F77: 33590 | G77: 981-0212 | H77: 松島町磯崎字磯崎2-8 | I77: (022)353-2333 | J77: ○ | U77: ○ | AS77: 人工透析内科、腎臓内科 | AT77: =SUM(AU77:AV77) -> 0
A78: 76 | B78: 塩釜 | C78: 社会福祉法人千賀の浦福祉会 | D78: 特別養護老人ホーム松島長松苑医務室 | E78: 片寄 大 | F78: 36941 | G78: 981-0203 | H78: 松島町根廻字上山王6-27 | I78: (022)355-1121 | J78: ○ | AT78: =SUM(AU78:AV78) -> 0
A79: 77 | B79: 塩釜 | C79: 鈴木寛寿 | D79: 鈴木診療所 | E79: 鈴木寛寿 | F79: 45529 | G79: 985-0824 | H79: 七ヶ浜町境山二丁目7-14 | I79: (022)364-5833 | J79: ○ | AT79: =SUM(AU79:AV79) -> 0
A80: 78 | B80: 塩釜 | C80: 社会福祉法人千賀の浦福祉会 | D80: 特別養護老人ホーム第二清楽苑医務室 | E80: 金 俊夫 | F80: 34107 | G80: 985-0803 | H80: 七ヶ浜町花渕浜字高山25-3 | I80: (022)357-6411 | J80: ○ | L80: ○ | AT80: =SUM(AU80:AV80) -> 0
A81: 79 | B81: 塩釜 | C81: 新田 晃久 | D81: 汐見台クリニック | E81: 新田 晃久 | F81: 42352 | G81: 985-0822 | H81: 七ヶ浜町汐見台南一丁目1-5 | I81: (022)357-5536 | J81: ○ | U81: ○ | AE81: ○ | AT81: =SUM(AU81:AV81) -> 0
A82: 80 | B82: 塩釜 | C82: 医療法人かしま田園クリニック | D82: かしま田園クリニック | E82: 鹿島 哲 | F82: 37785 | G82: 985-0812 | H82: 七ヶ浜町松ヶ浜字謡137-20 | I82: (022)357-7531 | J82: ○ | P82: ○ | U82: ○ | AT82: =SUM(AU82:AV82) -> 0
A83: 81 | B83: 塩釜 | C83: 社会福祉法人自生会 | D83: 介護老人福祉施設七ヶ浜自生苑医務室 | E83: 大越 崇彦 | F83: 41091 | G83: 985-0823 | H83: 七ヶ浜町遠山５丁目５番４５号 | I83: (022)355-7316 | J83: ○ | AT83: =SUM(AU83:AV83) -> 0
A84: 82 | B84: 塩釜 | C84: 社会福祉法人萩の里 | D84: 特別養護老人ホーム 壱ノ町医務室 | E84: 黒沢 久三 | F84: 41407 | G84: 981-0101 | H84: 利府町赤沼字大貝93-1 | I84: (022)356-5001 | J84: ○ | AT84: =SUM(AU84:AV84) -> 0
A85: 83 | B85: 塩釜 | C85: 社会福祉法人宮城厚生福祉会 | D85: 十符・風の音医務室 | E85: 小熊 信 | F85: 38446 | G85: 981-0101 | H85: 利府町葉山一丁目53 | I85: (022)767-3661 | J85: ○ | AT85: =SUM(AU85:AV85) -> 0
A86: 84 | B86: 塩釜 | C86: 医療法人社団喜英会 | D86: 加瀬クリニック | E86: 石田 智之 | F86: 37694 | G86: 981-0111 | H86: 利府町加瀬字北窪16-1 | I86: (022)349-1718 | J86: ○ | U86: ○ | V86: ○ | AE86: ○ | AT86: =SUM(AU86:AV86) -> 0
A87: 85 | B87: 塩釜 | C87: 医療法人社団幸曜会宮田利府クリニック | D87: りふの内科クリニック | E87: 宮田 正弘 | F87: 42436 | G87: 981-0112 | H87: 利府町新中道二丁目1-2 | I87: (022)356-8200 | J87: ○ | AS87: 人工透析内科、糖尿病内科、腎臓内科 | AT87: =SUM(AU87:AV87) -> 19 | AU87: 17 | AV87: 2
A88: 86 | B88: 塩釜 | C88: 医療法人慈裕会ゆうファミリークリニック | D88: ゆうファミリークリニック | E88: 高橋 裕一 | F88: 39083 | G88: 981-0112 | H88: 利府町利府字新館2-5 | I88: (022)766-4141 | J88: ○ | S88: ○ | T88: ○ | AO88: ○ | AT88: =SUM(AU88:AV88) -> 0
A89: 87 | B89: 塩釜 | C89: 油井 一敬 | D89: 利府アイクリニック | E89: 油井 一敬 | F89: 44228 | G89: 981-0114 | H89: 利府町新中道三丁目１－１ イオンモール新利府南館２階 ２０２７B | I89: (022)385-6207 | AL89: ○
A90: 88 | B90: 塩釜 | C90: 医療法人泰山会 | D90: 神谷沢内科クリニック | E90: 岩本 宗泰 | F90: 37606 | G90: 981-0121 | H90: 利府町神谷沢字塚元36-1 | I90: (022)255-3151 | J90: ○ | T90: ○ | U90: ○ | AT90: =SUM(AU90:AV90) -> 0
A91: 89 | B91: 塩釜 | C91: 医療法人社団にしむら整形外科 | D91: にしむら整形外科 | E91: 西村 和也 | F91: 35047 | G91: 981-0123 | H91: 利府町沢乙字寺下2-1 | I91: (022)356-7007 | W91: ○ | AO91: ○ | AT91: =SUM(AU91:AV91) -> 0
A92: 90 | B92: 塩釜 | C92: 医療法人社団俊仁会 | D92: ウィメンズクリニック利府 | E92: 涌坂 俊明 | F92: 38169 | G92: 981-0123 | H92: 利府町澤乙字寺下32-1 | I92: (022)349-0678 | AI92: ○ | AQ92: ○ | AT92: =SUM(AU92:AV92) -> 19 | AV92: 19
A93: 91 | B93: 塩釜 | C93: 志賀 伸之 | D93: せせらぎ耳鼻科 | E93: 志賀 伸之 | F93: 37449 | G93: 981-0123 | H93: 利府町沢乙字新北橋87-1 | I93: (022)767-8741 | S93: ○ | AM93: ○ | AT93: =SUM(AU93:AV93) -> 0
A94: 92 | B94: 塩釜 | C94: 医療法人さわおとクリニック | D94: さわおとクリニック | E94: 藤原 竹彦 | F94: 40547 | G94: 981-0123 | H94: 利府町沢乙東1-12 | I94: (022)767-7444 | J94: ○ | AP94: ○ | AT94: =SUM(AU94:AV94) -> 0
A95: 93 | B95: 塩釜 | C95: 髙田 修 | D95: たかだこども医院 | E95: 髙田 修 | F95: 35684 | G95: 981-0123 | H95: 利府町沢乙東1-14 | I95: (022)767-6555 | U95: ○ | AT95: =SUM(AU95:AV95) -> 0
A96: 94 | B96: 塩釜 | C96: 安井 朝輝 | D96: やすい眼科 | E96: 安井 朝輝 | F96: 36586 | G96: 981-0132 | H96: 利府町花園一丁目201-2 | I96: (022)767-4146 | AL96: ○ | AT96: =SUM(AU96:AV96) -> 4 | AV96: 4
A97: 95 | B97: 塩釜 | C97: 林 義峰 | D97: 青葉台クリニック | E97: 林 義峰 | F97: 33191 | G97: 981-0133 | H97: 利府町青葉台三丁目1-78 | I97: (022)356-6757 | J97: ○ | P97: ○ | U97: ○ | AE97: ○ | AO97: ○ | AT97: =SUM(AU97:AV97) -> 0
A98: 96 | B98: 塩釜 | C98: 鈴木 敏幸 | D98: しらかし台医院 | E98: 鈴木 敏幸 | F98: 33192 | G98: 981-0134 | H98: 利府町しらかし台二丁目12-1 | I98: (022)356-6681 | J98: ○ | U98: ○ | AT98: =SUM(AU98:AV98) -> 0
A99: 97 | B99: 塩釜 | C99: 医療法人社団鈴村眼科 | D99: すずむら眼科 | E99: 鈴村 幸史 | F99: 43948 | G99: 981-1227 | H99: 名取市杜せきのした二丁目6-5 | I99: (022)341-6288 | AL99: ○
A100: 98 | B100: 塩釜 | C100: 医療法人社団 さくら慈愛会 | D100: 名取さくらみらい眼科 | E100: 矢花 武史 | F100: 44044 | G100: 981-1294 | H100: 名取市杜せきのした五丁目3-1 イオンモール名取１階 | I100: (022)796-9889 | AL100: ○
...

Sheet 北部（大崎・栗原）
A1: № | B1: 保健所 | C1: 開設者名 | D1: 診療所名 | E1: 管理者名 | F1: 開設年月日 | G1: 郵便番号 | H1: 所在地 | I1: 電話番号 | J1: 診 療 科 目 | AT1: 病床数 | AW1: 摘要
J2: 内科 | K2: 心療内科 | L2: 精神科 | M2: 神経科 | N2: 神経内科 | O2: 呼吸器科 | P2: 消化器科 | Q2: 胃腸科 | R2: 循環器科 | S2: アレルギー科 | T2: リウマチ科 | U2: 小児科 | V2: 外科 | W2: 整形外科 | X2: 形成外科 | Y2: 美容外科 | Z2: 脳神経外科 | AA2: 呼吸器外科 | AB2: 心臓血管外科 | AC2: 小児外科 | AD2: 皮膚泌尿器科 | AE2: 皮膚科 | AF2: 泌尿器科 | AG2: 性病科 | AH2: こう門科 | AI2: 産婦人科 | AJ2: 産科 | AK2: 婦人科 | AL2: 眼科 | AM2: 耳鼻咽喉科 | AN2: 気管食道科 | AO2: リハビリテーション科 | AP2: 放射線科 | AQ2: 麻酔科 | AR2: 歯科 | AS2: その他の科目 | AT2: 合 計 | AU2: 療養 | AV2: 一般
A3: 1 | B3: 大崎 | C3: 医療法人而成会 | D3: 大崎ミッドタウン総合メディケアクリニック | E3: 中村 政彦 | F3: 40940 | G3: 987-1303 | H3: 大崎市松山金谷字中田76番1 | I3: 0229-55-3349 | J3: ○ | P3: ○ | W3: ○ | AL3: ○ | AM3: ○ | AO3: ○ | AR3: ○ | AS3: 人工透析内科 | AT3: 19 | AV3: 19
A4: 2 | B4: 大崎 | C4: 医療法人社団 虹泉会 | D4: 大崎東部クリニック | E4: 村田 慶一 | F4: 39083 | G4: 987-1303 | H4: 大崎市松山金谷字中田８３ | I4: （0229）55-2511 | J4: ○ | K4: 0 | L4: 0 | M4: 0 | N4: 0 | O4: ○ | P4: ○ | Q4: 0 | R4: ○ | T4: 0 | V4: 0 | W4: 0 | X4: 0 | Y4: 0 | Z4: 0 | AA4: 0 | AB4: 0 | AC4: 0 | AD4: 0 | AE4: 0 | AF4: 0 | AG4: 0 | AH4: 0 | AI4: 0 | AJ4: 0 | AK4: 0 | AL4: 0 | AM4: 0 | AN4: 0 | AO4: 0 | AP4: 0 | AQ4: 0 | AR4: 0 | AT4: 0 | AU4: 0 | AV4: 0 | AW4: 0
A5: 3 | B5: 大崎 | C5: 渡辺 孝紀 | D5: わたなべ産婦人科 内科・小児科 | E5: 渡辺 孝紀 | F5: 31048 | G5: 987-1304 | H5: 大崎市松山千石字松山４４０ | I5: 0229-55-3535 | J5: ○ | U5: ○ | AI5: ○ | AS5: 女性内科 | AT5: 5 | AV5: 5
A6: 4 | B6: 大崎 | C6: 諏訪 信彦 | D6: かしまだい中央眼科 | E6: 諏訪 信彦 | F6: 42826 | G6: 989-4102 | H6: 大崎市鹿島台木間塚字小谷地３８３番地５ | I6: （0229）56-6111 | J6: 0 | K6: 0 | L6: 0 | M6: 0 | N6: 0 | O6: 0 | P6: 0 | Q6: 0 | R6: 0 | S6: 0 | T6: 0 | U6: 0 | V6: 0 | W6: 0 | X6: 0 | Y6: 0 | Z6: 0 | AA6: 0 | AB6: 0 | AC6: 0 | AD6: 0 | AE6: 0 | AF6: 0 | AG6: 0 | AH6: 0 | AI6: 0 | AJ6: 0 | AK6: 0 | AL6: ○ | AM6: 0 | AN6: 0 | AO6: 0 | AP6: 0 | AQ6: 0 | AR6: 0 | AT6: 0 | AU6: 0 | AV6: 0 | AW6: 0
A7: 5 | B7: 大崎 | C7: 医療法人佐久間内科医院 | D7: 佐久間内科医院 | E7: 佐久間 雅文 | F7: 34700 | G7: 989-4103 | H7: 大崎市鹿島台平渡字新屋敷下８７－１ | I7: （0229）56-3700 | J7: ○ | K7: 0 | L7: 0 | M7: 0 | N7: 0 | O7: ○ | P7: ○ | Q7: 0 | R7: ○ | S7: 0 | T7: 0 | U7: 0 | V7: 0 | W7: 0 | X7: 0 | Y7: 0 | Z7: 0 | AA7: 0 | AB7: 0 | AC7: 0 | AD7: 0 | AE7: 0 | AF7: 0 | AG7: 0 | AH7: 0 | AI7: 0 | AJ7: 0 | AK7: 0 | AL7: 0 | AM7: 0 | AN7: 0 | AO7: 0 | AP7: 0 | AQ7: 0 | AR7: 0 | AT7: 0 | AU7: 0 | AV7: 0 | AW7: 0
A8: 6 | B8: 大崎 | C8: 社会福祉法人大崎市社会福祉協議会 | D8: 敬風園診療所 | E8: 伊藤 和生 | F8: 38899 | G8: 989-4103 | H8: 大崎市鹿島台平渡字上敷１９－７ | I8: （0229）56-9400 | J8: ○ | K8: 0 | L8: ○ | M8: 0 | N8: 0 | O8: 0 | P8: 0 | Q8: 0 | R8: 0 | S8: 0 | T8: 0 | U8: 0 | V8: 0 | W8: 0 | X8: 0 | Y8: 0 | Z8: 0 | AA8: 0 | AB8: 0 | AC8: 0 | AD8: 0 | AE8: 0 | AF8: 0 | AG8: 0 | AH8: 0 | AI8: 0 | AJ8: 0 | AK8: 0 | AL8: 0 | AM8: 0 | AN8: 0 | AO8: 0 | AP8: 0 | AQ8: 0 | AR8: 0 | AT8: 0 | AU8: 0 | AV8: 0
A9: 7 | B9: 大崎 | C9: 医療法人広伸会 渡辺皮フ科クリニック | D9: わたなべ皮フ科クリニック | E9: 渡邉 将也 | F9: 41645 | G9: 989-4103 | H9: 大崎市鹿島台平渡字巳待田４３０番地の１ | I9: （0229）56-6215 | J9: 0 | K9: 0 | L9: 0 | M9: 0 | N9: 0 | O9: 0 | P9: 0 | Q9: 0 | R9: 0 | S9: 0 | T9: 0 | U9: 0 | V9: 0 | W9: 0 | X9: 0 | Y9: 0 | Z9: 0 | AA9: 0 | AB9: 0 | AC9: 0 | AD9: 0 | AE9: ○ | AF9: 0 | AG9: 0 | AH9: 0 | AI9: 0 | AJ9: 0 | AK9: 0 | AL9: 0 | AM9: 0 | AN9: 0 | AO9: 0 | AP9: 0 | AQ9: 0 | AR9: 0 | AT9: 0 | AU9: 0 | AV9: 0
A10: 8 | B10: 大崎 | C10: 医療法人社団明和会 | D10: たじり中央クリニック | E10: 佐藤 茂幸 | F10: 34151 | G10: 989-4308 | H10: 大崎市田尻沼部字新富岡３１－７ | I10: （0229）39-7955 | J10: ○ | K10: 0 | L10: 0 | M10: 0 | N10: 0 | O10: ○ | P10: 0 | Q10: ○ | R10: ○ | S10: 0 | T10: 0 | U10: ○ | V10: 0 | W10: ○ | X10: 0 | Y10: 0 | Z10: 0 | AA10: 0 | AB10: 0 | AC10: 0 | AD10: 0 | AE10: 0 | AF10: 0 | AG10: 0 | AH10: 0 | AI10: 0 | AJ10: 0 | AK10: 0 | AL10: 0 | AM10: 0 | AN10: 0 | AO10: ○ | AP10: ○ | AQ10: 0 | AR10: 0 | AT10: 0 | AU10: 0 | AV10: 0 | AW10: 0
A11: 9 | B11: 大崎 | C11: 社会福祉法人田尻福祉会 | D11: 特別養護老人ホーム「かごぼうの里」医務室 | E11: 南 尚義 | F11: 35905 | G11: 989-4413 | H11: 大崎市田尻通木字中崎東２４番地２ | I11: （0229）38-1203 | J11: ○ | K11: 0 | L11: 0 | M11: 0 | N11: 0 | O11: 0 | P11: 0 | Q11: 0 | R11: 0 | S11: 0 | T11: 0 | U11: 0 | V11: 0 | W11: 0 | X11: 0 | Y11: 0 | Z11: 0 | AA11: 0 | AB11: 0 | AC11: 0 | AD11: 0 | AE11: 0 | AF11: 0 | AG11: 0 | AH11: 0 | AI11: 0 | AJ11: 0 | AK11: 0 | AL11: 0 | AM11: 0 | AN11: 0 | AO11: 0 | AP11: 0 | AQ11: 0 | AR11: 0 | AT11: 0 | AU11: 0 | AV11: 0 | AW11: 0
A12: 10 | B12: 大崎 | C12: 大崎市 | D12: 大崎市民病院田尻診療所 | E12: 南 尚義 | F12: 35506 | G12: 989-4413 | H12: 大崎市田尻通木字中崎東１０－１ | I12: （0229）38-1152 | J12: ○ | K12: 0 | L12: 0 | M12: 0 | O12: 0 | P12: 0 | Q12: 0 | R12: 0 | S12: 0 | T12: 0 | U12: 0 | V12: 0 | W12: 0 | X12: 0 | Y12: 0 | Z12: 0 | AA12: 0 | AB12: 0 | AC12: 0 | AD12: 0 | AE12: 0 | AF12: 0 | AG12: 0 | AH12: 0 | AI12: 0 | AJ12: 0 | AK12: 0 | AL12: ○ | AM12: ○ | AN12: 0 | AO12: 0 | AP12: 0 | AQ12: 0 | AR12: 0 | AS12: 脳神経内科 | AT12: 0 | AU12: 0 | AV12: 0 | AW12: 0
A13: 11 | B13: 大崎 | C13: 医療法人社団天野内科クリニック | D13: 天野内科クリニック | E13: 天野 良彦 | F13: 33065 | G13: 989-4414 | H13: 大崎市田尻北牧目字新堀４６－８ | I13: （0229）39-1233 | J13: ○ | K13: 0 | L13: 0 | M13: 0 | N13: 0 | O13: 0 | P13: 0 | Q13: 0 | R13: 0 | S13: 0 | T13: 0 | U13: ○ | V13: 0 | W13: 0 | X13: 0 | Y13: 0 | Z13: 0 | AA13: 0 | AB13: 0 | AC13: 0 | AD13: 0 | AE13: 0 | AF13: 0 | AG13: 0 | AH13: 0 | AI13: 0 | AJ13: 0 | AK13: 0 | AL13: 0 | AM13: 0 | AN13: 0 | AO13: 0 | AP13: 0 | AQ13: 0 | AR13: 0 | AS13: 消化器内科 | AT13: 0 | AU13: 0 | AV13: 0
A14: 12 | B14: 大崎 | C14: 社会福祉法人悠悠会 | D14: 地域密着型特別養護老人ホーム悠縁内診療所 | E14: 中田 茂和 | F14: 43186 | G14: 989-4415 | H14: 大崎市田尻字御蔵１１番地１ | I14: 0229-87-5120 | J14: ○
A15: 13 | B15: 大崎 | C15: 医療法人星眼科医院 | D15: 医療法人星眼科医院 | E15: 星 秀二 | F15: 36143 | G15: 989-6102 | H15: 大崎市古川江合本町二丁目４－３１ | I15: （0229）22-7220 | J15: 0 | K15: 0 | L15: 0 | M15: 0 | N15: 0 | O15: 0 | P15: 0 | Q15: 0 | R15: 0 | S15: 0 | T15: 0 | U15: 0 | V15: 0 | W15: 0 | X15: 0 | Y15: 0 | Z15: 0 | AA15: 0 | AB15: 0 | AC15: 0 | AD15: 0 | AE15: 0 | AF15: 0 | AG15: 0 | AH15: 0 | AI15: 0 | AJ15: 0 | AK15: 0 | AL15: ○ | AM15: 0 | AN15: 0 | AO15: 0 | AP15: 0 | AQ15: 0 | AR15: 0 | AT15: 5 | AU15: 0 | AV15: 5 | AW15: 0
A16: 14 | B16: 大崎 | C16: 医療法人青翔会 | D16: 北みやぎ外科クリニック | E16: 廣澤 貴志 | F16: 32678 | G16: 989-6106 | H16: 大崎市古川幸町一丁目７－２０ | I16: （0229）23-8152 | J16: 0 | K16: 0 | L16: 0 | M16: 0 | N16: 0 | O16: 0 | P16: 0 | AF16: 0 | AG16: 0 | AI16: 0 | AJ16: 0 | AK16: 0 | AL16: 0 | AM16: 0 | AN16: 0 | AO16: 0 | AP16: 0 | AQ16: ○ | AR16: 0 | AS16: こう門外科 | AT16: 15 | AU16: 0 | AV16: 15
A17: 15 | B17: 大崎 | C17: 医療法人社団やまと | D17: やまと在宅診療所大崎 | E17: 辻 薫菜子 | F17: 45870 | G17: 989-6115 | H17: 大崎市古川駅東一丁目５番１３号 | I17: 0229-91-8981 | J17: ○ | V17: ○
A18: 16 | B18: 大崎 | C18: 医療法人英正会 関井レディースクリニック | D18: 医療法人英正会 関井レディースクリニック | E18: 関井 英高 | F18: 41640 | G18: 989-6115 | H18: 大崎市古川駅東二丁目10－31 | I18: （0229）21-3666 | J18: 0 | K18: 0 | L18: 0 | M18: 0 | N18: 0 | O18: 0 | P18: 0 | Q18: 0 | R18: 0 | S18: 0 | T18: 0 | U18: 0 | V18: 0 | W18: 0 | X18: 0 | Y18: 0 | Z18: 0 | AA18: 0 | AB18: 0 | AC18: 0 | AD18: 0 | AE18: 0 | AF18: 0 | AG18: 0 | AH18: 0 | AI18: ○ | AJ18: 0 | AK18: 0 | AL18: 0 | AM18: 0 | AN18: 0 | AO18: 0 | AP18: 0 | AQ18: ○ | AR18: 0 | AT18: 19 | AU18: 0 | AV18: 19
A19: 17 | B19: 大崎 | C19: 医療法人 泰智会 | D19: みやざき内科クリニック | E19: 宮崎 泰輔 | F19: 46127 | G19: 989-6115 | H19: 大崎市古川旭3丁目7-15 | I19: 0229-25-9330 | J19: ○ | S19: ○ | AS19: 循環器内科、消化器内科、呼吸器内科 | AT19: 0
A20: 18 | B20: 大崎 | C20: 佐野 敬一 | D20: さの整形外科クリニック | E20: 佐野 敬一 | F20: 41155 | G20: 989-6115 | H20: 大崎市古川駅東３丁目４番２４号 | I20: 0229-87-5820 | T20: ○ | W20: ○ | AO20: ○
A21: 19 | B21: 大崎 | C21: 鈴木 豪 | D21: すずき脳神経外科クリニック | E21: 鈴木 豪 | F21: 38810 | G21: 989-6116 | H21: 大崎市古川季埣一丁目１－２３ | I21: （0229）24-3770 | J21: 0 | K21: 0 | L21: 0 | M21: 0 | N21: ○ | O21: 0 | P21: 0 | Q21: 0 | R21: 0 | S21: 0 | T21: 0 | U21: 0 | V21: 0 | W21: 0 | X21: 0 | Y21: 0 | Z21: ○ | AA21: 0 | AB21: 0 | AC21: 0 | AD21: 0 | AE21: 0 | AF21: 0 | AG21: 0 | AH21: 0 | AI21: 0 | AJ21: 0 | AK21: 0 | AL21: 0 | AM21: 0 | AN21: 0 | AO21: ○ | AP21: 0 | AQ21: 0 | AR21: 0 | AT21: 0 | AU21: 0 | AV21: 0 | AW21: 0
A22: 20 | B22: 大崎 | C22: 宮城県 | D22: 宮城県大崎保健所 | E22: 野上 慶彦 | F22: 14009 | G22: 989-6117 | H22: 大崎市古川旭四丁目１番１号 | I22: （0229）91-0707 | J22: ○ | K22: 0 | L22: 0 | M22: 0 | N22: 0 | O22: 0 | P22: 0 | Q22: 0 | R22: 0 | S22: 0 | T22: 0 | U22: 0 | V22: 0 | W22: 0 | X22: 0 | Y22: 0 | Z22: 0 | AA22: 0 | AB22: 0 | AC22: 0 | AD22: 0 | AE22: 0 | AF22: 0 | AG22: 0 | AH22: 0 | AI22: 0 | AJ22: 0 | AK22: 0 | AL22: 0 | AM22: 0 | AN22: 0 | AO22: 0 | AP22: 0 | AQ22: 0 | AR22: 0 | AT22: 0 | AU22: 0 | AV22: 0 | AW22: 0
A23: 21 | B23: 大崎 | C23: 宮城県 | D23: 宮城県精神保健福祉センター附属診療所 | E23: 小原 聡子 | F23: 36959 | G23: 989-6117 | H23: 大崎市古川旭五丁目７－２０ | I23: （0229）23-0021 | J23: 0 | K23: 0 | L23: ○ | M23: ○ | N23: 0 | O23: 0 | P23: 0 | Q23: 0 | R23: 0 | S23: 0 | T23: 0 | U23: 0 | V23: 0 | W23: 0 | X23: 0 | Y23: 0 | Z23: 0 | AA23: 0 | AB23: 0 | AC23: 0 | AD23: 0 | AE23: 0 | AF23: 0 | AG23: 0 | AH23: 0 | AI23: 0 | AJ23: 0 | AK23: 0 | AL23: 0 | AM23: 0 | AN23: 0 | AO23: 0 | AP23: 0 | AQ23: 0 | AR23: 0 | AT23: 0 | AU23: 0 | AV23: 0 | AW23: 0
A24: 22 | B24: 大崎 | C24: 社会福祉法人大崎福祉会 | D24: 特別養護老人ホーム大崎ホーム内診療所 | E24: 片倉 康喜 | F24: 29819 | G24: 989-6123 | H24: 大崎市古川下中目字赤山廻５１ | I24: （0229）23-9831 | J24: ○ | K24: 0 | L24: 0 | M24: 0 | N24: 0 | O24: 0 | P24: 0 | Q24: 0 | R24: 0 | S24: 0 | T24: 0 | U24: 0 | V24: 0 | W24: 0 | X24: 0 | Y24: 0 | Z24: 0 | AA24: 0 | AB24: 0 | AC24: 0 | AD24: 0 | AE24: 0 | AF24: 0 | AG24: 0 | AH24: 0 | AI24: 0 | AJ24: 0 | AK24: 0 | AL24: 0 | AM24: 0 | AN24: 0 | AO24: 0 | AP24: 0 | AQ24: 0 | AR24: 0 | AT24: 0 | AU24: 0 | AV24: 0
A25: 23 | B25: 大崎 | C25: 社会福祉法人ウィンズライフ | D25: 特別養護老人ホームいろは 医務室 | E25: 新川 光俊 | F25: 42046 | G25: 989-6135 | H25: 大崎市古川稲葉２丁目４番２２号 | I25: 0229-25-5200 | J25: ○
A26: 24 | B26: 大崎 | C26: 医療法人心の郷 | D26: 穂波の郷クリニック | E26: 三浦 正悦 | F26: 39273 | G26: 989-6136 | H26: 大崎市古川穂波六丁目３０－１２ | I26: （0229）24-3880 | J26: ○ | K26: 0 | L26: 0 | M26: 0 | N26: 0 | O26: ○ | P26: 0 | Q26: 0 | R26: ○ | S26: 0 | T26: 0 | U26: 0 | V26: 0 | W26: 0 | X26: 0 | Y26: 0 | Z26: 0 | AA26: 0 | AB26: 0 | AC26: 0 | AD26: 0 | AE26: 0 | AF26: 0 | AG26: 0 | AH26: 0 | AI26: 0 | AJ26: 0 | AK26: 0 | AL26: 0 | AM26: 0 | AN26: 0 | AO26: ○ | AP26: 0 | AQ26: 0 | AR26: 0 | AT26: 0 | AU26: 0 | AV26: 0 | AW26: 0
A27: 25 | B27: 大崎 | C27: 尾花 伸哉 | D27: 尾花内科クリニック | E27: 尾花 伸哉 | F27: 42979 | G27: 989-6142 | H27: 大崎市古川中島町2番39号 | I27: 0229-21-0087 | J27: ○ | AS27: 消化器内科
A28: 26 | B28: 大崎 | C28: 医療法人 髙橋医院 | D28: 髙橋医院 | E28: 髙橋 望 | F28: 42370 | G28: 989-6143 | H28: 大崎市古川中里二丁目２－２５ | I28: （0229）22-0791 | J28: ○ | K28: 0 | L28: 0 | AS28: 循環器内科 | AU28: 0
A29: 27 | B29: 大崎 | C29: 佐藤 荘太郎 | D29: さとう内科循環器科医院 | E29: 佐藤 荘太郎 | F29: 35855 | G29: 989-6143 | H29: 大崎市古川中里三丁目１１－５９ | I29: （0229）23-0006 | J29: ○ | AS29: 呼吸器内科、循環器内科、消化器内科、糖尿病内科、感染症内科 | AT29: 0 | AU29: 0 | AV29: 0 | AW29: 0
A30: 28 | B30: 大崎 | C30: 早坂 弘司 | D30: 早坂整形外科 | E30: 早坂 弘司 | F30: 39569 | G30: 989-6145 | H30: 大崎市古川北稲葉１－２－２５ | I30: （0229）21-9100 | J30: 0 | K30: 0 | L30: 0 | M30: 0 | N30: 0 | O30: 0 | P30: 0 | Q30: 0 | R30: 0 | S30: 0 | T30: ○ | U30: 0 | V30: 0 | W30: ○ | X30: 0 | Y30: 0 | Z30: 0 | AA30: 0 | AB30: 0 | AC30: 0 | AD30: 0 | AE30: 0 | AF30: 0 | AG30: 0 | AH30: 0 | AI30: 0 | AJ30: 0 | AK30: 0 | AL30: 0 | AM30: 0 | AN30: 0 | AO30: ○ | AP30: 0 | AQ30: 0 | AR30: 0 | AT30: 0 | AU30: 0 | AV30: 0 | AW30: 0
A31: 29 | B31: 大崎 | C31: 医療法人社団宮里クリニック | D31: 宮里クリニック | E31: 宮里 真一 | F31: 37242 | G31: 989-6151 | H31: 大崎市古川城西二丁目６－２４ | I31: （0229）23-7529 | J31: ○ | AP31: 0 | AQ31: 0 | AR31: 0 | AS31: 消化器内科 | AT31: 0 | AU31: 0 | AV31: 0
A32: 30 | B32: 大崎 | C32: 長井 麻衣子 | D32: 長井内科医院 | E32: 長井 麻衣子 | F32: 41979 | G32: 989-6154 | H32: 大崎市古川三日町一丁目３－２５ | I32: （0229）91-1020 | J32: ○ | K32: 0 | L32: 0 | M32: 0 | N32: 0 | O32: ○ | P32: 0 | Q32: ○ | R32: ○ | S32: ○ | T32: 0 | U32: ○ | V32: 0 | W32: 0 | X32: 0 | Y32: 0 | Z32: 0 | AA32: 0 | AB32: 0 | AC32: 0 | AD32: 0 | AE32: 0 | AF32: 0 | AG32: 0 | AH32: 0 | AI32: 0 | AJ32: 0 | AK32: 0 | AL32: 0 | AM32: 0 | AN32: 0 | AO32: 0 | AP32: 0 | AQ32: 0 | AR32: 0 | AT32: 0 | AU32: 0 | AV32: 0 | AW32: 0
A33: 31 | B33: 大崎 | C33: 鈴木知子 | D33: 熊谷皮ふ科 | E33: 鈴木 知子 | F33: 41365 | G33: 989-6154 | H33: 大崎市古川三日町二丁目１－２ | I33: （0229）24-2416 | J33: 0 | K33: 0 | L33: 0 | M33: 0 | N33: 0 | O33: 0 | P33: 0 | Q33: 0 | R33: 0 | S33: 0 | T33: 0 | U33: 0 | V33: 0 | W33: 0 | X33: 0 | Y33: 0 | Z33: 0 | AA33: 0 | AB33: 0 | AC33: 0 | AD33: 0 | AE33: ○ | AF33: 0 | AG33: 0 | AH33: 0 | AI33: 0 | AJ33: 0 | AK33: 0 | AL33: ○ | AM33: 0 | AN33: 0 | AO33: 0 | AP33: 0 | AQ33: 0 | AR33: 0 | AT33: 0 | AU33: 0 | AV33: 0
A34: 32 | B34: 大崎 | C34: 鴇田 俊一 | D34: 鴇田整形外科医院 | E34: 鴇田 俊一 | F34: 35078 | G34: 989-6155 | H34: 大崎市古川南町一丁目６－３１ | I34: （0229）22-0887 | J34: 0 | K34: 0 | L34: 0 | M34: 0 | N34: 0 | O34: 0 | P34: 0 | Q34: 0 | R34: 0 | S34: 0 | T34: 0 | U34: 0 | V34: 0 | W34: ○ | X34: 0 | Y34: 0 | Z34: 0 | AA34: 0 | AB34: 0 | AC34: 0 | AD34: 0 | AE34: 0 | AF34: 0 | AG34: 0 | AH34: 0 | AI34: 0 | AJ34: 0 | AK34: 0 | AL34: 0 | AM34: 0 | AN34: 0 | AO34: ○ | AP34: 0 | AQ34: 0 | AR34: 0 | AT34: 0 | AU34: 0 | AV34: 0
A35: 33 | B35: 大崎 | C35: 医療法人遠藤皮膚科医院 | D35: 医療法人遠藤皮膚科医院 | E35: 遠藤 幸紀 | F35: 32678 | G35: 989-6155 | H35: 大崎市古川南町三丁目６－３８ | I35: （0229）23-5320 | J35: 0 | K35: 0 | L35: 0 | M35: 0 | N35: 0 | O35: 0 | P35: 0 | Q35: 0 | R35: 0 | S35: 0 | T35: 0 | U35: 0 | V35: 0 | W35: 0 | X35: 0 | Y35: 0 | Z35: 0 | AA35: 0 | AB35: 0 | AC35: 0 | AD35: 0 | AE35: ○ | AF35: 0 | AG35: 0 | AH35: 0 | AI35: 0 | AJ35: 0 | AK35: 0 | AL35: 0 | AM35: 0 | AN35: 0 | AO35: 0 | AP35: 0 | AQ35: 0 | AR35: 0 | AT35: 0 | AU35: 0 | AV35: 0 | AW35: 0
A36: 34 | B36: 大崎 | C36: 医療法人誠歯会斎藤歯科医院 | D36: さいとう耳鼻咽喉科クリニック | E36: 齋藤 雄太郎 | F36: 46296 | G36: 989-6155 | H36: 大崎市古川南町四丁目１－２３ | I36: （0229）24-3314 | J36: 0 | K36: 0 | L36: 0 | M36: 0 | N36: 0 | O36: 0 | P36: 0 | Q36: 0 | R36: 0 | S36: 0 | T36: 0 | U36: 0 | V36: 0 | W36: 0 | X36: 0 | Y36: 0 | Z36: 0 | AA36: 0 | AB36: 0 | AC36: 0 | AD36: 0 | AE36: 0 | AF36: 0 | AG36: 0 | AH36: 0 | AI36: 0 | AJ36: 0 | AK36: 0 | AL36: 0 | AM36: ○ | AN36: 0 | AO36: 0 | AP36: 0 | AQ36: 0 | AR36: 0 | AT36: 0 | AU36: 0 | AV36: 0 | AW36: 0
A37: 35 | B37: 大崎 | C37: 医療法人 清仁会 | D37: 医療法人清仁会 古川クリニック | E37: 増田 高行 | F37: 38749 | G37: 989-6156 | H37: 大崎市古川西館３丁目３－２ | I37: （0229）91-9119 | J37: ○ | K37: 0 | L37: 0 | M37: 0 | N37: 0 | O37: 0 | P37: 0 | Q37: 0 | R37: ○ | S37: 0 | T37: 0 | U37: 0 | V37: 0 | W37: 0 | X37: 0 | Y37: 0 | Z37: 0 | AA37: 0 | AB37: 0 | AC37: 0 | AD37: 0 | AE37: 0 | AF37: 0 | AG37: 0 | AH37: 0 | AI37: 0 | AJ37: 0 | AK37: 0 | AL37: 0 | AM37: 0 | AN37: 0 | AO37: 0 | AP37: 0 | AQ37: 0 | AR37: 0 | AT37: 0 | AU37: 0 | AV37: 0
A38: 36 | B38: 大崎 | C38: 佐竹 順一 | D38: 古川駅南耳鼻咽喉科 | E38: 佐竹 順一 | F38: 36173 | G38: 989-6161 | H38: 大崎市古川駅南一丁目８－１ | I38: （0229）91-8741 | J38: 0 | K38: 0 | L38: 0 | M38: 0 | N38: 0 | O38: 0 | P38: 0 | Q38: 0 | R38: 0 | S38: ○ | T38: 0 | U38: 0 | V38: 0 | W38: 0 | X38: 0 | Y38: 0 | Z38: 0 | AA38: 0 | AB38: 0 | AC38: 0 | AD38: 0 | AE38: 0 | AF38: 0 | AG38: 0 | AH38: 0 | AI38: 0 | AJ38: 0 | AK38: 0 | AL38: 0 | AM38: ○ | AN38: 0 | AO38: 0 | AP38: 0 | AR38: 0 | AT38: 0 | AU38: 0 | AV38: 0 | AW38: 0
A39: 37 | B39: 大崎 | C39: 医療法人社団 遊心会 | D39: こだしろクリニック | E39: 小田代 司 | F39: 39295 | G39: 989-6161 | H39: 大崎市古川駅南一丁目２７ | I39: （0229）21-8577 | J39: ○ | K39: ○ | L39: ○ | M39: ○ | N39: 0 | O39: 0 | P39: 0 | Q39: 0 | R39: 0 | S39: 0 | T39: 0 | U39: 0 | V39: 0 | W39: 0 | X39: 0 | Y39: 0 | Z39: 0 | AA39: 0 | AB39: 0 | AC39: 0 | AD39: 0 | AE39: 0 | AF39: 0 | AG39: 0 | AH39: 0 | AI39: 0 | AJ39: 0 | AK39: 0 | AL39: 0 | AM39: 0 | AN39: 0 | AO39: 0 | AP39: 0 | AQ39: 0 | AR39: 0 | AT39: 0 | AU39: 0 | AV39: 0 | AW39: 0
A40: 38 | B40: 大崎 | C40: 宮城県 | D40: 宮城県子ども総合センター付属診療所大崎診療室 | E40: 小野寺 滋実 | F40: 36963 | G40: 989-6161 | H40: 大崎市古川駅南二丁目４－３ | I40: （0229）22-0030 | J40: 0 | K40: 0 | L40: ○ | M40: 0 | N40: 0 | O40: 0 | P40: 0 | Q40: 0 | R40: 0 | S40: 0 | T40: 0 | V40: 0 | W40: 0 | X40: 0 | Y40: 0 | Z40: 0 | AA40: 0 | AB40: 0 | AC40: 0 | AD40: 0 | AE40: 0 | AF40: 0 | AG40: 0 | AH40: 0 | AI40: 0 | AJ40: 0 | AK40: 0 | AL40: 0 | AM40: 0 | AN40: 0 | AO40: 0 | AP40: 0 | AQ40: 0 | AR40: 0 | AS40: 児童精神科 | AT40: 0 | AU40: 0 | AV40: 0
A41: 39 | B41: 大崎 | C41: 医療法人ありま小児科医院 | D41: ありま小児科医院 | E41: 有馬 和夫 | F41: 36510 | G41: 989-6161 | H41: 大崎市古川駅南二丁目４－２０ | I41: （0229）22-7070 | J41: 0 | K41: 0 | L41: 0 | M41: 0 | N41: 0 | O41: 0 | P41: 0 | Q41: 0 | R41: 0 | S41: 0 | T41: 0 | U41: ○ | V41: 0 | W41: 0 | X41: 0 | Y41: 0 | Z41: 0 | AA41: 0 | AB41: 0 | AC41: 0 | AD41: 0 | AE41: 0 | AF41: 0 | AG41: 0 | AH41: 0 | AI41: 0 | AJ41: 0 | AK41: 0 | AL41: 0 | AM41: 0 | AN41: 0 | AO41: 0 | AP41: 0 | AQ41: 0 | AR41: 0 | AT41: 0 | AU41: 0 | AV41: 0 | AW41: 0
A42: 40 | B42: 大崎 | C42: 太田 司 | D42: わんや産婦人科医院 | E42: 太田 司 | F42: 36987 | G42: 989-6161 | H42: 大崎市古川駅南三丁目１１－２ | I42: （0229）21-0303 | J42: 0 | K42: 0 | L42: 0 | M42: 0 | N42: 0 | O42: 0 | P42: 0 | Q42: 0 | R42: 0 | S42: 0 | T42: 0 | U42: 0 | V42: 0 | W42: 0 | X42: 0 | Y42: 0 | Z42: 0 | AA42: 0 | AB42: 0 | AC42: 0 | AD42: 0 | AE42: 0 | AF42: 0 | AG42: 0 | AH42: 0 | AI42: 0 | AJ42: ○ | AK42: ○ | AL42: 0 | AM42: 0 | AN42: 0 | AO42: 0 | AP42: 0 | AQ42: 0 | AR42: 0 | AT42: 18 | AU42: 0 | AV42: 18
A43: 41 | B43: 大崎 | C43: 医療法人藤仁会 | D43: 寛内科胃腸科クリニック | E43: 佐藤 寛 | F43: 45323 | G43: 989-6162 | H43: 大崎市古川駅前大通一丁目１－１０ | I43: （0229）24-8822 | J43: ○ | R43: 0 | S43: 0 | T43: 0 | U43: 0 | V43: 0 | W43: 0 | X43: 0 | Y43: 0 | Z43: 0 | AA43: 0 | AB43: 0 | AC43: 0 | AD43: 0 | AE43: 0 | AF43: 0 | AG43: 0 | AH43: 0 | AI43: 0 | AJ43: 0 | AK43: 0 | AL43: 0 | AM43: 0 | AN43: 0 | AO43: 0 | AP43: 0 | AQ43: 0 | AR43: 0 | AS43: 消化器内科、胃腸内科 | AT43: 0 | AU43: 0 | AV43: 0
A44: 42 | B44: 大崎 | C44: 医療法人社団高橋記念 せきや整形外科 | D44: 高橋記念せきや整形外科 | E44: 関谷 元彦 | F44: 39071 | G44: 989-6162 | H44: 大崎市古川駅前大通五丁目１－１９ | I44: （0229）22-1100 | J44: 0 | K44: 0 | L44: 0 | M44: 0 | N44: 0 | O44: 0 | P44: 0 | Q44: 0 | R44: 0 | S44: 0 | T44: ○ | U44: 0 | V44: 0 | W44: ○ | X44: 0 | Y44: 0 | Z44: 0 | AA44: 0 | AB44: 0 | AC44: 0 | AD44: 0 | AE44: 0 | AF44: 0 | AG44: 0 | AH44: 0 | AI44: 0 | AJ44: 0 | AK44: 0 | AL44: 0 | AM44: 0 | AN44: 0 | AO44: ○ | AP44: 0 | AQ44: 0 | AR44: 0 | AT44: 0 | AU44: 0 | AV44: 0 | AW44: 0
A45: 43 | B45: 大崎 | C45: 医療法人 中川記念ちか子女性クリニック | D45: 中川記念ちか子女性クリニック | E45: 岡村 智佳子 | F45: 42405 | G45: 989-6162 | H45: 大崎市古川駅前大通6-1-23 | I45: 0229-23-0655 | AJ45: ○ | AK45: ○ | AS45: 女性内科
A46: 44 | B46: 大崎 | C46: 医療法人社団千葉医院 | D46: 医療法人社団千葉医院 | E46: 千葉 徹 | F46: 37636 | G46: 989-6162 | H46: 大崎市古川駅前大通六丁目２－４４ | I46: （0229）22‐3228 | J46: ○ | K46: 0 | L46: 0 | M46: 0 | N46: 0 | O46: 0 | P46: 0 | Q46: 0 | R46: 0 | S46: 0 | T46: 0 | U46: ○ | V46: 0 | W46: 0 | X46: 0 | Y46: 0 | Z46: 0 | AA46: 0 | AB46: 0 | AC46: 0 | AD46: 0 | AE46: 0 | AF46: 0 | AG46: 0 | AH46: 0 | AI46: 0 | AJ46: 0 | AK46: 0 | AL46: 0 | AM46: 0 | AN46: 0 | AO46: 0 | AP46: 0 | AQ46: 0 | AR46: 0 | AT46: 0 | AU46: 0 | AV46: 0 | AW46: 0
A47: 45 | B47: 大崎 | C47: 医療法人社団古川中央眼科 | D47: 古川中央眼科 | E47: 工藤 仁 | F47: 36161 | G47: 989-6163 | H47: 大崎市古川台町４番３６号 | I47: （0229）22-6111 | J47: 0 | K47: 0 | L47: 0 | M47: 0 | N47: 0 | O47: 0 | P47: 0 | Q47: 0 | R47: 0 | S47: 0 | T47: 0 | U47: 0 | V47: 0 | W47: 0 | X47: 0 | Y47: 0 | Z47: 0 | AA47: 0 | AB47: 0 | AC47: 0 | AD47: 0 | AE47: 0 | AF47: 0 | AG47: 0 | AH47: 0 | AI47: 0 | AJ47: 0 | AK47: 0 | AL47: ○ | AM47: 0 | AN47: 0 | AO47: 0 | AP47: 0 | AQ47: 0 | AR47: 0 | AT47: 0 | AU47: 0 | AV47: 0 | AW47: 0
A48: 46 | B48: 大崎 | C48: 国立大学法人東北大学 | D48: 東北大学東北メディカル・メガバンク機構地域支援大崎センター | E48: 濱中 洋平 | F48: 44348 | G48: 989-6165 | H48: 大崎市古川幸町1-6-12MRSﾋﾞﾙ2F | I48: 0229-87-5982 | AS48: 臨床検査科
A49: 47 | B49: 大崎 | C49: 医療法人社団佐藤医院 | D49: 佐藤医院 | E49: 佐藤 良樹 | F49: 33224 | G49: 989-6165 | H49: 大崎市古川十日町３－１３ | I49: （0229）22-0320 | J49: 0 | K49: 0 | L49: 0 | M49: 0 | N49: 0 | O49: 0 | P49: 0 | Q49: 0 | R49: 0 | S49: ○ | T49: 0 | U49: 0 | V49: 0 | W49: 0 | X49: 0 | Y49: 0 | Z49: 0 | AA49: 0 | AB49: 0 | AC49: 0 | AD49: 0 | AE49: 0 | AF49: 0 | AG49: 0 | AH49: 0 | AI49: 0 | AJ49: 0 | AK49: 0 | AL49: 0 | AM49: ○ | AN49: ○ | AO49: 0 | AP49: 0 | AQ49: 0 | AR49: 0
A50: 48 | B50: 大崎 | C50: 医療法人渋谷皮膚科泌尿器科医院 | D50: 渋谷皮膚科泌尿器科医院 | E50: 渋谷 彰良 | F50: 33065 | G50: 989-6166 | H50: 大崎市古川東町１－２８ | I50: （0229）23-9783 | J50: 0 | K50: 0 | L50: 0 | M50: 0 | N50: 0 | O50: 0 | P50: 0 | Q50: 0 | R50: 0 | S50: 0 | T50: 0 | U50: 0 | V50: 0 | W50: 0 | X50: 0 | Y50: 0 | Z50: 0 | AA50: 0 | AB50: 0 | AC50: 0 | AD50: 0 | AE50: ○ | AF50: ○ | AG50: 0 | AH50: 0 | AI50: 0 | AJ50: 0 | AK50: 0 | AL50: 0 | AM50: 0 | AN50: 0 | AO50: 0 | AP50: 0 | AQ50: 0 | AR50: 0 | AT50: 0 | AU50: 0 | AV50: 0 | AW50: 0
A51: 49 | B51: 大崎 | C51: 大崎市 | D51: 大崎市民病院健康管理センター | E51: 工藤 充哉 | F51: 41818 | G51: 989-6174 | H51: 大崎市古川千手寺町二丁目3番15号 | I51: 0229-23-3471 | J51: ○
A52: 50 | B52: 大崎 | C52: 大崎市 | D52: 大崎市夜間急患センター | E52: 佐藤 寛 | F52: 42095 | G52: 989-6174 | H52: 大崎市古川千手寺町二丁目３番１５号 | I52: 0229-23-9919 | J52: ○ | V52: ○
A53: 51 | B53: 大崎 | C53: 医療法人佐々木医院 | D53: 佐々木医院 | E53: 佐々木 秀樹 | F53: 45658 | G53: 989-6175 | H53: 大崎市古川諏訪一丁目３－３７ | I53: （0229）22-2290 | J53: ○ | K53: 0 | L53: ○ | M53: 0 | N53: 0 | O53: 0 | P53: 0 | Q53: 0 | R53: 0 | S53: 0 | T53: 0 | U53: 0 | V53: 0 | W53: 0 | X53: 0 | Y53: 0 | Z53: 0 | AA53: 0 | AB53: 0 | AC53: 0 | AD53: 0 | AE53: 0 | AF53: 0 | AG53: 0 | AH53: 0 | AI53: 0 | AJ53: 0 | AK53: 0 | AL53: 0 | AM53: 0 | AN53: 0 | AO53: 0 | AP53: 0 | AQ53: 0 | AR53: 0 | AS53: 心療内科 | AT53: 0 | AU53: 0 | AV53: 0 | AW53: 0
A54: 52 | B54: 大崎 | C54: 医療法人鎌田内科クリニック | D54: 鎌田内科クリニック | E54: 鎌田 修二 | F54: 38901 | G54: 989-6175 | H54: 大崎市古川諏訪二丁目２－２８ | I54: （0229）24-1700 | J54: ○ | K54: 0 | L54: 0 | M54: 0 | N54: ○ | O54: 0 | P54: 0 | Q54: 0 | R54: 0 | S54: 0 | T54: 0 | U54: ○ | V54: 0 | W54: 0 | X54: 0 | Y54: 0 | Z54: 0 | AA54: 0 | AB54: 0 | AC54: 0 | AD54: 0 | AE54: 0 | AF54: 0 | AG54: 0 | AH54: 0 | AI54: 0 | AJ54: 0 | AK54: 0 | AL54: 0 | AM54: 0 | AN54: 0 | AO54: 0 | AP54: 0 | AQ54: 0 | AR54: 0 | AS54: 呼吸器内科、消化器内科、循環器内科， | AT54: 0 | AU54: 0 | AV54: 0
A55: 53 | B55: 大崎 | C55: 社会福祉法人 大崎市社会福祉協議会 | D55: 楽々楽館診療所 | E55: 小松 誠司 | F55: 40665 | G55: 989-6213 | H55: 大崎市古川保柳字中江5番地2 | I55: 0229-36-1201 | J55: ○ | AT55: 0
A56: 54 | B56: 大崎 | C56: 医療法人宏郁会 | D56: 大崎西部クリニック | E56: 柳町 智宏 | F56: 41456 | G56: 989-6214 | H56: 大崎市古川新堀字東田３５ | I56: （0229）87-3723 | J56: ○ | K56: 0 | L56: 0 | M56: 0 | N56: 0 | O56: 0 | P56: 0 | Q56: 0 | R56: 0 | S56: 0 | T56: 0 | U56: ○ | V56: 0 | W56: 0 | X56: 0 | Y56: 0 | Z56: 0 | AA56: 0 | AB56: 0 | AC56: 0 | AD56: 0 | AE56: 0 | AF56: 0 | AG56: 0 | AH56: 0 | AI56: 0 | AJ56: 0 | AK56: 0 | AL56: 0 | AM56: 0 | AN56: 0 | AO56: 0 | AP56: 0 | AQ56: 0 | AR56: 0 | AS56: 呼吸器内科、循環器内科 | AT56: 0 | AU56: 0 | AV56: 0
A57: 55 | B57: 大崎 | C57: 医療法人新樹会 | D57: まつうら内科小児科クリニック | E57: 松浦 真樹 | F57: 42676 | G57: 989-6221 | H57: 大崎市古川大宮一丁目１番７９号 | I57: （0229）23-5677 | J57: ○ | K57: 0 | L57: 0 | M57: 0 | N57: 0 | O57: 0 | P57: 0 | Q57: 0 | R57: 0 | S57: ○ | T57: 0 | U57: ○ | V57: 0 | W57: 0 | X57: 0 | Y57: 0 | Z57: 0 | AA57: 0 | AB57: 0 | AC57: 0 | AD57: 0 | AE57: 0 | AF57: 0 | AG57: 0 | AH57: 0 | AI57: 0 | AJ57: 0 | AK57: 0 | AL57: 0 | AM57: 0 | AN57: 0 | AO57: 0 | AP57: 0 | AQ57: 0 | AR57: 0 | AS57: 胃腸内科 | AT57: 0 | AU57: 0 | AV57: 0 | AW57: 0
A58: 56 | B58: 大崎 | C58: 渡邉 秀和 | D58: 大崎ペインクリニック | E58: 渡邉 秀和 | F58: 43313 | G58: 989-6221 | H58: 大崎市古川大宮三丁目８番１０号 | I58: 0229-22-1310 | AQ58: ○ | AS58: ペインクリニック内科、ペインクリニック外科
A59: 57 | B59: 大崎 | C59: 医療法人社団猪瀬医院 | D59: 医療法人社団猪瀬医院 | E59: 木村 啓二 | F59: 36906 | G59: 989-6221 | H59: 大崎市古川大宮五丁目４－１０ | I59: （0229）22-0777 | J59: ○ | K59: 0 | L59: 0 | M59: 0 | N59: 0 | O59: 0 | P59: 0 | Q59: ○ | R59: 0 | S59: 0 | T59: 0 | U59: ○ | V59: ○ | W59: ○ | X59: 0 | Y59: 0 | Z59: 0 | AA59: 0 | AB59: 0 | AC59: 0 | AD59: 0 | AE59: 0 | AF59: 0 | AG59: 0 | AH59: ○ | AI59: 0 | AJ59: 0 | AK59: 0 | AL59: 0 | AM59: 0 | AN59: 0 | AO59: 0 | AP59: 0 | AQ59: 0 | AR59: 0 | AT59: 0 | AU59: 0 | AV59: 0
A60: 58 | B60: 大崎 | C60: 医療法人社団昌柏会 | D60: 塩沢整形外科クリニック | E60: 大井 英毅 | F60: 37237 | G60: 989-6221 | H60: 大崎市古川大宮七丁目７－３３ | I60: （0229）21-1666 | J60: 0 | K60: 0 | L60: 0 | M60: 0 | N60: 0 | O60: 0 | P60: 0 | Q60: 0 | R60: 0 | S60: 0 | T60: ○ | U60: 0 | V60: 0 | W60: ○ | X60: 0 | Y60: 0 | Z60: 0 | AA60: 0 | AB60: 0 | AC60: 0 | AD60: 0 | AE60: 0 | AF60: 0 | AG60: 0 | AH60: 0 | AI60: 0 | AJ60: 0 | AK60: 0 | AL60: 0 | AM60: 0 | AN60: 0 | AO60: ○ | AP60: 0 | AQ60: 0 | AR60: 0 | AT60: 0 | AU60: 0 | AV60: 0 | AW60: 0
A61: 59 | B61: 大崎 | C61: 冨樫 孝 | D61: 冨樫クリニック | E61: 冨樫 孝 | F61: 35012 | G61: 989-6221 | H61: 大崎市古川大宮八丁目９－１５ | I61: （0229）23-4456 | J61: ○ | K61: 0 | L61: 0 | M61: 0 | N61: 0 | O61: ○ | P61: ○ | Q61: 0 | R61: ○ | S61: 0 | T61: 0 | U61: ○ | V61: 0 | W61: 0 | X61: 0 | Y61: 0 | Z61: 0 | AA61: 0 | AB61: 0 | AC61: 0 | AD61: 0 | AE61: 0 | AF61: 0 | AG61: 0 | AH61: 0 | AI61: 0 | AJ61: 0 | AK61: 0 | AL61: 0 | AM61: 0 | AN61: 0 | AO61: 0 | AP61: 0 | AQ61: 0 | AR61: 0 | AT61: 0 | AU61: 0 | AV61: 0 | AW61: 0
A62: 60 | B62: 大崎 | C62: 医療法人社団泰有会 | D62: みやぎ北部循環器科 | E62: 和田 有行 | F62: 38899 | G62: 989-6223 | H62: 大崎市古川字本鹿島１４５ | I62: （0229）21-8655 | J62: 0 | K62: 0 | L62: 0 | M62: 0 | N62: 0 | O62: 0 | P62: 0 | Q62: 0 | R62: ○ | S62: 0 | T62: 0 | U62: 0 | V62: 0 | W62: 0 | X62: 0 | Y62: 0 | Z62: 0 | AA62: 0 | AB62: 0 | AC62: 0 | AD62: 0 | AE62: 0 | AF62: 0 | AG62: 0 | AH62: 0 | AI62: 0 | AJ62: 0 | AK62: 0 | AL62: 0 | AM62: 0 | AN62: 0 | AO62: 0 | AP62: 0 | AQ62: 0 | AR62: 0 | AT62: 19 | AU62: 0 | AV62: 19
A63: 61 | B63: 大崎 | C63: 医療法人社団丸愛会伊藤医院 | D63: 伊藤内科小児科医院 | E63: 伊藤 啓司 | F63: 38718 | G63: 989-6224 | H63: 大崎市古川小泉字泉４０ | I63: （0229）23-8866 | J63: ○ | K63: 0 | L63: 0 | M63: 0 | N63: 0 | O63: ○ | P63: ○ | Q63: 0 | R63: ○ | S63: 0 | T63: 0 | U63: ○ | V63: 0 | W63: 0 | X63: 0 | Y63: 0 | Z63: 0 | AA63: 0 | AB63: 0 | AC63: 0 | AD63: 0 | AE63: 0 | AF63: 0 | AG63: 0 | AH63: 0 | AI63: 0 | AJ63: 0 | AK63: 0 | AL63: 0 | AM63: 0 | AN63: 0 | AO63: 0 | AP63: 0 | AQ63: 0 | AR63: 0 | AT63: 0 | AU63: 0 | AV63: 0 | AW63: 0
A64: 62 | B64: 大崎 | C64: 医療法人泉整形外科病院 | D64: 大崎西整形外科 | E64: 佐藤 哲也 | F64: 40119 | G64: 989-6226 | H64: 大崎市古川新田字川原前297 | I64: （0229）36-1050 | J64: 0 | K64: 0 | L64: 0 | M64: 0 | N64: 0 | O64: 0 | P64: 0 | Q64: 0 | R64: 0 | S64: 0 | T64: 0 | U64: 0 | V64: 0 | W64: ○ | X64: 0 | Y64: 0 | Z64: 0 | AA64: 0 | AB64: 0 | AC64: 0 | AD64: 0 | AE64: 0 | AF64: 0 | AG64: 0 | AH64: 0 | AI64: 0 | AJ64: 0 | AK64: 0 | AL64: 0 | AM64: 0 | AN64: 0 | AO64: ○ | AP64: 0 | AQ64: 0 | AR64: 0 | AT64: 0 | AU64: 0 | AV64: 0 | AW64: 0
A65: 63 | B65: 大崎 | C65: 社会福祉法人大崎誠心会 | D65: 特別養護老人ホーム寿楽苑医務室 | E65: 秋山 巌 | F65: 35247 | G65: 989-6251 | H65: 大崎市古川小野字上蝦沢５７ | I65: （0229）28-1600 | J65: ○ | K65: 0 | L65: 0 | M65: 0 | N65: 0 | O65: 0 | P65: 0 | Q65: 0 | R65: 0 | S65: 0 | T65: 0 | U65: 0 | V65: 0 | W65: 0 | X65: 0 | Y65: 0 | Z65: 0 | AA65: 0 | AB65: 0 | AC65: 0 | AD65: 0 | AE65: 0 | AF65: 0 | AG65: 0 | AH65: 0 | AI65: 0 | AJ65: 0 | AK65: 0 | AL65: 0 | AM65: 0 | AN65: 0 | AO65: 0 | AP65: 0 | AQ65: 0 | AR65: 0 | AT65: 0 | AU65: 0 | AV65: 0 | AW65: 0
A66: 64 | B66: 大崎 | C66: 秋山 巌 | D66: 秋山内科医院 | E66: 秋山 巌 | F66: 29570 | G66: 989-6252 | H66: 大崎市古川荒谷字本町４５ | I66: （0229）28-1909 | J66: ○ | K66: 0 | L66: 0 | M66: 0 | N66: 0 | O66: 0 | P66: 0 | Q66: 0 | R66: 0 | S66: 0 | T66: 0 | U66: 0 | V66: 0 | W66: 0 | X66: 0 | Y66: 0 | Z66: 0 | AA66: 0 | AB66: 0 | AC66: 0 | AD66: 0 | AE66: 0 | AF66: 0 | AG66: 0 | AH66: 0 | AI66: 0 | AJ66: 0 | AK66: 0 | AL66: 0 | AM66: 0 | AN66: 0 | AO66: 0 | AP66: 0 | AQ66: 0 | AR66: 0 | AT66: 0 | AU66: 0 | AV66: 0 | AW66: 0
A67: 65 | B67: 大崎 | C67: 医療法人社団近江医院 | D67: 近江医院 | E67: 近江 史人 | F67: 34366 | G67: 989-6321 | H67: 大崎市三本木しらとり１７－３ | I67: （0229）52-3057 | J67: ○ | K67: 0 | L67: 0 | M67: 0 | N67: 0 | O67: ○ | P67: 0 | Q67: 0 | R67: 0 | S67: ○ | T67: 0 | U67: 0 | V67: 0 | W67: 0 | X67: 0 | Y67: 0 | Z67: 0 | AA67: 0 | AB67: 0 | AC67: 0 | AD67: 0 | AE67: 0 | AF67: 0 | AG67: 0 | AH67: 0 | AI67: 0 | AJ67: 0 | AK67: 0 | AL67: 0 | AM67: 0 | AN67: 0 | AO67: 0 | AP67: 0 | AQ67: 0 | AR67: 0 | AT67: 0 | AU67: 0 | AV67: 0
A68: 66 | B68: 大崎 | C68: 社会福祉法人永楽会 | D68: 介護福祉施設百才館医務室 | E68: 近江 徹廣 | F68: 36861 | G68: 989-6321 | H68: 大崎市三本木字大豆坂２４－３ | I68: （0229）53-1261 | J68: ○ | K68: 0 | L68: 0 | M68: 0 | N68: 0 | O68: 0 | P68: 0 | Q68: 0 | R68: 0 | S68: 0 | T68: 0 | U68: 0 | V68: 0 | W68: 0 | X68: 0 | Y68: 0 | Z68: 0 | AA68: 0 | AB68: 0 | AC68: 0 | AD68: 0 | AE68: 0 | AF68: 0 | AG68: 0 | AH68: 0 | AI68: 0 | AJ68: 0 | AK68: 0 | AL68: 0 | AM68: 0 | AN68: 0 | AO68: 0 | AP68: 0 | AQ68: 0 | AR68: 0 | AT68: 0 | AU68: 0 | AV68: 0 | AW68: 0
A69: 67 | B69: 大崎 | C69: 医療法人岩渕胃腸科内科医院 | D69: 岩渕胃腸科内科クリニック | E69: 岩渕 仁壽 | F69: 32856 | G69: 989-6321 | H69: 大崎市三本木字南町４０番地２ | I69: （0229）52-6211 | J69: ○ | K69: 0 | L69: 0 | M69: 0 | N69: 0 | O69: 0 | P69: 0 | Q69: ○ | R69: 0 | S69: 0 | T69: 0 | U69: 0 | V69: 0 | W69: 0 | X69: 0 | Y69: 0 | Z69: 0 | AA69: 0 | AB69: 0 | AC69: 0 | AD69: 0 | AE69: 0 | AF69: 0 | AG69: 0 | AH69: 0 | AI69: 0 | AJ69: 0 | AK69: 0 | AL69: 0 | AM69: 0 | AN69: 0 | AO69: 0 | AP69: 0 | AQ69: 0 | AR69: 0 | AT69: 0 | AU69: 0 | AV69: 0 | AW69: 0
A70: 68 | B70: 大崎 | C70: 高橋 直典 | D70: 高橋医院 | E70: 高橋 直典 | F70: 37970 | G70: 989-6433 | H70: 大崎市岩出山上川原町２４－３ | I70: （0229）72-1005 | J70: ○ | K70: 0 | L70: 0 | M70: 0 | N70: 0 | O70: 0 | P70: ○ | Q70: 0 | R70: 0 | S70: 0 | T70: 0 | U70: 0 | V70: ○ | W70: 0 | X70: 0 | Y70: 0 | Z70: 0 | AA70: 0 | AB70: 0 | AC70: 0 | AD70: 0 | AE70: 0 | AF70: 0 | AG70: 0 | AH70: 0 | AI70: 0 | AJ70: 0 | AK70: 0 | AL70: 0 | AM70: 0 | AN70: 0 | AO70: 0 | AP70: 0 | AQ70: 0 | AR70: 0 | AT70: 0 | AU70: 0 | AV70: 0 | AW70: 0
A71: 69 | B71: 大崎 | C71: 社会福祉法人加美玉造福祉会 | D71: 特別養護老人ホーム岩出の郷診療所 | E71: 小松 誠司 | F71: 36251 | G71: 989-6434 | H71: 大崎市岩出山字下川原町８４番地４ | I71: （0229）72-1201 | J71: ○ | K71: 0 | L71: 0 | M71: 0 | N71: 0 | O71: 0 | P71: 0 | Q71: 0 | R71: 0 | S71: 0 | T71: 0 | U71: 0 | V71: 0 | W71: 0 | X71: 0 | Y71: 0 | Z71: 0 | AA71: 0 | AB71: 0 | AC71: 0 | AD71: 0 | AE71: 0 | AF71: 0 | AG71: 0 | AH71: 0 | AI71: 0 | AJ71: 0 | AK71: 0 | AL71: 0 | AM71: 0 | AN71: 0 | AO71: 0 | AP71: 0 | AQ71: 0 | AR71: 0 | AT71: 0 | AU71: 0 | AV71: 0 | AW71: 0
A72: 70 | B72: 大崎 | C72: 医療法人森皮膚科医院 | D72: 森皮膚科医院 | E72: 森 紘子 | F72: 41640 | G72: 989-6435 | H72: 大崎市岩出山字浦小路３６－５ | I72: （0229）72-2244 | J72: 0 | K72: 0 | L72: 0 | M72: 0 | N72: 0 | O72: 0 | P72: 0 | Q72: 0 | R72: 0 | S72: 0 | T72: 0 | U72: 0 | V72: 0 | W72: 0 | X72: 0 | Y72: 0 | Z72: 0 | AA72: 0 | AB72: 0 | AC72: 0 | AD72: 0 | AE72: ○ | AF72: 0 | AG72: 0 | AH72: 0 | AI72: 0 | AJ72: 0 | AK72: 0 | AL72: 0 | AM72: 0 | AN72: 0 | AO72: 0 | AP72: 0 | AQ72: 0 | AR72: 0 | AT72: 0 | AU72: 0 | AV72: 0
A73: 71 | B73: 大崎 | C73: 社会福祉法人みやぎ会 | D73: 地域密着型特別養護老人ホーム にこトピアいわで医務室 | E73: 小松 誠司 | F73: 42036 | G73: 989-6435 | H73: 大崎市岩出山字浦小路44番地 | I73: （0229）87-5429 | J73: ○
A74: 72 | B74: 大崎 | C74: 社会福祉法人加美玉造福祉会 | D74: 特別養護老人ホームりんどう苑診療所 | E74: 佐藤 明裕 | F74: 33695 | G74: 989-6711 | H74: 大崎市鳴子温泉大口字石の梅３３ | I74: （0229）84-7451 | J74: ○ | K74: 0 | L74: ○ | M74: 0 | N74: 0 | O74: 0 | P74: 0 | Q74: 0 | R74: 0 | S74: 0 | T74: 0 | U74: 0 | V74: 0 | W74: 0 | X74: 0 | Y74: 0 | Z74: 0 | AA74: 0 | AB74: 0 | AC74: 0 | AD74: 0 | AE74: 0 | AF74: 0 | AG74: 0 | AH74: 0 | AI74: 0 | AJ74: 0 | AK74: 0 | AL74: 0 | AM74: 0 | AN74: 0 | AO74: 0 | AP74: 0 | AQ74: 0 | AR74: 0 | AT74: 0 | AU74: 0 | AV74: 0
A75: 73 | B75: 大崎 | C75: 医療法人遊佐クリニック | D75: 遊佐クリニック | E75: 遊佐 幸暁 | F75: 36322 | G75: 989-6823 | H75: 大崎市鳴子温泉字湯元１０４ | I75: （0229）81-1133 | J75: ○ | K75: 0 | L75: 0 | M75: 0 | N75: 0 | O75: 0 | P75: 0 | Q75: ○ | R75: 0 | S75: 0 | T75: 0 | U75: 0 | V75: ○ | W75: ○ | X75: 0 | Y75: 0 | Z75: 0 | AA75: 0 | AB75: 0 | AC75: 0 | AD75: 0 | AE75: 0 | AF75: 0 | AG75: 0 | AH75: ○ | AI75: 0 | AJ75: 0 | AK75: 0 | AL75: 0 | AM75: 0 | AN75: 0 | AO75: 0 | AP75: 0 | AQ75: ○ | AR75: 0 | AT75: 0 | AU75: 0 | AV75: 0 | AW75: 0
A76: 74 | B76: 大崎 | C76: 医療法人社団健風会 | D76: 宮野内科医院 | E76: 宮野 雅光 | F76: 34881 | G76: 987-0112 | H76: 涌谷町字桑木荒１１３－４ | I76: （0229）43-5031 | J76: ○ | K76: 0 | L76: 0 | M76: 0 | N76: 0 | O76: ○ | P76: ○ | Q76: 0 | R76: ○ | S76: 0 | T76: 0 | U76: ○ | V76: 0 | W76: 0 | X76: 0 | Y76: 0 | Z76: 0 | AA76: 0 | AB76: 0 | AC76: 0 | AD76: 0 | AE76: 0 | AF76: 0 | AG76: 0 | AH76: 0 | AI76: 0 | AJ76: 0 | AK76: 0 | AL76: 0 | AM76: 0 | AN76: 0 | AO76: 0 | AP76: 0 | AQ76: 0 | AR76: 0 | AT76: 0 | AU76: 0 | AV76: 0 | AW76: 0
A77: 75 | B77: 大崎 | C77: 社会福祉法人涌谷町社会福祉協議会 | D77: 特別養護老人ホームゆうらいふ医務室 | E77: 江藤 雅彦 | F77: 37742 | G77: 987-0121 | H77: 涌谷町涌谷字新下町浦１９２ | I77: （0229）43-6662 | J77: ○ | K77: 0 | L77: 0 | M77: 0 | N77: 0 | O77: 0 | P77: 0 | Q77: 0 | R77: 0 | S77: 0 | T77: 0 | U77: 0 | V77: 0 | W77: 0 | X77: 0 | Y77: 0 | Z77: 0 | AA77: 0 | AB77: 0 | AC77: 0 | AD77: 0 | AE77: 0 | AF77: 0 | AG77: 0 | AH77: 0 | AI77: 0 | AJ77: 0 | AK77: 0 | AL77: 0 | AM77: 0 | AN77: 0 | AO77: 0 | AP77: 0 | AQ77: 0 | AR77: 0 | AT77: 0 | AU77: 0 | AV77: 0
A78: 76 | B78: 大崎 | C78: 医療法人米谷医院 | D78: 米谷医院 | E78: 米谷 則美 | F78: 41091 | G78: 987-0141 | H78: 涌谷町字田町裏１９１番１ | I78: （0229）44-1133 | J78: ○ | K78: 0 | L78: 0 | M78: 0 | N78: 0 | O78: ○ | P78: 0 | Q78: 0 | R78: 0 | S78: ○ | T78: 0 | U78: ○ | V78: 0 | W78: 0 | X78: 0 | Y78: 0 | Z78: 0 | AA78: 0 | AB78: 0 | AC78: 0 | AD78: 0 | AE78: 0 | AF78: 0 | AG78: 0 | AH78: 0 | AI78: 0 | AJ78: 0 | AK78: 0 | AL78: 0 | AM78: 0 | AN78: 0 | AO78: 0 | AP78: 0 | AQ78: 0 | AR78: 0 | AT78: 0 | AU78: 0 | AV78: 0 | AW78: 0
A79: 77 | B79: 大崎 | C79: 金 桂成（大江桂成） | D79: わくや整形外科 | E79: 金 桂成（大江桂成） | F79: 37054 | G79: 987-0147 | H79: 涌谷町字下道２－１ | I79: （0229）43-5553 | J79: 0 | K79: 0 | L79: 0 | M79: 0 | N79: 0 | O79: 0 | P79: 0 | Q79: 0 | R79: 0 | S79: 0 | T79: ○ | U79: 0 | V79: 0 | W79: ○ | X79: 0 | Y79: 0 | Z79: 0 | AA79: 0 | AB79: 0 | AC79: 0 | AD79: 0 | AE79: 0 | AF79: 0 | AG79: 0 | AH79: 0 | AI79: 0 | AJ79: 0 | AK79: 0 | AL79: 0 | AM79: 0 | AN79: 0 | AO79: ○ | AP79: 0 | AQ79: 0 | AR79: 0 | AT79: 0 | AU79: 0 | AV79: 0 | AW79: 0
A80: 78 | B80: 大崎 | C80: 角田 雅宏 | D80: つのだ眼科 | E80: 角田 雅宏 | F80: 36958 | G80: 987-0146 | H80: 涌谷町字中下道１２９ｰ１ｰ１ | I80: （0229）44-1234 | J80: 0 | K80: 0 | L80: 0 | M80: 0 | N80: 0 | O80: 0 | P80: 0 | Q80: 0 | R80: 0 | S80: 0 | T80: 0 | U80: 0 | V80: 0 | W80: 0 | X80: 0 | Y80: 0 | Z80: 0 | AA80: 0 | AB80: 0 | AC80: 0 | AD80: 0 | AE80: 0 | AF80: 0 | AG80: 0 | AH80: 0 | AI80: 0 | AJ80: 0 | AK80: 0 | AL80: ○ | AM80: 0 | AN80: 0 | AO80: 0 | AP80: 0 | AQ80: 0 | AR80: 0
A81: 79 | B81: 大崎 | C81: 社会福祉法人 向陽会 | D81: 特別養護老人ホーム万葉苑わくや医務室 | E81: 前沢 政次 | F81: 41386 | G81: 987-0171 | H81: 涌谷町上郡字上郡沢４－１ | I81: 0229-43-6411 | J81: ○
A82: 80 | B82: 大崎 | C82: 医療法人社団博亮会 | D82: 野崎内科胃腸科 | E82: 野崎 円 | F82: 37721 | G82: 987-0002 | H82: 美里町字藤ヶ崎町１７８ | I82: （0229）32-2770 | J82: ○ | K82: 0 | L82: 0 | M82: 0 | N82: 0 | O82: 0 | P82: 0 | Q82: ○ | R82: 0 | S82: 0 | T82: 0 | U82: 0 | V82: ○ | W82: 0 | X82: 0 | Y82: 0 | Z82: 0 | AA82: 0 | AB82: 0 | AC82: 0 | AD82: 0 | AE82: 0 | AF82: 0 | AG82: 0 | AH82: 0 | AI82: 0 | AJ82: 0 | AK82: 0 | AL82: ○ | AM82: 0 | AN82: 0 | AO82: 0 | AP82: 0 | AQ82: 0 | AR82: 0 | AU82: 0 | AW82: 0
A83: 81 | B83: 大崎 | C83: 医療法人社団順神会 | D83: こごた整形外科クリニック | E83: 佐藤 諒 | F83: 33679 | G83: 987-0003 | H83: 美里町南小牛田字山の神５３－４ | I83: （0229）32-2011 | J83: 0 | K83: 0 | L83: 0 | M83: 0 | N83: 0 | O83: 0 | P83: 0 | Q83: 0 | R83: 0 | S83: 0 | T83: ○ | U83: 0 | V83: 0 | W83: ○ | X83: 0 | Y83: 0 | Z83: 0 | AA83: 0 | AB83: 0 | AC83: 0 | AD83: 0 | AE83: 0 | AF83: 0 | AG83: 0 | AH83: 0 | AI83: 0 | AJ83: 0 | AK83: 0 | AL83: 0 | AM83: 0 | AN83: 0 | AO83: ○ | AP83: 0 | AQ83: 0 | AR83: 0 | AT83: 19 | AU83: 0 | AV83: 19 | AW83: 0
A84: 82 | B84: 大崎 | C84: 医療法人清仁会 | D84: 小牛田内科クリニック | E84: 稲沢 慶太郎 | F84: 37789 | G84: 987-0004 | H84: 美里町牛飼字牛飼７７－２ | I84: （0229）32-5959 | J84: ○ | K84: 0 | L84: 0 | M84: 0 | N84: 0 | O84: 0 | P84: 0 | Q84: 0 | R84: 0 | S84: 0 | T84: 0 | U84: 0 | V84: 0 | W84: 0 | X84: 0 | Y84: 0 | Z84: 0 | AA84: 0 | AB84: 0 | AC84: 0 | AD84: 0 | AE84: 0 | AF84: 0 | AG84: 0 | AH84: 0 | AI84: 0 | AJ84: 0 | AK84: 0 | AL84: 0 | AM84: 0 | AN84: 0 | AO84: 0 | AP84: 0 | AQ84: 0 | AR84: 0 | AS84: 腎臓内科、循環器内科、人工透析内科 | AT84: 0 | AU84: 0 | AV84: 0 | AW84: 0
A85: 83 | B85: 大崎 | C85: 医療法人七龍会 | D85: 髙城利江整形外科 | E85: 髙城 利江 | F85: 44835 | G85: 987-0004 | H85: 美里町牛飼字牛飼１３９－１ | I85: （0229）31‐1230 | J85: ○ | K85: 0 | L85: 0 | M85: 0 | N85: 0 | O85: 0 | P85: 0 | Q85: 0 | R85: 0 | S85: 0 | T85: ○ | U85: 0 | V85: ○ | W85: ○ | X85: 0 | Y85: 0 | Z85: 0 | AA85: 0 | AB85: 0 | AC85: 0 | AD85: 0 | AE85: 0 | AF85: 0 | AG85: 0 | AH85: 0 | AI85: 0 | AJ85: 0 | AK85: 0 | AL85: 0 | AM85: 0 | AN85: 0 | AO85: ○ | AP85: 0 | AQ85: 0 | AR85: 0 | AT85: 0 | AU85: 0 | AV85: 0
A86: 84 | B86: 大崎 | C86: 袖井 文二 | D86: 袖井クリニック | E86: 袖井 文二 | F86: 35506 | G86: 987-0005 | H86: 美里町北浦字姥ヶ沢７２－３ | I86: （0229）31-1188 | J86: 0 | K86: 0 | L86: 0 | M86: 0 | N86: 0 | O86: 0 | P86: 0 | Q86: 0 | R86: 0 | S86: 0 | T86: 0 | U86: 0 | V86: 0 | W86: ○ | X86: ○ | Y86: 0 | Z86: 0 | AA86: 0 | AB86: 0 | AC86: 0 | AD86: 0 | AE86: ○ | AF86: 0 | AG86: 0 | AH86: 0 | AI86: 0 | AJ86: 0 | AK86: 0 | AL86: 0 | AM86: 0 | AN86: 0 | AO86: 0 | AP86: 0 | AQ86: 0 | AR86: 0 | AT86: 0 | AU86: 0 | AV86: 0 | AW86: 0
A87: 85 | B87: 大崎 | C87: 医療法人社団一文会 | D87: いせ内科クリニック | E87: 伊勢 文 | F87: 44805 | G87: 987-0005 | H87: 美里町北浦字船入２－５９ | I87: 0229-87-8767 | J87: ○ | AS87: 糖尿病内科
A88: 86 | B88: 大崎 | C88: 医療法人美里クリニック | D88: 美里クリニック | E88: 佐藤 和重 | F88: 45536 | G88: 987-0005 | H88: 美里町北浦字二又下６７－１ | I88: 0229-25-4710 | J88: ○ | AE88: ○ | AS88: 糖尿病内科
A89: 87 | B89: 大崎 | C89: 医療法人章眞会 | D89: 熱海医院 | E89: 熱海 智章 | F89: 41061 | G89: 987-0012 | H89: 美里町字素山町18番地1号 | I89: 0229-33-2020 | J89: ○ | K89: 0 | L89: 0 | M89: 0 | N89: 0 | O89: 0 | P89: 0 | S89: 0 | T89: 0 | U89: 0 | W89: 0 | X89: 0 | Y89: 0 | Z89: 0 | AA89: 0 | AB89: 0 | AC89: 0 | AD89: 0 | AE89: 0 | AF89: 0 | AG89: 0 | AH89: 0 | AI89: 0 | AJ89: 0 | AK89: 0 | AL89: 0 | AM89: 0 | AN89: 0 | AO89: 0 | AP89: 0 | AQ89: 0 | AR89: 0 | AS89: 消化器内科
A90: 88 | B90: 大崎 | C90: 社会福祉法人こごた福祉会 | D90: 養護老人ホームひばり園医務管理室 | E90: 袖井 文二 | F90: 38899 | G90: 987-0038 | H90: 美里町駅東二丁目17番地3 | I90: （0229）32-2436 | J90: ○ | K90: 0 | M90: 0 | N90: 0 | O90: 0 | P90: 0 | Q90: 0 | R90: 0 | S90: 0 | T90: 0 | U90: 0 | V90: 0 | W90: 0 | X90: 0 | Y90: 0 | Z90: 0 | AA90: 0 | AB90: 0 | AC90: 0 | AD90: 0 | AE90: 0 | AF90: 0 | AG90: 0 | AH90: 0 | AI90: 0 | AJ90: 0 | AK90: 0 | AL90: 0 | AM90: 0 | AN90: 0 | AO90: 0 | AP90: 0 | AQ90: 0 | AR90: 0 | AT90: 0 | AU90: 0 | AV90: 0
A91: 89 | B91: 大崎 | C91: 社会福祉法人杜の村 | D91: 特別養護老人ホームみさとの杜 | E91: 野崎 円 | F91: 38852 | G91: 987-0038 | H91: 美里町駅東二丁目17番地5 | I91: （0229）33-2255 | J91: ○ | K91: 0 | L91: 0 | M91: 0 | N91: 0 | O91: 0 | P91: 0 | Q91: 0 | R91: 0 | S91: 0 | T91: 0 | U91: 0 | V91: 0 | W91: 0 | X91: 0 | Y91: 0 | Z91: 0 | AA91: 0 | AB91: 0 | AC91: 0 | AD91: 0 | AE91: 0 | AF91: 0 | AG91: 0 | AH91: 0 | AI91: 0 | AJ91: 0 | AK91: 0 | AL91: 0 | AM91: 0 | AN91: 0 | AO91: 0 | AP91: 0 | AQ91: 0 | AR91: 0 | AT91: 0 | AU91: 0 | AV91: 0 | AW91: 0
A92: 90 | B92: 大崎 | C92: 社会福祉法人南郷福祉会 | D92: いなほの里診療所 | E92: 岡山 昭彦 | F92: 34790 | G92: 989-4205 | H92: 美里町木間塚字原田７ | I92: （0229）58-0996 | J92: ○ | K92: 0 | L92: 0 | M92: 0 | N92: 0 | O92: 0 | P92: 0 | Q92: 0 | R92: 0 | S92: 0 | T92: 0 | U92: 0 | V92: 0 | W92: 0 | X92: 0 | Y92: 0 | Z92: 0 | AA92: 0 | AB92: 0 | AC92: 0 | AD92: 0 | AE92: 0 | AF92: 0 | AG92: 0 | AH92: 0 | AI92: 0 | AJ92: 0 | AK92: 0 | AL92: 0 | AM92: 0 | AN92: 0 | AO92: 0 | AP92: 0 | AQ92: 0 | AR92: 0 | AT92: 0 | AU92: 0 | AV92: 0 | AW92: 0
A93: 91 | B93: 大崎 | C93: 社会福祉法人加美玉造福祉会 | D93: 特別養護老人ホーム青風園医務室 | E93: 大山 匡 | F93: 31503 | G93: 981-4203 | H93: 加美町菜切谷字原１６－５４ | I93: （0229）63-5519 | J93: ○ | K93: 0 | L93: ○ | M93: 0 | N93: 0 | O93: 0 | P93: 0 | Q93: 0 | R93: 0 | S93: 0 | T93: 0 | U93: 0 | V93: 0 | W93: 0 | X93: 0 | Y93: 0 | Z93: 0 | AA93: 0 | AB93: 0 | AC93: 0 | AD93: 0 | AE93: 0 | AF93: 0 | AG93: 0 | AH93: 0 | AI93: 0 | AJ93: 0 | AK93: 0 | AL93: 0 | AM93: 0 | AN93: 0 | AO93: 0 | AP93: 0 | AQ93: 0 | AR93: 0 | AT93: 0 | AU93: 0 | AV93: 0 | AW93: 0
A94: 92 | B94: 大崎 | C94: 菅野 陳一郎 | D94: 菅野眼科医院 | E94: 菅野 陳一郎 | F94: 34892 | G94: 981-4231 | H94: 加美町字百目木１番２３－２ | I94: （0229）63-3270 | J94: 0 | K94: 0 | L94: 0 | M94: 0 | N94: 0 | O94: 0 | P94: 0 | Q94: 0 | R94: 0 | S94: 0 | T94: 0 | U94: 0 | V94: 0 | W94: 0 | X94: 0 | Y94: 0 | Z94: 0 | AA94: 0 | AB94: 0 | AC94: 0 | AD94: 0 | AE94: 0 | AF94: 0 | AG94: 0 | AH94: 0 | AI94: 0 | AJ94: 0 | AK94: 0 | AL94: ○ | AM94: 0 | AN94: 0 | AO94: 0 | AP94: 0 | AQ94: 0 | AR94: 0 | AT94: 0 | AU94: 0 | AV94: 0 | AW94: 0
A95: 93 | B95: 大崎 | C95: 医療法人社団伊藤医院 | D95: 医療法人社団伊藤医院 | E95: 伊藤 建太 | F95: 34700 | G95: 981-4234 | H95: 加美町字旧館１番８０－２ | I95: （0229）63-2025 | J95: ○ | K95: 0 | L95: 0 | M95: 0 | N95: 0 | O95: 0 | P95: 0 | Q95: 0 | R95: ○ | S95: 0 | T95: 0 | U95: 0 | V95: 0 | W95: 0 | X95: 0 | Y95: 0 | Z95: 0 | AA95: 0 | AB95: 0 | AC95: 0 | AD95: 0 | AE95: 0 | AF95: 0 | AG95: 0 | AH95: 0 | AI95: 0 | AJ95: 0 | AK95: 0 | AL95: 0 | AM95: 0 | AN95: 0 | AO95: 0 | AP95: 0 | AQ95: 0 | AR95: 0 | AT95: 0 | AU95: 0 | AV95: 0 | AW95: 0
A96: 94 | B96: 大崎 | C96: 医療法人社団鈴木内科医院 | D96: 鈴木内科医院 | E96: 鈴木 潤 | F96: 33770 | G96: 981-4234 | H96: 加美町字旧館一番１７ | I96: （0229）63-3056 | J96: ○ | K96: 0 | L96: 0 | M96: 0 | N96: 0 | O96: ○ | P96: ○ | Q96: 0 | R96: ○ | S96: 0 | T96: 0 | U96: ○ | V96: 0 | W96: 0 | X96: 0 | Y96: 0 | Z96: 0 | AA96: 0 | AB96: 0 | AC96: 0 | AD96: 0 | AE96: 0 | AF96: 0 | AG96: 0 | AH96: 0 | AI96: 0 | AJ96: 0 | AK96: 0 | AL96: 0 | AM96: 0 | AN96: 0 | AO96: 0 | AP96: 0 | AQ96: 0 | AR96: 0 | AT96: 0 | AU96: 0 | AV96: 0
A97: 95 | B97: 大崎 | C97: 医療法人社団ありまファミリークリニック | D97: ありまファミリークリニック | E97: 有馬 正貴 | F97: 45474 | G97: 981-4261 | H97: 加美町字町裏３３０－１ | I97: （0229）63-2230 | J97: ○ | K97: 0 | L97: 0 | M97: 0 | N97: 0 | O97: 0 | Q97: 0 | R97: 0 | S97: 0 | T97: 0 | U97: ○ | V97: 0 | W97: 0 | X97: 0 | Y97: 0 | Z97: 0 | AA97: 0 | AB97: 0 | AC97: 0 | AD97: 0 | AE97: 0 | AF97: 0 | AG97: 0 | AH97: 0 | AI97: 0 | AJ97: 0 | AK97: 0 | AL97: 0 | AM97: 0 | AN97: 0 | AO97: 0 | AP97: 0 | AQ97: 0 | AR97: 0 | AS97: 消化器内科 | AT97: 0 | AU97: 0 | AV97: 0
A98: 96 | B98: 大崎 | C98: 医療法人佐々木胃腸科 | D98: 医療法人佐々木胃腸科 | E98: 及川 正道 | F98: 32678 | G98: 981-4251 | H98: 加美町字西町４８ | I98: （0229）63-3324 | J98: ○ | K98: 0 | L98: 0 | M98: 0 | N98: 0 | O98: ○ | P98: ○ | Q98: 0 | R98: ○ | S98: 0 | T98: 0 | U98: ○ | V98: 0 | W98: 0 | X98: 0 | Y98: 0 | Z98: 0 | AA98: 0 | AB98: 0 | AC98: 0 | AD98: 0 | AE98: 0 | AF98: 0 | AG98: 0 | AH98: 0 | AI98: 0 | AJ98: 0 | AK98: 0 | AL98: 0 | AM98: 0 | AN98: 0 | AO98: 0 | AP98: 0 | AQ98: 0 | AR98: 0 | AU98: 0 | AW98: 0
A99: 97 | B99: 大崎 | C99: 横山 成邦 | D99: よこやま医院 | E99: 横山 成邦 | F99: 45103 | G99: 981-4261 | H99: 加美町字西町７８番地１ | I99: 0229-87-5963 | J99: ○ | V99: ○
A100: 98 | B100: 大崎 | C100: 医療法人清宮眼科医院 | D100: 清宮眼科医院 | E100: 清宮 基彦 | F100: 41640 | G100: 981-4253 | H100: 加美町大字大門５０－１ | I100: 0229-87-4780 | AL100: ○ | AS100: 0
...

Sheet 東部（石巻・登米）
A1: № | B1: 保健所 | C1: 開設者名 | D1: 診療所名 | E1: 管理者名 | F1: 開設年月日 | G1: 郵便番号 | H1: 所在地 | I1: 電話番号 | J1: 診 療 科 目 | AT1: 病床数 | AW1: 摘要
J2: 内科 | K2: 心療内科 | L2: 精神科 | M2: 神経科 | N2: 神経内科 | O2: 呼吸器科 | P2: 消化器科 | Q2: 胃腸科 | R2: 循環器科 | S2: アレルギー科 | T2: リウマチ科 | U2: 小児科 | V2: 外科 | W2: 整形外科 | X2: 形成外科 | Y2: 美容外科 | Z2: 脳神経外科 | AA2: 呼吸器外科 | AB2: 心臓血管外科 | AC2: 小児外科 | AD2: 皮膚泌尿器科 | AE2: 皮膚科 | AF2: 泌尿器科 | AG2: 性病科 | AH2: こう門科 | AI2: 産婦人科 | AJ2: 産科 | AK2: 婦人科 | AL2: 眼科 | AM2: 耳鼻咽喉科 | AN2: 気管食道科 | AO2: リハビリテーション科 | AP2: 放射線科 | AQ2: 麻酔科 | AR2: 歯科 | AS2: その他の科目 | AT2: 合 計 | AU2: 療養 | AV2: 一般
A3: 1 | B3: 石巻 | C3: 社会福祉法人 和仁福祉会 | D3: 特別養護老人ホーム第二和香園医務室 | E3: 白土 邦男 | F3: 35004 | G3: 986-0005 | H3: 石巻市大瓜字箕輪17 | I3: （0225）23-3811 | J3: ○ | K3: 0 | L3: 0 | M3: 0 | N3: 0 | O3: 0 | P3: 0 | Q3: 0 | R3: 0 | S3: 0 | T3: 0 | U3: 0 | V3: 0 | W3: 0 | X3: 0 | Y3: 0 | Z3: 0 | AA3: 0 | AB3: 0 | AC3: 0 | AD3: 0 | AE3: 0 | AF3: 0 | AG3: 0 | AH3: 0 | AI3: 0 | AJ3: 0 | AK3: 0 | AL3: 0 | AM3: 0 | AN3: 0 | AO3: 0 | AP3: 0 | AQ3: 0 | AR3: 0 | AT3: 0 | AU3: 0 | AV3: 0 | AW3: 0
A4: 2 | B4: 石巻 | C4: 医療法人佐久間眼科小児科医院 | D4: 佐久間眼科小児科医院 | E4: 佐久間 健彦 | F4: 36749 | G4: 986-0016 | H4: 石巻市八幡町1-3-22 | I4: （0225）92-7651 | J4: 0 | K4: 0 | L4: 0 | M4: 0 | N4: 0 | O4: 0 | P4: 0 | Q4: 0 | R4: 0 | S4: 0 | T4: 0 | U4: ○ | V4: 0 | X4: 0 | Y4: 0 | Z4: 0 | AA4: 0 | AB4: 0 | AC4: 0 | AD4: 0 | AE4: 0 | AF4: 0 | AG4: 0 | AH4: 0 | AI4: 0 | AJ4: 0 | AK4: 0 | AL4: ○ | AM4: 0 | AN4: 0 | AP4: 0 | AQ4: 0 | AR4: 0 | AU4: 0 | AW4: 0
A5: 3 | B5: 石巻 | C5: 医療法人社団 鈴木皮膚科医院 | D5: 鈴木皮膚科医院 | E5: 鈴木 明宏 | F5: 33954 | G5: 986-0016 | H5: 石巻市八幡町2-5-16 | I5: （0225）22-3572 | J5: 0 | K5: 0 | L5: 0 | M5: 0 | N5: 0 | P5: 0 | Q5: 0 | R5: 0 | S5: 0 | T5: 0 | U5: 0 | X5: 0 | Y5: 0 | Z5: 0 | AA5: 0 | AB5: 0 | AC5: 0 | AD5: 0 | AE5: ○ | AF5: 0 | AG5: 0 | AH5: 0 | AJ5: 0 | AK5: 0 | AM5: 0 | AN5: 0 | AO5: 0 | AP5: 0 | AQ5: 0 | AR5: 0 | AT5: 0 | AU5: 0 | AV5: 0 | AW5: 0
A6: 4 | B6: 石巻 | C6: 医療法人社団 二宮外科 | D6: 二宮外科クリニック | E6: 二宮 健次 | F6: 43431 | G6: 986-0017 | H6: 石巻市不動町1丁目7番3号 | I6: （0225）22-0202 | J6: ○ | K6: 0 | L6: 0 | M6: 0 | N6: 0 | O6: 0 | P6: 0 | Q6: 0 | R6: 0 | S6: 0 | T6: 0 | U6: 0 | V6: ○ | W6: ○ | X6: 0 | Y6: 0 | Z6: 0 | AA6: 0 | AB6: 0 | AC6: 0 | AD6: 0 | AF6: ○ | AG6: 0 | AH6: ○ | AI6: 0 | AJ6: 0 | AK6: 0 | AL6: 0 | AM6: 0 | AN6: 0 | AO6: ○ | AP6: 0 | AQ6: 0 | AR6: 0 | AS6: 肛門外科
A7: 5 | B7: 石巻 | C7: 石巻市 | D7: 石巻市田代診療所 | E7: 佐藤 仁人 | F7: 38443 | G7: 986-0023 | H7: 石巻市大字田代浜字仁斗田126 | I7: （0225）98-2005 | J7: ○ | K7: 0 | L7: 0 | M7: 0 | N7: 0 | O7: 0 | P7: 0 | Q7: 0 | R7: 0 | S7: 0 | T7: 0 | U7: 0 | V7: 0 | W7: 0 | X7: 0 | Y7: 0 | Z7: 0 | AA7: 0 | AB7: 0 | AC7: 0 | AD7: 0 | AE7: 0 | AF7: 0 | AG7: 0 | AH7: 0 | AI7: 0 | AJ7: 0 | AK7: 0 | AL7: 0 | AM7: 0 | AN7: 0 | AO7: 0 | AP7: 0 | AQ7: 0 | AR7: 0 | AT7: 0 | AU7: 0 | AV7: 0 | AW7: 0
A8: 6 | B8: 石巻 | C8: 医療法人社団 かづま内科クリニック | D8: かづま内科クリニック | E8: 片倉 恒徳 | F8: 34318 | G8: 986-0042 | H8: 石巻市鹿妻南1-13-16 | I8: （0225）96-7700 | J8: ○ | K8: ○ | L8: ○ | M8: 0 | O8: 0 | P8: 0 | Q8: ○ | R8: 0 | S8: 0 | T8: 0 | U8: 0 | W8: 0 | X8: 0 | Y8: 0 | Z8: 0 | AA8: 0 | AB8: 0 | AC8: 0 | AD8: 0 | AE8: 0 | AG8: 0 | AH8: 0 | AI8: 0 | AJ8: 0 | AK8: 0 | AL8: 0 | AM8: 0 | AN8: 0 | AO8: 0 | AP8: 0 | AT8: 0 | AU8: 0 | AV8: 0 | AW8: 0
A9: 7 | B9: 石巻 | C9: 医療法人 鈴木整形外科クリニック | D9: 鈴木整形外科クリニック | E9: 鈴木 廣 | F9: 39083 | G9: 986-0043 | H9: 石巻市鹿妻北1-6-15 | I9: （0225）92-7707 | J9: 0 | K9: 0 | L9: 0 | M9: 0 | N9: 0 | O9: 0 | P9: 0 | Q9: 0 | R9: 0 | S9: 0 | T9: 0 | U9: 0 | V9: 0 | W9: ○ | X9: 0 | Y9: 0 | Z9: 0 | AA9: 0 | AB9: 0 | AC9: 0 | AD9: 0 | AE9: 0 | AF9: 0 | AG9: 0 | AH9: 0 | AI9: 0 | AJ9: 0 | AK9: 0 | AL9: 0 | AM9: 0 | AN9: 0 | AO9: ○ | AP9: 0 | AQ9: 0 | AT9: 0 | AU9: 0 | AV9: 0 | AW9: 0
A10: 8 | B10: 石巻 | C10: 舘田 要 | D10: 舘田耳鼻咽喉科医院 | E10: 舘田 要 | F10: 27103 | G10: 986-0101 | H10: 石巻市相野谷字旧屋敷150 | I10: （0225）62-3036 | J10: 0 | K10: 0 | L10: 0 | M10: 0 | N10: 0 | O10: 0 | P10: 0 | Q10: 0 | R10: 0 | S10: 0 | T10: 0 | U10: 0 | V10: 0 | W10: 0 | X10: 0 | Y10: 0 | Z10: 0 | AA10: 0 | AB10: 0 | AC10: 0 | AD10: 0 | AE10: 0 | AF10: 0 | AG10: 0 | AH10: 0 | AI10: 0 | AJ10: 0 | AK10: 0 | AL10: 0 | AM10: ○ | AN10: ○ | AO10: 0 | AP10: 0 | AQ10: 0 | AR10: 0 | AT10: 0 | AU10: 0 | AV10: 0 | AW10: 休止中
A11: 9 | B11: 石巻 | C11: 医療法人光義会 | D11: 成田医院 | E11: 成田 満義 | F11: 37257 | G11: 986-0101 | H11: 石巻市相野谷字飯野川町122 | I11: （0225）62-3221 | J11: ○ | K11: 0 | L11: 0 | M11: 0 | N11: 0 | O11: ○ | P11: ○ | Q11: 0 | R11: ○ | S11: 0 | T11: 0 | U11: ○ | V11: 0 | W11: 0 | X11: 0 | Y11: 0 | Z11: 0 | AA11: 0 | AB11: 0 | AC11: 0 | AD11: 0 | AE11: 0 | AF11: 0 | AG11: 0 | AH11: 0 | AI11: 0 | AJ11: 0 | AK11: 0 | AL11: 0 | AM11: 0 | AN11: 0 | AO11: 0 | AP11: 0 | AQ11: 0 | AR11: 0 | AT11: 0 | AU11: 0 | AV11: 0 | AW11: 0
A12: 10 | B12: 石巻 | C12: 寺村 一峰 | D12: 釜谷診療所 | E12: 寺村 一峰 | F12: 35621 | G12: 986-0111 | H12: 石巻市釜谷字韮島32 | I12: (0225)64-2101 | J12: ○ | K12: 0 | L12: 0 | M12: 0 | N12: 0 | O12: 0 | S12: 0 | T12: 0 | U12: ○ | X12: 0 | Y12: 0 | Z12: 0 | AA12: 0 | AB12: 0 | AC12: 0 | AD12: 0 | AE12: 0 | AF12: 0 | AG12: 0 | AH12: 0 | AI12: 0 | AJ12: 0 | AK12: 0 | AM12: 0 | AN12: 0 | AP12: 0 | AR12: 0 | AW12: 休止中
A13: 11 | B13: 石巻 | C13: 社会福祉法人 和仁福祉会 | D13: 特別養護老人ホーム仁風園医務室 | E13: 齋藤 仁一 | F13: 34974 | G13: 986-0121 | H13: 石巻市大森字内田1-28 | I13: （0225）62-3380 | J13: ○ | K13: 0 | L13: 0 | M13: 0 | N13: 0 | O13: 0 | P13: 0 | Q13: 0 | R13: 0 | S13: 0 | T13: 0 | U13: 0 | V13: 0 | W13: 0 | X13: 0 | Y13: 0 | Z13: 0 | AA13: 0 | AB13: 0 | AC13: 0 | AD13: 0 | AE13: 0 | AF13: 0 | AG13: 0 | AH13: 0 | AI13: 0 | AJ13: 0 | AK13: 0 | AL13: 0 | AM13: 0 | AN13: 0 | AO13: 0 | AP13: 0 | AQ13: 0 | AR13: 0 | AT13: 0 | AU13: 0 | AV13: 0 | AW13: 0
A14: 12 | B14: 石巻 | C14: 社会福祉法人 みやぎ会 | D14: 特別養護老人ホームはしうら医務室 | E14: 栗原 洋志 | F14: 42079 | G14: 986-0202 | H14: 石巻市北上町橋浦字大須88-1 | I14: (0225)25-7820 | J14: ○ | K14: 0 | L14: 0 | M14: 0 | N14: 0 | O14: 0 | P14: 0 | Q14: 0 | R14: 0 | S14: 0 | T14: 0 | U14: 0 | V14: ○ | X14: 0 | Y14: 0 | Z14: 0 | AA14: 0 | AB14: 0 | AC14: 0 | AD14: 0 | AE14: 0 | AF14: 0 | AG14: 0 | AH14: 0 | AI14: 0 | AJ14: 0 | AK14: 0 | AL14: 0 | AM14: 0 | AN14: 0 | AO14: 0 | AP14: 0 | AR14: 0 | AT14: 0 | AU14: 0 | AV14: 0 | AW14: 0
A15: 13 | B15: 石巻 | C15: 石巻市 | D15: 石巻市橋浦診療所 | E15: 只野 光一 | F15: 38443 | G15: 986-0202 | H15: 石巻市北上町橋浦字大須215 | I15: （0225）67-2051 | J15: ○ | K15: 0 | L15: 0 | M15: 0 | N15: 0 | O15: 0 | P15: 0 | Q15: 0 | R15: 0 | S15: 0 | T15: 0 | U15: ○ | V15: 0 | W15: 0 | X15: 0 | Y15: 0 | Z15: 0 | AA15: 0 | AB15: 0 | AC15: 0 | AD15: 0 | AE15: 0 | AF15: 0 | AG15: 0 | AH15: 0 | AI15: 0 | AJ15: 0 | AK15: 0 | AL15: 0 | AM15: 0 | AN15: 0 | AO15: 0 | AP15: 0 | AQ15: 0 | AR15: 0 | AT15: 0 | AU15: 0 | AV15: 0 | AW15: 0
A16: 14 | B16: 石巻 | C16: 社会福祉法人 みやぎ会 | D16: 特別養護老人ホームきたかみ医務室 | E16: 栗原 洋志 | F16: 39203 | G16: 986-0202 | H16: 石巻市北上町橋浦字大須234 | I16: （0225）61-7201 | J16: ○ | K16: 0 | L16: 0 | M16: 0 | N16: 0 | O16: 0 | P16: 0 | Q16: 0 | R16: 0 | S16: 0 | T16: 0 | U16: 0 | V16: ○ | W16: 0 | X16: 0 | Y16: 0 | Z16: 0 | AA16: 0 | AB16: 0 | AC16: 0 | AD16: 0 | AE16: 0 | AF16: 0 | AG16: 0 | AH16: 0 | AI16: 0 | AJ16: 0 | AK16: 0 | AL16: 0 | AM16: 0 | AN16: 0 | AO16: 0 | AP16: 0 | AQ16: 0 | AR16: 0 | AT16: 0 | AU16: 0 | AV16: 0 | AW16: 0
A17: 15 | B17: 石巻 | C17: 河野 政信 | D17: ものう眼科クリニック | E17: 河野 政信 | F17: 38443 | G17: 986-0313 | H17: 石巻市桃生町中津山字四軒前70-1 | I17: （0225）79-1388 | J17: 0 | K17: 0 | L17: 0 | M17: 0 | N17: 0 | O17: 0 | P17: 0 | Q17: 0 | R17: 0 | S17: 0 | T17: 0 | U17: 0 | V17: 0 | W17: 0 | X17: 0 | Y17: 0 | Z17: 0 | AA17: 0 | AB17: 0 | AC17: 0 | AD17: 0 | AE17: 0 | AF17: 0 | AG17: 0 | AH17: 0 | AI17: 0 | AJ17: 0 | AK17: 0 | AL17: ○ | AM17: 0 | AN17: 0 | AO17: 0 | AP17: 0 | AQ17: 0 | AR17: 0 | AU17: 0 | AW17: 0
A18: 16 | B18: 石巻 | C18: 社会福祉法人東北福祉会 | D18: 特別養護老人ホームファミリオ医務室 | E18: 河野 秀信 | F18: 36251 | G18: 986-0313 | H18: 石巻市桃生町中津山字八木46-3 | I18: （0225）76-5325 | J18: ○ | K18: 0 | L18: 0 | M18: 0 | N18: 0 | O18: 0 | P18: 0 | Q18: 0 | R18: 0 | S18: 0 | T18: 0 | U18: 0 | V18: 0 | W18: 0 | X18: 0 | Y18: 0 | Z18: 0 | AA18: 0 | AB18: 0 | AC18: 0 | AD18: 0 | AE18: 0 | AF18: 0 | AG18: 0 | AH18: 0 | AI18: 0 | AJ18: 0 | AK18: 0 | AL18: 0 | AM18: 0 | AN18: 0 | AO18: 0 | AP18: 0 | AQ18: 0 | AR18: 0 | AT18: 0 | AU18: 0 | AV18: 0 | AW18: 0
A19: 17 | B19: 石巻 | C19: 医療法人社団信和会 | D19: 医療法人社団信和会ものうファミリークリニック | E19: 河野 秀信 | F19: 40087 | G19: 986-0313 | H19: 石巻市桃生町中津山字八木167-4 | I19: （0225）76-4024 | J19: ○ | K19: 0 | L19: 0 | M19: 0 | N19: 0 | O19: 0 | P19: 0 | Q19: 0 | R19: 0 | S19: 0 | T19: 0 | U19: ○ | V19: 0 | W19: 0 | X19: 0 | Y19: 0 | Z19: 0 | AA19: 0 | AB19: 0 | AC19: 0 | AD19: 0 | AE19: 0 | AF19: 0 | AG19: 0 | AH19: 0 | AI19: 0 | AJ19: 0 | AK19: 0 | AL19: 0 | AM19: 0 | AN19: 0 | AO19: 0 | AP19: 0 | AQ19: 0 | AR19: 0 | AT19: 0 | AU19: 0 | AV19: 0 | AW19: 0
A20: 18 | B20: 石巻 | C20: 医療法人 博愛仁志会 | D20: 栗原医院 | E20: 栗原 洋志 | F20: 40391 | G20: 986-0314 | H20: 石巻市桃生町寺崎字舟場前23-1 | I20: （0225）76-4170 | J20: ○ | K20: 0 | L20: 0 | M20: 0 | N20: 0 | O20: 0 | P20: 0 | Q20: 0 | R20: 0 | S20: 0 | T20: 0 | U20: 0 | V20: ○ | W20: ○ | X20: 0 | Y20: 0 | Z20: 0 | AA20: 0 | AB20: 0 | AC20: 0 | AD20: 0 | AE20: 0 | AF20: 0 | AG20: 0 | AH20: 0 | AI20: 0 | AJ20: 0 | AK20: 0 | AL20: 0 | AM20: 0 | AN20: 0 | AO20: 0 | AP20: 0 | AQ20: 0 | AR20: 0 | AT20: 19 | AU20: 10 | AV20: 9 | AW20: 0
A21: 19 | B21: 石巻 | C21: 医療法人 アイワイシー | D21: いしのまき矢吹クリニック | E21: 矢吹 法孝 | F21: 40238 | G21: 986-0805 | H21: 石巻市大橋3-2-7 | I21: （0225）21-6117 | J21: ○ | K21: 0 | L21: 0 | M21: 0 | N21: 0 | O21: 0 | P21: ○ | Q21: 0 | R21: 0 | S21: 0 | T21: 0 | U21: 0 | V21: 0 | W21: 0 | X21: 0 | Y21: 0 | Z21: 0 | AA21: 0 | AB21: 0 | AC21: 0 | AD21: 0 | AE21: 0 | AF21: 0 | AG21: 0 | AH21: 0 | AI21: 0 | AJ21: 0 | AK21: 0 | AL21: 0 | AM21: 0 | AN21: 0 | AO21: 0 | AP21: 0 | AQ21: 0 | AR21: 0 | AT21: 0 | AU21: 0 | AV21: 0 | AW21: 0
A22: 20 | B22: 石巻 | C22: 医療法人 古山内科・循環器科 | D22: 古山内科・循環器科 | E22: 古山 元之 | F22: 35045 | G22: 986-0811 | H22: 石巻市元倉1-9-9-8 | I22: （0225）23-0221 | J22: ○ | K22: 0 | L22: 0 | M22: 0 | N22: 0 | O22: ○ | Q22: 0 | R22: ○ | S22: 0 | T22: 0 | U22: 0 | V22: 0 | X22: 0 | Y22: 0 | Z22: 0 | AA22: 0 | AB22: 0 | AC22: 0 | AD22: 0 | AE22: 0 | AF22: 0 | AG22: 0 | AH22: 0 | AI22: 0 | AJ22: 0 | AK22: 0 | AL22: 0 | AM22: 0 | AN22: 0 | AP22: 0 | AQ22: 0 | AR22: 0 | AS22: 循環器内科、呼吸器内科 | AT22: 0 | AU22: 0 | AV22: 0 | AW22: 0
A23: 21 | B23: 石巻 | C23: 医療法人 きし内科クリニック | D23: 駅前北きし内科クリニック | E23: 岸 幹夫 | F23: 41334 | G23: 986-0813 | H23: 石巻市駅前北通り1-14-21 | I23: （0225）95-3123 | J23: ○ | K23: 0 | L23: 0 | M23: 0 | N23: 0 | O23: ○ | P23: ○ | Q23: 0 | R23: ○ | S23: 0 | T23: 0 | U23: 0 | X23: 0 | Y23: 0 | Z23: 0 | AA23: 0 | AB23: 0 | AC23: 0 | AD23: 0 | AE23: 0 | AF23: 0 | AG23: 0 | AJ23: 0 | AK23: 0 | AL23: 0 | AM23: 0 | AN23: 0 | AO23: 0 | AP23: 0 | AQ23: 0 | AR23: 0 | AS23: 消化器内科、循環器内科、呼吸器内科 | AU23: 0
A24: 22 | B24: 石巻 | C24: 医療法人社団 伊藤内科クリニック | D24: 伊藤内科クリニック | E24: 伊藤 健一 | F24: 35796 | G24: 986-0815 | H24: 石巻市中里2-12-1 | I24: （0225）96-6372 | J24: ○ | N24: 0 | O24: 0 | P24: 0 | Q24: 0 | R24: ○ | S24: 0 | T24: 0 | U24: 0 | V24: 0 | W24: 0 | X24: 0 | Y24: 0 | Z24: 0 | AA24: 0 | AB24: 0 | AC24: 0 | AD24: 0 | AE24: 0 | AF24: 0 | AG24: 0 | AH24: 0 | AI24: 0 | AJ24: 0 | AK24: 0 | AL24: 0 | AM24: 0 | AN24: 0 | AO24: 0 | AP24: 0 | AQ24: 0 | AR24: 0 | AT24: 0 | AU24: 0 | AV24: 0
A25: 23 | B25: 石巻 | C25: 医療法人社団 伊藤内科クリニック | D25: いとう心療クリニック | E25: 伊藤 健太郎 | F25: 40452 | G25: 986-0815 | H25: 石巻市中里2-12-26 | I25: (0225)98-3201 | K25: ○ | L25: ○
A26: 24 | B26: 石巻 | C26: 医療法人 中山こどもクリニック | D26: 中山こどもクリニック | E26: 中山 孝之 | F26: 35796 | G26: 986-0815 | H26: 石巻市中里3-4-27 | I26: （0225）95-4121 | K26: 0 | L26: 0 | M26: 0 | N26: 0 | O26: 0 | P26: 0 | Q26: 0 | R26: 0 | S26: 0 | T26: 0 | U26: ○ | W26: 0 | X26: 0 | Y26: 0 | Z26: 0 | AA26: 0 | AB26: 0 | AC26: 0 | AD26: 0 | AE26: 0 | AF26: 0 | AG26: 0 | AH26: 0 | AJ26: 0 | AK26: 0 | AL26: 0 | AM26: 0 | AN26: 0 | AO26: 0 | AP26: 0 | AQ26: 0 | AR26: 0 | AT26: 0 | AU26: 0 | AV26: 0 | AW26: 0
A27: 25 | B27: 石巻 | C27: 宮城 秀晃 | D27: 宮城クリニック | E27: 宮城 秀晃 | F27: 35551 | G27: 986-0815 | H27: 石巻市中里7-3-35 | I27: （0225）22-5410 | J27: ○ | K27: 0 | L27: ○ | M27: ○ | N27: 0 | O27: 0 | P27: 0 | Q27: 0 | R27: 0 | S27: 0 | T27: 0 | U27: 0 | V27: 0 | W27: 0 | X27: 0 | Y27: 0 | Z27: 0 | AA27: 0 | AB27: 0 | AC27: 0 | AD27: 0 | AE27: 0 | AF27: 0 | AG27: 0 | AH27: 0 | AI27: 0 | AJ27: 0 | AK27: 0 | AL27: 0 | AM27: 0 | AN27: 0 | AO27: 0 | AP27: 0 | AQ27: 0 | AR27: 0 | AT27: 0 | AU27: 0 | AV27: 0 | AW27: 0
A28: 26 | B28: 石巻 | C28: 医療法人桐葉会 | D28: よしろう内科 | E28: 千葉 淑朗 | F28: 42552 | G28: 986-0821 | H28: 石巻市住吉町1-8-46 | I28: （0225）22-3277 | J28: ○ | L28: 0 | M28: 0 | N28: 0 | O28: ○ | Q28: ○ | R28: ○ | S28: ○ | T28: 0 | U28: 0 | V28: 0 | W28: 0 | X28: 0 | Y28: 0 | Z28: 0 | AA28: 0 | AB28: 0 | AC28: 0 | AD28: 0 | AE28: 0 | AF28: 0 | AG28: 0 | AH28: 0 | AI28: 0 | AJ28: 0 | AK28: 0 | AM28: 0 | AN28: 0 | AO28: 0 | AP28: 0 | AQ28: 0 | AR28: 0 | AS28: 腎臓内科、糖尿病内科、循環器内科、呼吸器内科 | AT28: 0 | AU28: 0 | AV28: 0 | AW28: 0
A29: 27 | B29: 石巻 | C29: 医療法人 玄秀会 | D29: 千葉内科クリニック | E29: 千葉 秀三 | F29: 38353 | G29: 986-0821 | H29: 石巻市住吉町2-5-2 | I29: (0225)21-6336 | J29: ○ | K29: 0 | L29: 0 | M29: 0 | N29: 0 | O29: ○ | R29: ○ | S29: 0 | T29: 0 | U29: ○ | X29: 0 | Y29: 0 | Z29: 0 | AA29: 0 | AB29: 0 | AC29: 0 | AD29: 0 | AE29: 0 | AF29: 0 | AG29: 0 | AH29: 0 | AI29: 0 | AJ29: 0 | AK29: 0 | AM29: 0 | AN29: 0 | AP29: 0 | AR29: 0 | AW29: 休止中
A30: 28 | B30: 石巻 | C30: 医療法人社団 佐藤整形外科医院 | D30: 佐藤整形外科医院 | E30: 佐藤 俊一郎 | F30: 32492 | G30: 986-0822 | H30: 石巻市中央1-13-17 | I30: （0225）95-1755 | J30: 0 | K30: 0 | L30: 0 | M30: 0 | N30: 0 | O30: 0 | P30: 0 | Q30: 0 | R30: 0 | S30: 0 | T30: ○ | U30: 0 | V30: 0 | W30: ○ | X30: 0 | Y30: 0 | Z30: 0 | AA30: 0 | AB30: 0 | AC30: 0 | AD30: 0 | AE30: 0 | AF30: 0 | AG30: 0 | AH30: 0 | AI30: 0 | AJ30: 0 | AK30: 0 | AL30: 0 | AM30: 0 | AN30: 0 | AO30: ○ | AP30: 0 | AQ30: 0 | AR30: 0 | AU30: 0
A31: 29 | B31: 石巻 | C31: 医療法人社団 齋藤産婦人科医院 | D31: 齋藤産婦人科医院 | E31: 齋藤 潔 | F31: 45870 | G31: 986-0822 | H31: 石巻市中央3-5-26 | I31: （0225）22-0707 | K31: 0 | L31: 0 | M31: 0 | N31: 0 | O31: 0 | Q31: 0 | S31: 0 | T31: 0 | U31: 0 | V31: 0 | W31: 0 | X31: 0 | Y31: 0 | Z31: 0 | AA31: 0 | AB31: 0 | AC31: 0 | AD31: 0 | AE31: 0 | AF31: 0 | AG31: 0 | AH31: 0 | AI31: ○ | AJ31: 0 | AK31: 0 | AL31: 0 | AM31: 0 | AN31: 0 | AO31: 0 | AQ31: 0 | AR31: 0 | AU31: 0 | AW31: 0
A32: 30 | B32: 石巻 | C32: 医療法人社団 石巻診療所 | D32: 石巻診療所 | E32: 矢崎 重彦 | F32: 32676 | G32: 986-0825 | H32: 石巻市穀町5-24 | I32: （0225）23-0125 | J32: ○ | K32: 0 | L32: 0 | M32: 0 | N32: 0 | O32: 0 | P32: 0 | Q32: 0 | R32: 0 | S32: 0 | T32: ○ | U32: 0 | W32: ○ | X32: 0 | Y32: 0 | Z32: 0 | AA32: 0 | AB32: 0 | AC32: 0 | AD32: 0 | AE32: 0 | AF32: 0 | AG32: 0 | AH32: 0 | AI32: 0 | AJ32: 0 | AK32: 0 | AL32: 0 | AM32: 0 | AN32: 0 | AO32: ○ | AP32: 0 | AQ32: 0 | AR32: 0 | AT32: 0 | AU32: 0 | AV32: 0 | AW32: 0
A33: 31 | B33: 石巻 | C33: 医療法人社団かわらだ内科・胃大腸クリニック | D33: かわらだ内科・胃大腸クリニック | E33: 川原田博章 | F33: 36691 | G33: 986-0826 | H33: 石巻市鋳銭場1-10 | I33: （0225）21-5335 | J33: ○ | K33: 0 | L33: 0 | M33: 0 | N33: 0 | O33: 0 | Q33: ○ | R33: 0 | S33: 0 | T33: 0 | U33: ○ | V33: 0 | W33: 0 | X33: 0 | Y33: 0 | Z33: 0 | AA33: 0 | AB33: 0 | AC33: 0 | AD33: 0 | AE33: 0 | AF33: 0 | AG33: 0 | AH33: 0 | AI33: 0 | AJ33: 0 | AK33: 0 | AL33: 0 | AM33: 0 | AN33: 0 | AO33: 0 | AP33: 0 | AQ33: 0 | AR33: 0 | AT33: 0 | AU33: 0 | AV33: 0 | AW33: 0
A34: 32 | B34: 石巻 | C34: 一般社団法人 石巻市医師会 | D34: 一般社団法人石巻市医師会附属診療所 | E34: 佐藤 清壽 | F34: 30348 | G34: 986-0826 | H34: 石巻市鋳銭場1-27 | I34: （0225）95-6238 | J34: ○ | K34: 0 | L34: 0 | M34: 0 | N34: 0 | O34: 0 | P34: 0 | Q34: 0 | R34: 0 | S34: 0 | T34: 0 | U34: 0 | V34: 0 | W34: 0 | X34: 0 | Y34: 0 | Z34: 0 | AA34: 0 | AB34: 0 | AC34: 0 | AD34: 0 | AE34: 0 | AF34: 0 | AG34: 0 | AH34: 0 | AI34: 0 | AJ34: 0 | AK34: 0 | AL34: 0 | AM34: 0 | AN34: 0 | AO34: 0 | AP34: 0 | AQ34: 0 | AR34: 0 | AT34: 0 | AU34: 0 | AV34: 0 | AW34: 0
A35: 33 | B35: 石巻 | C35: 医療法人社団 六郷耳鼻咽喉科 | D35: 六郷耳鼻咽喉科 | E35: 六郷 正暁 | F35: 32856 | G35: 986-0826 | H35: 石巻市鋳銭場5-35 | I35: （0225）22-5012 | J35: 0 | K35: 0 | L35: 0 | M35: 0 | N35: 0 | O35: 0 | P35: 0 | Q35: 0 | R35: 0 | S35: 0 | T35: 0 | U35: 0 | V35: 0 | W35: 0 | X35: 0 | Y35: 0 | Z35: 0 | AA35: 0 | AB35: 0 | AC35: 0 | AD35: 0 | AE35: 0 | AF35: 0 | AG35: 0 | AH35: 0 | AI35: 0 | AJ35: 0 | AK35: 0 | AL35: 0 | AM35: ○ | AN35: ○ | AO35: 0 | AP35: 0 | AQ35: 0 | AR35: 0 | AT35: 0 | AU35: 0 | AV35: 0 | AW35: 0
A36: 34 | B36: 石巻 | C36: 医療法人 髙橋消化器内科 | D36: 髙橋消化器内科 | E36: 髙橋 邦広 | F36: 32856 | G36: 986-0827 | H36: 石巻市千石町2-5 | I36: （0225）95-1621 | J36: ○ | K36: 0 | L36: 0 | M36: 0 | N36: 0 | O36: 0 | P36: ○ | Q36: 0 | R36: 0 | S36: 0 | T36: 0 | U36: 0 | V36: 0 | W36: 0 | X36: 0 | Y36: 0 | Z36: 0 | AA36: 0 | AB36: 0 | AC36: 0 | AD36: 0 | AE36: 0 | AF36: 0 | AG36: 0 | AH36: 0 | AI36: 0 | AJ36: 0 | AK36: 0 | AL36: 0 | AM36: 0 | AN36: 0 | AO36: 0 | AP36: 0 | AQ36: 0 | AR36: 0 | AT36: 0 | AU36: 0 | AV36: 0 | AW36: 0
A37: 35 | B37: 石巻 | C37: 医療法人 阿部こどもクリニック | D37: 阿部こどもクリニック | E37: 阿部淳一郎 | F37: 35796 | G37: 986-0827 | H37: 石巻市千石町6-11 | I37: （0225）22-1152 | J37: 0 | K37: 0 | L37: 0 | M37: 0 | N37: 0 | O37: 0 | P37: 0 | Q37: 0 | R37: 0 | S37: 0 | T37: 0 | U37: ○ | V37: 0 | W37: 0 | X37: 0 | Y37: 0 | Z37: 0 | AA37: 0 | AB37: 0 | AC37: 0 | AD37: 0 | AE37: 0 | AF37: 0 | AG37: 0 | AH37: 0 | AI37: 0 | AJ37: 0 | AK37: 0 | AL37: 0 | AM37: 0 | AN37: 0 | AO37: 0 | AP37: 0 | AQ37: 0 | AR37: 0 | AT37: 0 | AU37: 0 | AV37: 0 | AW37: 0
A38: 36 | B38: 石巻 | C38: 医療法人 相沢泌尿器科医院 | D38: 相沢泌尿器科医院 | E38: 相沢 正孝 | F38: 33086 | G38: 986-0834 | H38: 石巻市門脇町1-5-18 | I38: （0225）22-2901 | J38: 0 | K38: 0 | L38: 0 | M38: 0 | N38: 0 | O38: 0 | P38: 0 | Q38: 0 | R38: 0 | S38: 0 | T38: 0 | U38: 0 | V38: ○ | W38: 0 | X38: 0 | Y38: 0 | Z38: 0 | AA38: 0 | AB38: 0 | AC38: 0 | AD38: 0 | AE38: 0 | AF38: ○ | AG38: 0 | AH38: 0 | AI38: 0 | AJ38: 0 | AK38: 0 | AL38: 0 | AM38: 0 | AN38: 0 | AO38: 0 | AP38: 0 | AT38: 0 | AU38: 0 | AV38: 0 | AW38: 0
A39: 37 | B39: 石巻 | C39: 日本製紙株式会社 | D39: 日本製紙株式会社石巻工場診療所 | E39: 大石 千明 | F39: 36448 | G39: 986-0836 | H39: 石巻市南光町1-12-8 | I39: （0225）95-0346 | J39: ○ | K39: 0 | L39: 0 | M39: 0 | N39: 0 | O39: ○ | Q39: 0 | R39: ○ | S39: ○ | T39: 0 | U39: ○ | V39: 0 | W39: 0 | X39: 0 | Y39: 0 | Z39: 0 | AA39: 0 | AB39: 0 | AC39: 0 | AD39: 0 | AE39: ○ | AF39: 0 | AG39: 0 | AH39: 0 | AI39: 0 | AL39: ○ | AN39: 0 | AO39: 0 | AP39: 0 | AQ39: 0 | AR39: 0 | AT39: 0 | AU39: 0 | AV39: 0 | AW39: 0
A40: 38 | B40: 石巻 | C40: 医療法人 清芳会 | D40: 中浦内科医院 | E40: 佐藤 純 | F40: 38825 | G40: 986-0847 | H40: 石巻市中浦1-2-111 | I40: （0225）21-7551 | J40: ○ | K40: 0 | L40: 0 | M40: 0 | N40: 0 | O40: 0 | P40: 0 | Q40: ○ | R40: ○ | S40: 0 | T40: 0 | U40: ○ | V40: 0 | W40: 0 | X40: 0 | Y40: 0 | Z40: 0 | AA40: 0 | AB40: 0 | AC40: 0 | AD40: 0 | AE40: 0 | AF40: 0 | AG40: 0 | AH40: 0 | AI40: 0 | AJ40: 0 | AK40: 0 | AL40: 0 | AM40: 0 | AN40: 0 | AO40: 0 | AP40: 0 | AQ40: 0 | AR40: 0 | AT40: 0 | AU40: 0 | AV40: 0 | AW40: 0
A41: 39 | B41: 石巻 | C41: 医療法人関節外科スポーツクリニック | D41: 関節外科スポーツクリニック石巻 | E41: 髙橋 敦 | F41: 44958 | G41: 986-0850 | H41: 石巻市あゆみ野5丁目2-1 | I41: (0225)98-9901 | W41: ○ | AO41: ○ | AQ41: ○ | AT41: 19 | AV41: 19
A42: 40 | B42: 石巻 | C42: 宮城県 | D42: 宮城県石巻保健所 | E42: 上野 達之 | F42: 43157 | G42: 986-0850 | H42: 石巻市あゆみ野五丁目7番地 | I42: （0225）95-1416 | J42: 0 | K42: 0 | L42: 0 | M42: 0 | N42: 0 | O42: 0 | P42: 0 | Q42: 0 | R42: 0 | S42: 0 | T42: 0 | U42: 0 | V42: 0 | W42: 0 | X42: 0 | Y42: 0 | Z42: 0 | AA42: 0 | AB42: 0 | AC42: 0 | AD42: 0 | AE42: 0 | AF42: 0 | AG42: 0 | AH42: 0 | AI42: 0 | AJ42: 0 | AK42: 0 | AL42: 0 | AM42: 0 | AN42: 0 | AO42: 0 | AP42: 0 | AQ42: 0 | AR42: 0 | AT42: 0 | AU42: 0 | AV42: 0 | AW42: 0
A43: 41 | B43: 石巻 | C43: 宮城県 | D43: 宮城県子ども総合センター附属診療所石巻診療室 | E43: 鈴木 勝昭 | F43: 43174 | G43: 986-0850 | H43: 石巻市あゆみ野五丁目7番地 | I43: （0225）95-1121 | K43: 0 | L43: ○ | M43: 0 | N43: 0 | O43: 0 | P43: 0 | Q43: 0 | R43: 0 | S43: 0 | T43: 0 | V43: 0 | W43: 0 | X43: 0 | Y43: 0 | Z43: 0 | AA43: 0 | AB43: 0 | AC43: 0 | AD43: 0 | AE43: 0 | AF43: 0 | AG43: 0 | AH43: 0 | AI43: 0 | AJ43: 0 | AK43: 0 | AL43: 0 | AM43: 0 | AN43: 0 | AO43: 0 | AP43: 0 | AQ43: 0 | AR43: 0 | AS43: 児童精神科 | AT43: 0 | AU43: 0 | AV43: 0 | AW43: 0
A44: 42 | B44: 石巻 | C44: 渡辺 充 | D44: 渡辺耳鼻咽喉科医院 | E44: 渡辺 充 | F44: 31671 | G44: 986-0851 | H44: 石巻市貞山1-4-5 | I44: （0225）93-1131 | J44: 0 | K44: 0 | L44: 0 | M44: 0 | N44: 0 | O44: 0 | P44: 0 | Q44: 0 | R44: 0 | S44: 0 | T44: 0 | U44: 0 | V44: 0 | W44: 0 | X44: 0 | Y44: 0 | Z44: 0 | AA44: 0 | AB44: 0 | AC44: 0 | AD44: 0 | AE44: 0 | AF44: 0 | AG44: 0 | AH44: 0 | AI44: 0 | AJ44: 0 | AK44: 0 | AL44: 0 | AM44: ○ | AN44: 0 | AO44: 0 | AP44: 0 | AQ44: 0 | AR44: 0 | AT44: 0 | AU44: 0 | AV44: 0 | AW44: 0
A45: 43 | B45: 石巻 | C45: 医療法人 おおば小児クリニック | D45: おおば小児クリニック | E45: 大場 泉 | F45: 32856 | G45: 986-0853 | H45: 石巻市門脇字青葉西38-1 | I45: （0225）93-9693 | J45: 0 | K45: 0 | L45: 0 | M45: 0 | N45: 0 | O45: 0 | P45: 0 | Q45: 0 | R45: 0 | S45: ○ | T45: 0 | U45: ○ | V45: 0 | W45: 0 | X45: 0 | Y45: 0 | Z45: 0 | AA45: 0 | AB45: 0 | AC45: 0 | AD45: 0 | AE45: 0 | AF45: 0 | AG45: 0 | AH45: 0 | AI45: 0 | AJ45: 0 | AK45: 0 | AL45: 0 | AM45: 0 | AN45: 0 | AO45: 0 | AP45: 0 | AQ45: 0 | AR45: 0
A46: 44 | B46: 石巻 | C46: 医療法人 瑞穂会 | D46: 東海林内科胃腸科 | E46: 東海林正邦 | F46: 33436 | G46: 986-0853 | H46: 石巻市門脇字二番谷地13-562 | I46: （0225）96-2823 | J46: ○ | K46: 0 | M46: 0 | N46: 0 | O46: 0 | P46: ○ | Q46: 0 | R46: 0 | S46: 0 | T46: 0 | U46: 0 | V46: 0 | X46: 0 | Y46: 0 | Z46: 0 | AA46: 0 | AB46: 0 | AC46: 0 | AD46: 0 | AE46: 0 | AF46: 0 | AG46: 0 | AH46: 0 | AI46: 0 | AL46: 0 | AN46: 0 | AP46: 0 | AQ46: 0 | AR46: 0
A47: 45 | B47: 石巻 | C47: 山本 博尚 | D47: やまもと産婦人科 | E47: 山本 博尚 | F47: 37681 | G47: 986-0854 | H47: 石巻市大街道北1-3-15 | I47: （0225）93-7000 | J47: ○ | K47: 0 | L47: 0 | M47: 0 | N47: 0 | O47: 0 | P47: 0 | Q47: 0 | R47: 0 | S47: 0 | T47: 0 | U47: 0 | V47: 0 | W47: 0 | X47: 0 | Y47: 0 | Z47: 0 | AA47: 0 | AB47: 0 | AC47: 0 | AD47: 0 | AE47: 0 | AF47: 0 | AG47: 0 | AH47: 0 | AI47: ○ | AJ47: 0 | AK47: 0 | AL47: 0 | AM47: 0 | AN47: 0 | AO47: 0 | AP47: 0 | AQ47: 0 | AR47: 0 | AT47: 0 | AU47: 0 | AV47: 0 | AW47: 0
A48: 46 | B48: 石巻 | C48: 医療法人社団 大樹会 | D48: 大街道じゅんクリニック | E48: 千葉 淳 | F48: 38169 | G48: 986-0854 | H48: 石巻市大街道北3-4-97 | I48: （0225）92-1092 | J48: ○ | K48: 0 | L48: 0 | M48: 0 | N48: 0 | Q48: 0 | U48: ○ | V48: 0 | W48: 0 | X48: 0 | Y48: 0 | Z48: 0 | AA48: 0 | AB48: 0 | AC48: 0 | AD48: 0 | AE48: 0 | AF48: 0 | AG48: 0 | AH48: 0 | AI48: 0 | AJ48: 0 | AK48: 0 | AL48: 0 | AM48: 0 | AN48: 0 | AO48: 0 | AP48: 0 | AQ48: 0 | AR48: 0 | AT48: 0 | AU48: 0 | AV48: 0 | AW48: 0
A49: 47 | B49: 石巻 | C49: 佐藤 保生 | D49: 診療所 在宅医療 | E49: 佐藤 保生 | F49: 40269 | G49: 986-0854 | H49: 石巻市大街道北三丁目6番72号ぷらすぴあさいとうA棟102号・103号 | I49: (0225)98-6255 | J49: ○ | K49: 0 | L49: 0 | M49: 0 | N49: 0 | O49: 0 | P49: 0 | Q49: 0 | R49: 0 | S49: 0 | T49: 0 | U49: 0 | V49: 0 | W49: 0 | X49: 0 | Y49: 0 | Z49: 0 | AA49: 0 | AB49: 0 | AC49: 0 | AD49: 0 | AE49: 0 | AF49: 0 | AG49: 0 | AH49: 0 | AI49: 0 | AJ49: 0 | AK49: 0 | AL49: 0 | AM49: 0 | AN49: 0 | AO49: 0 | AP49: 0 | AQ49: 0 | AR49: 0 | AT49: 0 | AU49: 0 | AV49: 0 | AW49: 0
A50: 48 | B50: 石巻 | C50: 亀田 智統 | D50: 亀田内科皮膚科クリニック | E50: 亀田 智統 | F50: 38723 | G50: 986-0856 | H50: 石巻市大街道南5-4-31 | I50: （0225）95-6118 | J50: ○ | K50: 0 | M50: 0 | N50: 0 | O50: 0 | Q50: ○ | R50: 0 | S50: ○ | T50: 0 | U50: 0 | V50: ○ | X50: 0 | Y50: 0 | Z50: 0 | AA50: 0 | AB50: 0 | AC50: 0 | AD50: 0 | AE50: ○ | AF50: 0 | AG50: 0 | AH50: 0 | AI50: 0 | AL50: 0 | AN50: 0 | AP50: 0 | AQ50: 0 | AR50: 0 | AT50: 0 | AU50: 0 | AV50: 0 | AW50: 0
A51: 49 | B51: 石巻 | C51: 医療法人 天悠会 | D51: 大街道もり眼科医院 | E51: 森 悠大 | F51: 35612 | G51: 986-0859 | H51: 石巻市大街道西2-1-26 | I51: （0225）23-3434 | J51: 0 | K51: 0 | L51: 0 | M51: 0 | N51: 0 | O51: 0 | P51: 0 | Q51: 0 | R51: 0 | S51: 0 | T51: 0 | U51: 0 | V51: 0 | W51: 0 | X51: 0 | Y51: 0 | Z51: 0 | AA51: 0 | AB51: 0 | AC51: 0 | AD51: 0 | AE51: 0 | AF51: 0 | AG51: 0 | AH51: 0 | AI51: 0 | AJ51: 0 | AK51: 0 | AL51: ○ | AM51: 0 | AN51: 0 | AO51: 0 | AP51: 0 | AQ51: 0 | AR51: 0
A52: 50 | B52: 石巻 | C52: 医療法人 あべクリニック産科婦人科 | D52: あべクリニック産科婦人科 | E52: 阿部 雄悟 | F52: 35796 | G52: 986-0859 | H52: 石巻市大街道西2-1-80 | I52: （0225）22-3322 | K52: 0 | L52: 0 | M52: 0 | N52: 0 | P52: 0 | Q52: 0 | R52: 0 | S52: 0 | T52: 0 | U52: 0 | X52: 0 | Y52: 0 | Z52: 0 | AA52: 0 | AB52: 0 | AC52: 0 | AD52: 0 | AE52: 0 | AF52: 0 | AG52: 0 | AH52: 0 | AJ52: ○ | AK52: ○ | AM52: 0 | AN52: 0 | AO52: 0 | AP52: 0 | AQ52: 0 | AR52: 0 | AT52: 17 | AU52: 0 | AV52: 17 | AW52: 0
A53: 51 | B53: 石巻 | C53: 社会福祉法人 夢みの里 | D53: 地域密着型特別養護老人ホーム ラ・ヴィアンロゼ桜の園 | E53: 佐藤 清壽 | F53: 43936 | G53: 986-0861 | H53: 石巻市蛇田字北経塚26-1 | I53: （0225）98-6334 | J53: ○
A54: 52 | B54: 石巻 | C54: 医療法人明星会 | D54: 医療法人明星会あけぼのクリニック | E54: 赤坂 邦 | F54: 45017 | G54: 986-0861 | H54: 石巻市蛇田字上中埣26－1 | I54: (0225)98-3061 | K54: ○ | L54: ○ | AS54: 肛門外科、肛門内科、胃腸内科
A55: 53 | B55: 石巻 | C55: 石巻市 | D55: 石巻市夜間急患センター | E55: 佐藤 仁人 | F55: 42705 | G55: 986-0861 | H55: 石巻市蛇田字西道下71 | I55: （0225）94-5111 | J55: ○ | U55: ○ | V55: ○
A56: 54 | B56: 石巻 | C56: 医療法人なごみ会 | D56: 蛇田さくら内科クリニック | E56: 大坂 美和子 | F56: 45870 | G56: 986-0861 | H56: 石巻市蛇田金津町13-14 | I56: (0225)98-3710 | J56: ○ | R56: ○ | AS56: 循環器内科
A57: 55 | B57: 石巻 | C57: 班目 仁 | D57: まだらめ内科医院 | E57: 班目 仁 | F57: 40940 | G57: 986-0867 | H57: 石巻市わかば2-1-5 | I57: （0225）24-9133 | J57: ○ | N57: ○
A58: 56 | B58: 石巻 | C58: 医療法人 吉萌会 | D58: 佐藤・みみ・はな・のどクリニック | E58: 佐藤 三吉 | F58: 40940 | G58: 986-0867 | H58: 石巻市わかば2-5-5 | I58: （0225）22-3387 | J58: 0 | K58: 0 | L58: 0 | M58: 0 | N58: 0 | O58: 0 | P58: 0 | Q58: 0 | R58: 0 | S58: ○ | T58: 0 | U58: 0 | V58: 0 | W58: 0 | X58: 0 | Y58: 0 | Z58: 0 | AA58: 0 | AB58: 0 | AC58: 0 | AD58: 0 | AE58: 0 | AF58: 0 | AG58: 0 | AH58: 0 | AI58: 0 | AJ58: 0 | AK58: 0 | AL58: 0 | AM58: ○ | AN58: ○ | AO58: 0 | AP58: 0 | AQ58: 0 | AR58: 0 | AT58: 0 | AU58: 0 | AV58: 0 | AW58: 0
A59: 57 | B59: 石巻 | C59: 医療法人 清芳会 | D59: 医療法人清芳会 佐藤内科医院 | E59: 佐藤 清壽 | F59: 40848 | G59: 986-0866 | H59: 石巻市茜平4-104イオン石巻ｼｮｯﾋﾟﾝｸﾞｾﾝﾀｰ1階 | I59: （0225）22-3020 | J59: ○ | P59: ○ | R59: ○ | U59: ○ | AS59: 消化器内科、循環器内科
A60: 58 | B60: 石巻 | C60: 医療法人社団 医眞会 | D60: ます皮膚科医院 | E60: 舛 貴志 | F60: 40751 | G60: 986-0866 | H60: 石巻市茜平一丁目4-1 | I60: （0225）93-3737 | K60: 0 | L60: 0 | M60: 0 | N60: 0 | O60: 0 | Q60: 0 | S60: 0 | T60: 0 | U60: 0 | V60: 0 | W60: 0 | X60: 0 | Y60: 0 | Z60: 0 | AA60: 0 | AB60: 0 | AC60: 0 | AD60: 0 | AE60: ○ | AF60: 0 | AG60: 0 | AH60: 0 | AI60: 0 | AJ60: 0 | AK60: 0 | AL60: 0 | AM60: 0 | AN60: 0 | AO60: 0 | AQ60: 0 | AR60: 0 | AT60: 0 | AU60: 0 | AV60: 0
A61: 59 | B61: 石巻 | C61: 荒井 啓史 | D61: あらい脳神経外科クリニック | E61: 荒井 啓史 | F61: 40672 | G61: 986-0861 | H61: 石巻市蛇田字下中埣27-27 | I61: (0225)98-3671 | Z61: ○
A62: 60 | B62: 石巻 | C62: 社会福祉法人つつじ会 | D62: 社会福祉法人つつじ会特別養護老人ホームアゼイリア医務室 | E62: 太田 耕造 | F62: 36983 | G62: 986-0861 | H62: 石巻市蛇田字小斎61 | I62: （0225）22-8261 | J62: ○ | K62: 0 | L62: 0 | M62: 0 | N62: 0 | O62: 0 | P62: 0 | Q62: 0 | R62: 0 | S62: 0 | T62: 0 | U62: 0 | V62: 0 | W62: 0 | X62: 0 | Y62: 0 | Z62: 0 | AA62: 0 | AB62: 0 | AC62: 0 | AD62: 0 | AE62: 0 | AF62: 0 | AG62: 0 | AH62: 0 | AI62: 0 | AJ62: 0 | AK62: 0 | AL62: 0 | AM62: 0 | AN62: 0 | AO62: 0 | AP62: 0 | AQ62: 0 | AR62: 0 | AT62: 0 | AU62: 0 | AV62: 0 | AW62: 0
A63: 61 | B63: 石巻 | C63: 高屋 りさ | D63: しらゆりクリニック | E63: 高屋 りさ | F63: 40026 | G63: 986-0861 | H63: 石巻市蛇田字新立野３３０番２ | I63: (0225)22-3717 | J63: 0 | K63: 0 | L63: 0 | M63: 0 | N63: 0 | O63: 0 | P63: 0 | Q63: 0 | R63: 0 | S63: 0 | T63: 0 | U63: 0 | V63: 0 | W63: 0 | X63: 0 | Y63: 0 | Z63: 0 | AA63: 0 | AB63: 0 | AC63: 0 | AD63: 0 | AE63: 0 | AF63: 0 | AG63: 0 | AH63: 0 | AI63: 0 | AJ63: 0 | AK63: ○ | AL63: 0 | AM63: 0 | AN63: 0 | AO63: 0 | AP63: 0 | AQ63: 0 | AR63: 0 | AT63: 0 | AU63: 0 | AV63: 0
A64: 62 | B64: 石巻 | C64: 医療法人 池田整形外科医院 | D64: 池田整形外科医院 | E64: 池田理一郎 | F64: 35045 | G64: 986-0861 | H64: 石巻市蛇田字東道下48-1 | I64: （0225）23-2111 | J64: 0 | K64: 0 | L64: 0 | M64: 0 | N64: 0 | O64: 0 | P64: 0 | Q64: 0 | R64: 0 | S64: 0 | T64: 0 | U64: 0 | V64: 0 | W64: ○ | X64: 0 | Y64: 0 | Z64: 0 | AA64: 0 | AB64: 0 | AC64: 0 | AD64: 0 | AE64: 0 | AF64: 0 | AG64: 0 | AH64: 0 | AI64: 0 | AJ64: 0 | AK64: 0 | AL64: 0 | AM64: 0 | AN64: 0 | AP64: 0 | AQ64: 0 | AR64: 0 | AT64: 0 | AU64: 0 | AV64: 0 | AW64: 0
A65: 63 | B65: 石巻 | C65: 医療法人 こばやし医院 | D65: こばやし医院 | E65: 小林 隆夫 | F65: 37257 | G65: 986-0861 | H65: 石巻市蛇田字南経塚7-3 | I65: （0225）22-0789 | J65: ○ | K65: 0 | L65: 0 | M65: 0 | N65: 0 | O65: ○ | P65: 0 | Q65: 0 | R65: 0 | S65: 0 | T65: 0 | U65: 0 | V65: 0 | W65: 0 | X65: 0 | Y65: 0 | Z65: 0 | AA65: 0 | AB65: 0 | AC65: 0 | AD65: 0 | AE65: 0 | AF65: 0 | AG65: 0 | AH65: 0 | AI65: 0 | AJ65: 0 | AK65: 0 | AL65: 0 | AM65: 0 | AN65: 0 | AO65: 0 | AP65: 0 | AQ65: 0 | AR65: 0 | AT65: 0 | AU65: 0 | AV65: 0 | AW65: 0
A66: 64 | B66: 石巻 | C66: 医療法人社団 小林耳鼻咽喉科医院 | D66: 小林耳鼻咽喉科医院 | E66: 小林 義臣 | F66: 34988 | G66: 986-0861 | H66: 石巻市蛇田字北経塚72-1 | I66: （0225）95-9537 | K66: 0 | L66: 0 | M66: 0 | N66: 0 | O66: 0 | P66: 0 | Q66: 0 | R66: 0 | S66: ○ | T66: 0 | U66: 0 | V66: 0 | W66: 0 | X66: 0 | Y66: 0 | Z66: 0 | AA66: 0 | AB66: 0 | AC66: 0 | AD66: 0 | AE66: 0 | AF66: 0 | AG66: 0 | AH66: 0 | AI66: 0 | AJ66: 0 | AK66: 0 | AL66: 0 | AM66: ○ | AN66: ○ | AO66: 0 | AP66: 0 | AQ66: 0 | AR66: 0 | AT66: 0 | AU66: 0 | AV66: 0 | AW66: 0
A67: 65 | B67: 石巻 | C67: 医療法人社団 箕田内科クリニック | D67: 医療法人社団 箕田内科クリニック | E67: 箕田 紳一郎 | F67: 39083 | G67: 986-0863 | H67: 石巻市向陽町2-1-19 | I67: （0225）96-5252 | J67: ○ | K67: 0 | L67: 0 | M67: 0 | N67: 0 | O67: 0 | P67: 0 | Q67: 0 | R67: ○ | S67: 0 | T67: 0 | U67: 0 | V67: 0 | W67: 0 | X67: 0 | Y67: 0 | Z67: 0 | AA67: 0 | AB67: 0 | AC67: 0 | AD67: 0 | AE67: 0 | AF67: 0 | AG67: 0 | AH67: 0 | AI67: 0 | AJ67: 0 | AK67: 0 | AL67: 0 | AM67: 0 | AN67: 0 | AO67: 0 | AP67: 0 | AQ67: 0 | AR67: 0 | AT67: 0 | AU67: 0 | AV67: 0 | AW67: 0
A68: 66 | B68: 石巻 | C68: 医療法人社団 遥純会 | D68: あいかわ小児クリニック | E68: 相川 純一郎 | F68: 38353 | G68: 986-0865 | H68: 石巻市丸井戸３－４－１０ | I68: （0225）92-8805 | J68: 0 | K68: 0 | L68: 0 | M68: 0 | N68: 0 | O68: 0 | P68: 0 | Q68: 0 | R68: 0 | S68: 0 | T68: 0 | U68: ○ | V68: 0 | W68: 0 | X68: 0 | Y68: 0 | Z68: 0 | AA68: 0 | AB68: 0 | AC68: 0 | AD68: 0 | AE68: 0 | AF68: 0 | AG68: 0 | AH68: 0 | AI68: 0 | AJ68: 0 | AK68: 0 | AL68: 0 | AM68: 0 | AN68: 0 | AO68: 0 | AP68: 0 | AQ68: 0 | AR68: 0 | AT68: 0 | AU68: 0 | AV68: 0 | AW68: 休止中
A69: 67 | B69: 石巻 | C69: 佐藤 尊厳 | D69: 茜平クリニック | E69: 佐藤 尊厳 | F69: 42472 | G69: 986-0866 | H69: 石巻市茜平2-2-17 | I69: (0225)98-5108 | J69: ○ | K69: 0 | L69: 0 | M69: 0 | N69: 0 | O69: 0 | P69: 0 | Q69: 0 | R69: ○ | S69: 0 | T69: 0 | U69: 0 | X69: 0 | Y69: 0 | Z69: 0 | AA69: 0 | AB69: 0 | AC69: 0 | AD69: 0 | AE69: 0 | AF69: 0 | AG69: 0 | AH69: 0 | AI69: 0 | AJ69: 0 | AK69: 0 | AM69: 0 | AN69: 0 | AO69: 0 | AP69: 0 | AR69: 0 | AS69: 循環器内科 | AU69: 0 | AW69: 0
A70: 68 | B70: 石巻 | C70: 医療法人社団 鉄祐会 | D70: 祐ホームクリニック石巻 | E70: 武藤 真祐 | F70: 42156 | G70: 986-0867 | H70: 石巻市わかば2-13-5 | I70: 050-3777-2177 | J70: ○ | R70: ○ | AS70: 循環器内科、緩和ケア内科
A71: 69 | B71: 石巻 | C71: 山本 康央 | D71: いしのまき山本クリニック | E71: 山本 康央 | F71: 45441 | G71: 986-0868 | H71: 石巻市恵み野5－10－38 | I71: （0225）92-7311 | J71: ○ | K71: 0 | L71: 0 | M71: 0 | N71: 0 | O71: 0 | Q71: 0 | R71: 0 | S71: 0 | T71: 0 | U71: 0 | V71: 0 | W71: 0 | X71: 0 | Y71: 0 | Z71: 0 | AA71: 0 | AB71: 0 | AC71: 0 | AD71: 0 | AE71: 0 | AF71: 0 | AG71: 0 | AH71: 0 | AI71: 0 | AJ71: 0 | AK71: 0 | AL71: 0 | AM71: 0 | AN71: 0 | AO71: 0 | AP71: 0 | AQ71: 0 | AR71: 0 | AS71: 消化器内科 | AT71: 0 | AU71: 0 | AV71: 0 | AW71: 0
A72: 70 | B72: 石巻 | C72: 中川 陽一 | D72: なかがわ眼科 | E72: 中川 陽一 | F72: 39539 | G72: 986-0868 | H72: 石巻市恵み野5－10－41 | I72: （0225）92-0211 | J72: 0 | K72: 0 | L72: 0 | M72: 0 | N72: 0 | O72: 0 | P72: 0 | Q72: 0 | R72: 0 | S72: 0 | T72: 0 | U72: 0 | V72: 0 | W72: 0 | X72: 0 | Y72: 0 | Z72: 0 | AA72: 0 | AB72: 0 | AC72: 0 | AD72: 0 | AE72: 0 | AF72: 0 | AG72: 0 | AH72: 0 | AI72: 0 | AJ72: 0 | AK72: 0 | AL72: ○ | AM72: 0 | AN72: 0 | AO72: 0 | AP72: 0 | AQ72: 0 | AR72: 0 | AT72: 0 | AU72: 0 | AV72: 0 | AW72: 0
A73: 71 | B73: 石巻 | C73: 医療法人社団 上石内科クリニック | D73: 上石内科クリニック | E73: 上石 惠一 | F73: 33673 | G73: 986-0871 | H73: 石巻市清水町1-7-12 | I73: （0225）22-2602 | J73: ○ | K73: 0 | M73: 0 | N73: 0 | O73: 0 | P73: 0 | Q73: ○ | R73: 0 | S73: 0 | T73: 0 | U73: 0 | V73: 0 | X73: 0 | Y73: 0 | Z73: 0 | AA73: 0 | AB73: 0 | AC73: 0 | AD73: 0 | AE73: 0 | AF73: 0 | AG73: 0 | AH73: 0 | AI73: 0 | AL73: 0 | AN73: 0 | AP73: 0 | AQ73: 0 | AR73: 0 | AT73: 0 | AU73: 0 | AV73: 0 | AW73: 0
A74: 72 | B74: 石巻 | C74: 社会福祉法人 和仁福祉会 | D74: 特別養護老人ホーム和香園医務室 | E74: 白土 邦男 | F74: 30042 | G74: 986-0873 | H74: 石巻市山下町1-11-22 | I74: （0225）93-8330 | J74: ○ | K74: 0 | L74: 0 | M74: 0 | N74: 0 | O74: 0 | P74: 0 | Q74: 0 | R74: 0 | S74: 0 | T74: 0 | U74: 0 | V74: 0 | W74: 0 | X74: 0 | Y74: 0 | Z74: 0 | AA74: 0 | AB74: 0 | AC74: 0 | AD74: 0 | AE74: 0 | AF74: 0 | AG74: 0 | AH74: 0 | AI74: 0 | AJ74: 0 | AK74: 0 | AL74: 0 | AM74: 0 | AN74: 0 | AO74: 0 | AP74: 0 | AQ74: 0 | AR74: 0 | AT74: 0 | AU74: 0 | AV74: 0 | AW74: 0
A75: 73 | B75: 石巻 | C75: 国立大学法人東北大学 | D75: 東北大学 東北メディカル・メガバンク機構 地域支援石巻センター | E75: 大類 真嗣 | F75: 41575 | G75: 986-0873 | H75: 石巻市山下二丁目3-28 | AS75: 臨床検査科
A76: 74 | B76: 石巻 | C76: 医療法人 宏人会 | D76: 医療法人宏人会石巻クリニック | E76: 金澤 雅之 | F76: 32644 | G76: 986-0877 | H76: 石巻市錦町6-45 | I76: （0225）22-8822 | J76: ○ | K76: 0 | L76: 0 | M76: 0 | N76: 0 | O76: 0 | P76: 0 | Q76: 0 | R76: 0 | S76: 0 | T76: 0 | U76: 0 | V76: 0 | W76: 0 | X76: 0 | Y76: 0 | Z76: 0 | AA76: 0 | AB76: 0 | AC76: 0 | AD76: 0 | AE76: 0 | AF76: ○ | AG76: 0 | AH76: 0 | AI76: 0 | AJ76: 0 | AK76: 0 | AL76: 0 | AM76: 0 | AN76: 0 | AO76: 0 | AP76: 0 | AQ76: 0 | AR76: 0 | AT76: 0 | AU76: 0 | AV76: 0 | AW76: 0
A77: 75 | B77: 石巻 | C77: 土井 洋 | D77: 土井眼科クリニック | E77: 土井 洋 | F77: 42654 | G77: 986-0878 | H77: 石巻市新橋3-11 | I77: (0225)25-7315 | K77: 0 | L77: 0 | M77: 0 | N77: 0 | O77: 0 | P77: 0 | Q77: 0 | R77: 0 | S77: 0 | T77: 0 | U77: 0 | X77: 0 | Y77: 0 | Z77: 0 | AA77: 0 | AB77: 0 | AC77: 0 | AD77: 0 | AE77: 0 | AF77: 0 | AG77: 0 | AH77: 0 | AI77: 0 | AJ77: 0 | AK77: 0 | AL77: ○ | AM77: 0 | AN77: 0 | AO77: 0 | AP77: 0 | AR77: 0 | AU77: 0 | AW77: 0
A78: 76 | B78: 石巻 | C78: 医療法人 済生の森 | D78: 森消化器内科外科 | E78: 秋山 輝 | F78: 43466 | G78: 986-0878 | H78: 石巻市新橋5-33 | I78: （0225）23-2151 | J78: ○ | K78: 0 | L78: 0 | M78: 0 | N78: 0 | O78: 0 | P78: ○ | Q78: 0 | R78: 0 | S78: 0 | T78: 0 | U78: 0 | V78: ○ | W78: 0 | X78: 0 | Y78: 0 | Z78: 0 | AA78: 0 | AB78: 0 | AC78: 0 | AD78: 0 | AE78: 0 | AF78: 0 | AG78: 0 | AH78: 0 | AI78: 0 | AJ78: 0 | AK78: 0 | AL78: 0 | AM78: 0 | AN78: 0 | AO78: 0 | AP78: 0 | AQ78: 0 | AR78: 0 | AS78: 消化器内科 | AW78: 0
A79: 77 | B79: 石巻 | C79: 社会福祉法人 慶和会 | D79: 特別養護老人ホーム 石巻花いちもんめ | E79: 佐藤 麻理 | F79: 43084 | G79: 986-1111 | H79: 石巻市鹿又字扇平57番地 | I79: (0225)98-9554 | J79: ○ | AW79: 0
A80: 78 | B80: 石巻 | C80: 医療法人社団千裕会 | D80: 紫桃内科医院 | E80: 紫桃 正裕 | F80: 36874 | G80: 986-1111 | H80: 石巻市鹿又字伊勢前53-2 | I80: （0225）75-2325 | J80: ○ | K80: 0 | L80: 0 | M80: 0 | N80: 0 | O80: ○ | P80: ○ | Q80: 0 | R80: ○ | S80: 0 | T80: 0 | U80: ○ | V80: 0 | W80: 0 | X80: 0 | Y80: 0 | Z80: 0 | AA80: 0 | AB80: 0 | AC80: 0 | AD80: 0 | AE80: 0 | AF80: 0 | AG80: 0 | AH80: 0 | AI80: 0 | AJ80: 0 | AK80: 0 | AL80: 0 | AM80: 0 | AN80: 0 | AO80: 0 | AP80: 0 | AQ80: 0 | AR80: 0 | AT80: 0 | AU80: 0 | AV80: 0 | AW80: 0
A81: 79 | B81: 石巻 | C81: 社会福祉法人一視同仁会 | D81: 特別養護老人ホーム花水木診療所 | E81: 簡野 泰裕 | F81: 36297 | G81: 986-1111 | H81: 石巻市鹿又字八幡前15 | I81: （0225）86-5088 | J81: ○ | K81: 0 | L81: 0 | M81: 0 | N81: 0 | O81: 0 | P81: 0 | Q81: 0 | R81: 0 | S81: 0 | T81: 0 | U81: 0 | V81: 0 | W81: 0 | X81: 0 | Y81: 0 | Z81: 0 | AA81: 0 | AB81: 0 | AC81: 0 | AD81: 0 | AE81: 0 | AF81: 0 | AG81: 0 | AH81: 0 | AI81: 0 | AJ81: 0 | AK81: 0 | AL81: 0 | AM81: 0 | AN81: 0 | AO81: 0 | AP81: 0 | AQ81: 0 | AR81: 0 | AT81: 0 | AU81: 0 | AV81: 0 | AW81: 0
A82: 80 | B82: 石巻 | C82: 医療法人 簡野医院 | D82: 簡野医院 | E82: 簡野 泰裕 | F82: 38353 | G82: 986-1111 | H82: 石巻市鹿又字八幡前17-4 | I82: （0225）74-2244 | J82: ○ | K82: 0 | L82: 0 | M82: 0 | N82: 0 | O82: 0 | P82: 0 | Q82: 0 | R82: 0 | S82: 0 | T82: 0 | U82: ○ | V82: 0 | W82: 0 | X82: 0 | Y82: 0 | Z82: 0 | AA82: 0 | AB82: 0 | AC82: 0 | AD82: 0 | AE82: 0 | AF82: 0 | AG82: 0 | AH82: 0 | AI82: 0 | AJ82: 0 | AK82: 0 | AL82: 0 | AM82: 0 | AN82: 0 | AO82: 0 | AP82: 0 | AQ82: 0 | AR82: 0 | AT82: 0 | AU82: 0 | AV82: 0 | AW82: 0
A83: 81 | B83: 石巻 | C83: 石巻市 | D83: 石巻市雄勝診療所 | E83: 末永 拓郎 | F83: 42751 | G83: 986-1332 | H83: 石巻市雄勝町小島字和田123 | I83: (0225)-25-7641 | J83: ○ | V83: ○ | W83: ○
A84: 82 | B84: 石巻 | C84: 社会福祉法人 旭壽会 | D84: 雄心苑診療所 | E84: 勝田 義久 | F84: 35543 | G84: 986-1332 | H84: 石巻市雄勝町小島字和田123 | I84: （0225）57-3612 | J84: ○ | K84: 0 | M84: 0 | N84: 0 | O84: 0 | P84: 0 | Q84: 0 | R84: 0 | S84: 0 | T84: 0 | U84: 0 | V84: ○ | W84: ○ | X84: 0 | Y84: 0 | Z84: 0 | AA84: 0 | AB84: 0 | AC84: 0 | AD84: 0 | AE84: 0 | AF84: 0 | AG84: 0 | AH84: 0 | AI84: 0 | AJ84: 0 | AK84: 0 | AL84: 0 | AM84: 0 | AN84: 0 | AO84: 0 | AP84: 0 | AQ84: 0 | AR84: ○ | AT84: 0 | AU84: 0 | AV84: 0 | AW84: 0
A85: 83 | B85: 石巻 | C85: 社会福祉法人こごた福祉会 | D85: 養護老人ホーム万生園診療所 | E85: 鈴木 綾子 | F85: 39904 | G85: 986-2102 | H85: 石巻市沢田字折立入61-2 | I85: （0225）24-1057 | J85: ○ | K85: 0 | M85: 0 | N85: 0 | O85: 0 | P85: 0 | Q85: 0 | R85: 0 | S85: 0 | T85: 0 | U85: 0 | V85: 0 | W85: 0 | X85: 0 | Y85: 0 | Z85: 0 | AA85: 0 | AB85: 0 | AC85: 0 | AD85: 0 | AE85: 0 | AF85: 0 | AG85: 0 | AH85: 0 | AI85: 0 | AJ85: 0 | AK85: 0 | AL85: 0 | AM85: 0 | AN85: 0 | AO85: 0 | AP85: 0 | AQ85: 0 | AR85: 0 | AT85: 0 | AU85: 0 | AV85: 0 | AW85: 0
A86: 84 | B86: 石巻 | C86: 社会福祉法人 和仁福祉会 | D86: 特別養護老人ホーム涼風園医務室 | E86: 齋藤 仁一 | F86: 38322 | G86: 986-2103 | H86: 石巻市流留字沖30-3 | I86: （0225）93-8330 | J86: ○ | K86: 0 | L86: 0 | M86: 0 | N86: 0 | O86: 0 | P86: 0 | Q86: 0 | R86: 0 | S86: 0 | T86: 0 | U86: 0 | W86: 0 | X86: 0 | Y86: 0 | Z86: 0 | AA86: 0 | AB86: 0 | AC86: 0 | AD86: 0 | AE86: 0 | AF86: 0 | AG86: 0 | AH86: 0 | AI86: 0 | AJ86: 0 | AK86: 0 | AL86: 0 | AM86: 0 | AN86: 0 | AO86: 0 | AP86: 0 | AQ86: 0 | AR86: 0 | AT86: 0 | AU86: 0 | AV86: 0 | AW86: 0
A87: 85 | B87: 石巻 | C87: 医療法人 明尚会 | D87: 久門医院 | E87: 久門 俊勝 | F87: 35796 | G87: 986-2104 | H87: 石巻市垂水町3-6-1 | I87: （0225）97-4141 | J87: ○ | K87: 0 | L87: 0 | M87: 0 | N87: 0 | O87: 0 | P87: 0 | Q87: 0 | R87: 0 | S87: 0 | T87: 0 | V87: 0 | W87: 0 | X87: 0 | Y87: 0 | Z87: 0 | AA87: 0 | AB87: 0 | AC87: 0 | AD87: 0 | AE87: 0 | AF87: 0 | AG87: 0 | AH87: 0 | AI87: 0 | AJ87: 0 | AK87: 0 | AL87: 0 | AM87: 0 | AN87: 0 | AO87: 0 | AP87: 0 | AQ87: 0 | AR87: 0 | AT87: 0 | AU87: 0 | AV87: 0 | AW87: 0
A88: 86 | B88: 石巻 | C88: 石巻市 | D88: 石巻市寄磯診療所 | E88: 伊勢 秀雄 | F88: 42388 | G88: 986-2404 | H88: 石巻市寄磯浜赤島2-1 | I88: （0225）48-2111 | J88: ○ | K88: 0 | L88: 0 | M88: 0 | N88: 0 | O88: 0 | P88: 0 | Q88: 0 | R88: 0 | S88: 0 | T88: 0 | U88: 0 | V88: ○ | W88: 0 | X88: 0 | Y88: 0 | Z88: 0 | AA88: 0 | AB88: 0 | AC88: 0 | AD88: 0 | AE88: 0 | AF88: 0 | AG88: 0 | AH88: 0 | AI88: 0 | AJ88: 0 | AK88: 0 | AL88: 0 | AM88: 0 | AN88: 0 | AO88: 0 | AP88: 0 | AQ88: 0 | AR88: 0 | AT88: 0 | AU88: 0 | AV88: 0
A89: 87 | B89: 石巻 | C89: 社会福祉法人 旭壽会 | D89: おしか清心苑診療所 | E89: 阿部 康二 | F89: 37712 | G89: 986-2523 | H89: 石巻市鮎川浜清崎山７番地 | I89: （0225）44-1654 | J89: ○ | K89: 0 | L89: ○ | M89: 0 | N89: 0 | O89: 0 | P89: 0 | Q89: 0 | R89: 0 | S89: 0 | T89: 0 | U89: 0 | V89: ○ | W89: 0 | X89: 0 | Y89: 0 | Z89: 0 | AA89: 0 | AB89: 0 | AC89: 0 | AD89: 0 | AE89: 0 | AF89: 0 | AG89: 0 | AH89: 0 | AI89: 0 | AJ89: 0 | AK89: 0 | AL89: 0 | AM89: 0 | AN89: 0 | AO89: 0 | AP89: 0 | AQ89: 0 | AR89: 0 | AT89: 0 | AU89: 0 | AV89: 0
A90: 88 | B90: 石巻 | C90: 医療法人陽気会 | D90: 網小医院 | E90: 友田 燁夫 | F90: 36391 | G90: 986-2525 | H90: 石巻市長渡浜杉13-3 | I90: （0225）49-2033 | J90: ○ | K90: 0 | L90: 0 | M90: 0 | N90: 0 | O90: 0 | P90: 0 | Q90: 0 | R90: 0 | S90: 0 | T90: 0 | U90: 0 | V90: ○ | W90: ○ | X90: 0 | Y90: 0 | Z90: ○ | AA90: 0 | AB90: 0 | AC90: 0 | AD90: 0 | AE90: 0 | AF90: ○ | AG90: 0 | AH90: 0 | AI90: 0 | AJ90: 0 | AK90: 0 | AL90: 0 | AM90: 0 | AN90: 0 | AO90: 0 | AP90: 0 | AQ90: 0 | AR90: 0 | AT90: 0 | AU90: 0 | AV90: 0 | AW90: 0
A91: 89 | B91: 石巻 | C91: 医療法人社団 中川内科外科医院 | D91: 中川内科外科医院 | E91: 中川 久明 | F91: 32856 | G91: 987-1101 | H91: 石巻市前谷地字横須賀103-7 | I91: （0225）72-2123 | J91: ○ | K91: 0 | L91: 0 | M91: 0 | N91: 0 | O91: 0 | P91: 0 | Q91: 0 | R91: 0 | S91: 0 | T91: 0 | U91: 0 | V91: ○ | X91: 0 | Y91: 0 | Z91: 0 | AA91: 0 | AB91: 0 | AC91: 0 | AD91: 0 | AE91: 0 | AF91: 0 | AG91: 0 | AH91: 0 | AI91: 0 | AJ91: 0 | AK91: 0 | AL91: 0 | AM91: 0 | AN91: 0 | AO91: 0 | AP91: 0 | AQ91: 0 | AR91: 0 | AT91: 0 | AU91: 0 | AV91: 0 | AW91: 0
A92: 90 | B92: 石巻 | C92: 佐々木 俊 | D92: 佐々木医院 | E92: 佐々木 俊 | F92: 36522 | G92: 987-1102 | H92: 石巻市和渕字和渕町86 | I92: （0225）72-3122 | J92: ○ | K92: 0 | L92: 0 | M92: 0 | N92: 0 | O92: 0 | P92: 0 | Q92: 0 | R92: 0 | S92: 0 | T92: 0 | U92: ○ | V92: 0 | W92: 0 | X92: 0 | Y92: 0 | Z92: 0 | AA92: 0 | AB92: 0 | AC92: 0 | AD92: 0 | AE92: 0 | AF92: 0 | AG92: 0 | AH92: 0 | AI92: 0 | AJ92: 0 | AK92: 0 | AL92: 0 | AM92: 0 | AN92: 0 | AO92: 0 | AP92: 0 | AQ92: 0 | AR92: 0 | AT92: 0 | AU92: 0 | AV92: 0 | AW92: 0
A93: 91 | B93: 石巻 | C93: 社会福祉法人 向陽会 | D93: 特別養護老人ホーム万葉苑医務室 | E93: 横井 克己 | F93: 40634 | G93: 987-1103 | H93: 石巻市北村字下田三42 | I93: (0225)75-5211 | J93: ○
A94: 92 | B94: 石巻 | C94: 社会福祉法人 旭壽会 | D94: 一心苑診療所 | E94: 大石 千明 | F94: 33739 | G94: 987-1103 | H94: 石巻市北村字幕ケ崎一17-2 | I94: （0225）73-2323 | J94: ○ | K94: 0 | L94: ○ | M94: 0 | N94: 0 | O94: 0 | P94: 0 | Q94: 0 | R94: 0 | S94: 0 | T94: 0 | U94: 0 | V94: 0 | W94: 0 | X94: 0 | Y94: 0 | Z94: 0 | AA94: 0 | AB94: 0 | AC94: 0 | AD94: 0 | AE94: 0 | AF94: 0 | AG94: 0 | AH94: 0 | AI94: 0 | AJ94: 0 | AK94: 0 | AL94: 0 | AM94: 0 | AN94: 0 | AO94: 0 | AP94: 0 | AQ94: 0 | AR94: 0 | AT94: 0 | AU94: 0 | AV94: 0 | AW94: 0
A95: 93 | B95: 石巻 | C95: 医療法人清仁会 | D95: 石巻内科透析クリニック | E95: 杵淵 忠司 | F95: 44566 | G95: 987-1221 | H95: 石巻市須江字舘山根105 | I95: (0225)24-9499 | AS95: 腎臓内科
A96: 94 | B96: 石巻 | C96: 木村 周 | D96: 須江きむら医院 | E96: 木村 周 | F96: 44612 | G96: 987-1221 | H96: 石巻市須江皮剥105－2 | I96: (0225)24-6311 | J96: ○ | K96: 0 | L96: 0 | M96: 0 | N96: 0 | O96: 0 | P96: ○ | Q96: 0 | R96: ○ | S96: 0 | T96: 0 | U96: 0 | X96: 0 | Y96: 0 | Z96: 0 | AA96: 0 | AB96: 0 | AC96: 0 | AD96: 0 | AE96: 0 | AF96: 0 | AG96: 0 | AH96: 0 | AI96: 0 | AJ96: 0 | AK96: 0 | AM96: 0 | AN96: 0 | AO96: 0 | AP96: 0 | AR96: 0 | AS96: 消化器内科、循環器内科 | AU96: 0 | AW96: 0
A97: 95 | B97: 石巻 | C97: 医療法人 桃桜会 | D97: 櫻井内科クリニック | E97: 櫻井 忠実 | F97: 39083 | G97: 987-1222 | H97: 石巻市広渕字町北70-1 | I97: （0225）73-3811 | J97: ○ | K97: 0 | L97: 0 | M97: 0 | N97: 0 | O97: 0 | P97: 0 | Q97: ○ | R97: 0 | S97: 0 | T97: 0 | U97: ○ | V97: 0 | W97: 0 | X97: 0 | Y97: 0 | Z97: 0 | AA97: 0 | AB97: 0 | AC97: 0 | AD97: 0 | AE97: 0 | AF97: 0 | AG97: 0 | AH97: 0 | AI97: 0 | AJ97: 0 | AK97: 0 | AL97: 0 | AM97: 0 | AN97: 0 | AO97: 0 | AP97: 0 | AQ97: 0 | AR97: 0 | AT97: 0 | AU97: 0 | AV97: 0 | AW97: 0
A98: 96 | B98: 石巻 | C98: 医療法人 鳴瀬中央医院 | D98: 鳴瀬中央医院 | E98: 齋藤 雄康 | F98: 42552 | G98: 981-0301 | H98: 東松島市牛網字新上江戸原81-1 | I98: （0225）87-3853 | J98: ○ | K98: 0 | L98: 0 | M98: 0 | N98: 0 | O98: 0 | Q98: ○ | R98: 0 | S98: 0 | T98: 0 | U98: 0 | V98: ○ | W98: ○ | X98: 0 | Y98: 0 | Z98: 0 | AA98: 0 | AB98: 0 | AC98: 0 | AD98: 0 | AE98: 0 | AF98: 0 | AG98: 0 | AH98: ○ | AI98: 0 | AJ98: 0 | AK98: 0 | AL98: 0 | AM98: 0 | AN98: 0 | AO98: 0 | AP98: 0 | AR98: 0 | AS98: 胃腸内科 | AT98: 0 | AU98: 0 | AV98: 0 | AW98: 0
A99: 97 | B99: 石巻 | C99: 医療法人社団 KNI | D99: 北原ライフサポートクリニック東松島 | E99: 木村 俊靖 | F99: 44287 | G99: 981-0416 | H99: 東松島市野蒜ヶ丘二丁目２５番２ | I99: （0225）98-5571 | J99: ○ | Z99: ○ | AO99: ○
A100: 98 | B100: 石巻 | C100: 社会福祉法人 やすらぎ会 | D100: 特別養護老人ホーム 不老園診療所 | E100: 石垣 英彦 | F100: 43132 | G100: 981-0416 | H100: 東松島市野蒜ヶ丘三丁目27番地1 | I100: (0225)98-7110 | J100: ○ | AW100: 0
...

Sheet 気仙沼
A1: № | B1: 保健所 | C1: 開設者名 | D1: 診療所名 | E1: 管理者名 | F1: 開設年月日 | G1: 郵便番号 | H1: 所在地 | I1: 電話番号 | J1: 診 療 科 目 | AT1: 病床数 | AW1: 摘要
J2: 内科 | K2: 心療内科 | L2: 精神科 | M2: 神経科 | N2: 神経内科 | O2: 呼吸器科 | P2: 消化器科 | Q2: 胃腸科 | R2: 循環器科 | S2: アレルギー科 | T2: リウマチ科 | U2: 小児科 | V2: 外科 | W2: 整形外科 | X2: 形成外科 | Y2: 美容外科 | Z2: 脳神経外科 | AA2: 呼吸器外科 | AB2: 心臓血管外科 | AC2: 小児外科 | AD2: 皮膚泌尿器科 | AE2: 皮膚科 | AF2: 泌尿器科 | AG2: 性病科 | AH2: こう門科 | AI2: 産婦人科 | AJ2: 産科 | AK2: 婦人科 | AL2: 眼科 | AM2: 耳鼻咽喉科 | AN2: 気管食道科 | AO2: リハビリテーション科 | AP2: 放射線科 | AQ2: 麻酔科 | AR2: 歯科 | AS2: その他の科目 | AT2: 合 計 | AU2: 療養 | AV2: 一般
A3: 1 | B3: 気仙沼 | C3: 笠沼 勇一 | D3: 南気仙沼内科医院 | E3: 笠沼 勇一 | F3: 43922 | G3: 988-0025 | H3: 気仙沼市内の脇１丁目６−１５−１ | I3: （0226）22-3321 | J3: ○ | P3: ○
A4: 2 | B4: 気仙沼 | C4: 医療法人武田眼科医院 | D4: 武田眼科医院 | E4: 武田 宜之 | F4: 32854 | G4: 988-0043 | H4: 気仙沼市南郷９－７ | I4: （0226）23-3285 | J4: 0 | K4: 0 | L4: 0 | M4: 0 | N4: 0 | O4: 0 | P4: 0 | Q4: 0 | R4: 0 | S4: 0 | T4: 0 | U4: 0 | V4: 0 | W4: 0 | X4: 0 | Y4: 0 | Z4: 0 | AA4: 0 | AB4: 0 | AC4: 0 | AD4: 0 | AE4: 0 | AF4: 0 | AG4: 0 | AH4: 0 | AI4: 0 | AJ4: 0 | AK4: 0 | AL4: ○ | AM4: 0 | AN4: 0 | AO4: 0 | AP4: 0 | AQ4: 0 | AR4: 0 | AT4: 0 | AU4: 0 | AV4: 0 | AW4: 0
A5: 3 | B5: 気仙沼 | C5: 医療法人千歩会 | D5: こまつ内科医院 | E5: 小松 正歩 | F5: 44562 | G5: 988-0045 | H5: 気仙沼市田谷11-11 | I5: （0226）29-6482 | J5: ○ | AS5: 消化器内科、循環器内科
A6: 4 | B6: 気仙沼 | C6: 森戸伸吾 | D6: 条南整形外科 | E6: 森戸 伸吾 | F6: 39969 | G6: 988-0053 | H6: 気仙沼市田中前２－１－１０ | I6: （0226）29-6711 | J6: 0 | K6: 0 | L6: 0 | M6: 0 | N6: 0 | O6: 0 | P6: 0 | Q6: 0 | R6: 0 | S6: 0 | T6: ○ | U6: 0 | V6: 0 | W6: ○ | X6: 0 | Y6: 0 | Z6: 0 | AA6: 0 | AB6: 0 | AC6: 0 | AD6: 0 | AE6: 0 | AF6: 0 | AG6: 0 | AH6: 0 | AI6: 0 | AJ6: 0 | AK6: 0 | AL6: 0 | AM6: 0 | AN6: 0 | AO6: ○ | AP6: 0 | AQ6: 0 | AR6: 0 | AT6: 0 | AU6: 0 | AV6: 0 | AW6: 0
A7: 5 | B7: 気仙沼 | C7: 医療法人社団三条小児科医院 | D7: 三条小児科医院 | E7: 三条 雅英 | F7: 33219 | G7: 988-0053 | H7: 気仙沼市田中前二丁目８の４ | I7: （0226）23-0088 | J7: 0 | K7: 0 | L7: 0 | M7: 0 | N7: 0 | O7: 0 | P7: 0 | Q7: 0 | R7: 0 | S7: 0 | T7: 0 | U7: ○ | V7: 0 | W7: 0 | X7: 0 | Y7: 0 | Z7: 0 | AA7: 0 | AB7: 0 | AC7: 0 | AD7: 0 | AE7: 0 | AF7: 0 | AG7: 0 | AH7: 0 | AI7: 0 | AJ7: 0 | AK7: 0 | AL7: 0 | AM7: 0 | AN7: 0 | AO7: 0 | AP7: 0 | AQ7: 0 | AR7: 0 | AT7: 0 | AU7: 0 | AV7: 0 | AW7: 0
A8: 6 | B8: 気仙沼 | C8: 国立大学法人東北大学 | D8: 東北大学 東北メディカル・メガバンク機構 地域支援気仙沼センター | E8: 濱中 洋平 | F8: 41575 | G8: 988-0053 | H8: 気仙沼市田中前4-1-1 | I8: （022）728-3964 | AS8: 臨床検査科
A9: 7 | B9: 気仙沼 | C9: 医療法人華月会 | D9: 村岡外科クリニック | E9: 村岡 正朗 | F9: 33219 | G9: 988-0053 | H9: 気仙沼市田中前4-4-7 | I9: （0226）23-3990 | K9: 0 | L9: 0 | M9: 0 | N9: 0 | Q9: ○ | R9: 0 | S9: 0 | T9: 0 | U9: 0 | V9: ○ | W9: 0 | X9: 0 | Y9: 0 | Z9: 0 | AA9: 0 | AB9: 0 | AC9: 0 | AD9: 0 | AI9: 0 | AJ9: 0 | AK9: 0 | AL9: 0 | AM9: 0 | AN9: 0 | AP9: 0 | AQ9: 0 | AR9: 0 | AT9: 0 | AU9: 0 | AV9: 0 | AW9: 0
A10: 8 | B10: 気仙沼 | C10: 医療法人あさひ会 | D10: おだか医院 | E10: 小高 庸一郎 | F10: 34501 | G10: 988-0053 | H10: 気仙沼市田中前４－１０－２ | I10: （0226）22-3210 | J10: ○ | K10: 0 | L10: 0 | M10: 0 | N10: 0 | O10: ○ | Q10: ○ | R10: 0 | S10: 0 | T10: 0 | U10: 0 | V10: ○ | W10: 0 | X10: 0 | Y10: 0 | Z10: 0 | AA10: 0 | AB10: 0 | AC10: 0 | AD10: 0 | AE10: ○ | AF10: 0 | AG10: 0 | AH10: 0 | AI10: 0 | AJ10: 0 | AK10: 0 | AL10: 0 | AM10: 0 | AN10: 0 | AO10: 0 | AP10: 0 | AQ10: 0 | AR10: 0 | AT10: 0 | AU10: 0 | AV10: 0 | AW10: 0
A11: 9 | B11: 気仙沼 | C11: 内啓一郎 | D11: うちクリニック | E11: 内 啓一郎 | F11: 39211 | G11: 988-0066 | H11: 気仙沼市東新城1-6-13 | I11: （0226）23-0087 | J11: ○ | K11: 0 | L11: 0 | M11: 0 | N11: 0 | O11: 0 | P11: 0 | Q11: 0 | R11: 0 | S11: 0 | T11: 0 | U11: 0 | V11: 0 | W11: 0 | X11: 0 | Y11: 0 | Z11: 0 | AA11: 0 | AB11: 0 | AC11: 0 | AD11: 0 | AE11: ○ | AF11: ○ | AG11: 0 | AH11: 0 | AI11: 0 | AJ11: 0 | AK11: 0 | AL11: 0 | AM11: 0 | AN11: 0 | AO11: 0 | AP11: 0 | AQ11: 0 | AR11: 0 | AT11: 0 | AU11: 0 | AV11: 0 | AW11: 0
A12: 10 | B12: 気仙沼 | C12: 医療法人社団斎藤外科 | D12: 齋藤外科クリニック | E12: 齋藤 穂積 | F12: 36479 | G12: 988-0066 | H12: 気仙沼市東新城1-12-1 | I12: （0226）22-7260 | J12: 0 | K12: 0 | L12: 0 | M12: 0 | N12: 0 | O12: 0 | P12: 0 | Q12: 0 | R12: 0 | S12: 0 | T12: 0 | U12: 0 | V12: ○ | W12: 0 | X12: 0 | Y12: 0 | Z12: 0 | AA12: 0 | AB12: 0 | AC12: 0 | AD12: 0 | AE12: ○ | AF12: 0 | AG12: 0 | AH12: ○ | AI12: 0 | AJ12: 0 | AK12: 0 | AL12: 0 | AM12: 0 | AN12: 0 | AO12: 0 | AP12: 0 | AQ12: ○ | AR12: 0 | AT12: 0 | AU12: 0 | AV12: 0 | AW12: 0
A13: 11 | B13: 気仙沼 | C13: 社会福祉法人なかつうみ会 | D13: 特別養護老人ホーム 恵潮苑 | E13: 村岡 正朗 | F13: 35886 | G13: 988-0066 | H13: 気仙沼市東新城２－２－３ | I13: （0226）21-1221 | J13: ○ | K13: 0 | L13: 0 | M13: 0 | N13: 0 | O13: 0 | P13: 0 | Q13: 0 | R13: 0 | S13: 0 | T13: 0 | U13: 0 | V13: 0 | W13: 0 | X13: 0 | Y13: 0 | Z13: 0 | AA13: 0 | AB13: 0 | AC13: 0 | AD13: 0 | AE13: 0 | AF13: 0 | AG13: 0 | AH13: 0 | AI13: 0 | AJ13: 0 | AK13: 0 | AL13: 0 | AM13: 0 | AN13: 0 | AO13: 0 | AP13: 0 | AQ13: 0 | AR13: 0 | AT13: 0 | AU13: 0 | AV13: 0 | AW13: 0
A14: 12 | B14: 気仙沼 | C14: （医）進整会 | D14: 志田整形外科医院 | E14: 志田 章 | F14: 41051 | G14: 988-0066 | H14: 気仙沼市東新城2-6-4 | I14: （0226）22-6838 | W14: ○ | AO14: ○
A15: 13 | B15: 気仙沼 | C15: 医療法人社団晃和会 | D15: 医療法人社団晃和会あいざわクリニック | E15: 大和田 雅信 | F15: 36237 | G15: 988-0066 | H15: 気仙沼市東新城2-9-1 | I15: （0226）21-1160 | J15: ○ | K15: 0 | L15: 0 | M15: 0 | N15: 0 | P15: ○ | R15: 0 | S15: 0 | T15: 0 | U15: 0 | V15: 0 | W15: 0 | X15: 0 | Y15: 0 | Z15: 0 | AA15: 0 | AB15: 0 | AC15: 0 | AD15: 0 | AE15: 0 | AF15: 0 | AG15: 0 | AH15: 0 | AI15: 0 | AJ15: 0 | AK15: 0 | AL15: 0 | AM15: 0 | AN15: 0 | AP15: 0 | AQ15: 0 | AR15: 0 | AS15: 糖尿病内科 | AT15: 0 | AU15: 0 | AV15: 0
A16: 14 | B16: 気仙沼 | C16: 宮城県 | D16: 気仙沼保健所 | E16: 照井 有紀 | F16: 38663 | G16: 988-0066 | H16: 気仙沼市東新城３－３－３ | I16: （0226）22-6661 | J16: ○ | K16: 0 | L16: 0 | M16: 0 | N16: 0 | O16: 0 | P16: 0 | Q16: 0 | R16: 0 | S16: 0 | T16: 0 | U16: 0 | V16: 0 | W16: 0 | X16: 0 | Y16: 0 | Z16: 0 | AA16: 0 | AB16: 0 | AC16: 0 | AD16: 0 | AE16: 0 | AF16: 0 | AG16: 0 | AH16: 0 | AI16: 0 | AJ16: 0 | AK16: 0 | AL16: 0 | AM16: 0 | AN16: 0 | AO16: 0 | AP16: 0 | AQ16: 0 | AR16: 0 | AT16: 0 | AU16: 0 | AV16: 0 | AW16: 0
A17: 15 | B17: 気仙沼 | C17: 宮城県 | D17: 宮城県子ども総合センター附属診療所気仙沼診療室 | E17: 小野寺 滋実 | F17: 38808 | G17: 988-0066 | H17: 気仙沼市東新城３－３－３ | I17: （0226）21-1020 | J17: 0 | K17: 0 | L17: ○ | M17: 0 | N17: 0 | O17: 0 | P17: 0 | Q17: 0 | R17: 0 | S17: 0 | T17: 0 | U17: ○ | V17: 0 | W17: 0 | X17: 0 | Y17: 0 | Z17: 0 | AA17: 0 | AB17: 0 | AC17: 0 | AD17: 0 | AE17: 0 | AF17: 0 | AG17: 0 | AH17: 0 | AI17: 0 | AJ17: 0 | AK17: 0 | AL17: 0 | AM17: 0 | AN17: 0 | AO17: 0 | AP17: 0 | AQ17: 0 | AR17: 0 | AS17: 児童精神科 | AT17: 0 | AU17: 0 | AV17: 0 | AW17: 0
A18: 16 | B18: 気仙沼 | C18: 小林直樹 | D18: 小林直樹眼科 | E18: 小林 直樹 | F18: 37627 | G18: 988-0066 | H18: 気仙沼市東新城３－１０－８ | I18: （0226）23-5855 | J18: 0 | K18: 0 | L18: 0 | M18: 0 | N18: 0 | O18: 0 | P18: 0 | Q18: 0 | R18: 0 | S18: 0 | T18: 0 | U18: 0 | V18: 0 | W18: 0 | X18: 0 | Y18: 0 | Z18: 0 | AA18: 0 | AB18: 0 | AC18: 0 | AD18: 0 | AE18: 0 | AF18: 0 | AG18: 0 | AH18: 0 | AI18: 0 | AJ18: 0 | AK18: 0 | AL18: ○ | AM18: 0 | AN18: 0 | AO18: 0 | AP18: 0 | AQ18: 0 | AR18: 0 | AT18: 0 | AU18: 0 | AV18: 0 | AW18: 0
A19: 17 | B19: 気仙沼 | C19: 医療法人尚仁会 | D19: 森田医院 | E19: 森田 潔 | F19: 33259 | G19: 988-0084 | H19: 気仙沼市八日町１－４－１ | I19: （0226）22-6633 | J19: ○ | K19: 0 | L19: 0 | M19: 0 | N19: 0 | O19: 0 | P19: 0 | Q19: ○ | R19: ○ | S19: 0 | T19: 0 | U19: 0 | V19: 0 | W19: 0 | X19: 0 | Y19: 0 | Z19: 0 | AA19: 0 | AB19: 0 | AC19: 0 | AD19: 0 | AE19: 0 | AF19: 0 | AG19: 0 | AH19: 0 | AI19: 0 | AJ19: 0 | AK19: 0 | AL19: 0 | AM19: 0 | AN19: 0 | AO19: 0 | AP19: 0 | AQ19: 0 | AR19: 0 | AS19: 睡眠障害内科 | AT19: 3 | AU19: 0 | AV19: 3 | AW19: 0
A20: 18 | B20: 気仙沼 | C20: 猪苗代勇 | D20: 猪苗代医院 | E20: 猪苗代 勇 | F20: 40725 | G20: 988-0085 | H20: 気仙沼市三日町２－１－９ | I20: （0226）24-7180 | J20: ○ | K20: 0 | L20: 0 | M20: 0 | N20: 0 | O20: 0 | P20: 0 | Q20: 0 | R20: 0 | S20: 0 | T20: ○ | U20: 0 | V20: ○ | W20: ○ | X20: 0 | Y20: 0 | Z20: 0 | AA20: 0 | AB20: 0 | AC20: 0 | AD20: 0 | AE20: ○ | AF20: 0 | AG20: 0 | AH20: 0 | AI20: 0 | AJ20: 0 | AK20: 0 | AL20: 0 | AM20: 0 | AN20: 0 | AO20: ○ | AP20: 0 | AQ20: 0 | AR20: 0 | AT20: 0 | AU20: 0 | AV20: 0 | AW20: 0
A21: 19 | B21: 気仙沼 | C21: 医療法人敬仁会 | D21: 大友医院 | E21: 大友 亮 | F21: 44075 | G21: 988-0085 | H21: 気仙沼市三日町２丁目２−２５ | I21: （0226）22-6868 | J21: ○ | N21: ○ | AO21: ○ | AU21: 0
A22: 20 | B22: 気仙沼 | C22: 社会福祉法人キングスガーデン宮城 | D22: 特別養護老人ホーム キングス・タウン | E22: 村岡 正朗 | F22: 38808 | G22: 988-0085 | H22: 気仙沼市三日町３－１－１ | I22: （0226）24-3001 | J22: ○ | K22: 0 | L22: 0 | M22: 0 | N22: 0 | O22: 0 | P22: 0 | Q22: 0 | R22: 0 | S22: 0 | T22: 0 | U22: 0 | V22: 0 | W22: 0 | X22: 0 | Y22: 0 | Z22: 0 | AA22: 0 | AB22: 0 | AC22: 0 | AD22: 0 | AE22: 0 | AF22: 0 | AG22: 0 | AH22: 0 | AI22: 0 | AJ22: 0 | AK22: 0 | AL22: 0 | AM22: 0 | AN22: 0 | AO22: 0 | AP22: 0 | AQ22: 0 | AR22: 0 | AT22: 0 | AU22: 0 | AV22: 0 | AW22: 0
A23: 21 | B23: 気仙沼 | C23: 小野寺滋 | D23: 小野寺医院 | E23: 小野寺 滋 | F23: 41801 | G23: 988-0104 | H23: 気仙沼市赤岩五駄鱈７６－１ | I23: （0226）23-9890 | J23: ○ | K23: 0 | L23: 0 | M23: 0 | N23: 0 | O23: 0 | P23: ○ | R23: 0 | S23: 0 | T23: 0 | U23: 0 | W23: 0 | X23: 0 | Y23: 0 | Z23: 0 | AA23: 0 | AB23: 0 | AC23: 0 | AD23: 0 | AE23: 0 | AF23: ○ | AG23: 0 | AH23: 0 | AI23: 0 | AJ23: 0 | AK23: 0 | AL23: 0 | AM23: 0 | AN23: 0 | AO23: 0 | AP23: 0 | AQ23: 0 | AR23: 0 | AT23: 0 | AU23: 0 | AV23: 0 | AW23: 0
A24: 22 | B24: 気仙沼 | C24: 医療法人悠康会 | D24: すがわら内科クリニック | E24: 菅原 大介 | F24: 43647 | G24: 988-0121 | H24: 気仙沼市松崎萱121-3 | I24: （0226）25-8825 | J24: ○ | AS24: 循環器内科
A25: 23 | B25: 気仙沼 | C25: 東條 玄一 | D25: 東條皮膚科クリニック | E25: 東條 玄一 | F25: 44470 | G25: 988-0184 | H25: 気仙沼市赤岩平貝７４番地２ | I25: (0226)25-7378 | AE25: ○ | AS25: 小児皮膚科 | AU25: 0
A26: 24 | B26: 気仙沼 | C26: 医療法人千圃 | D26: 鈴木医院 | E26: 鈴木 裕道 | F26: 40994 | G26: 988-0234 | H26: 気仙沼市長磯原ノ沢５０－２ | I26: （0226）27-2315 | J26: ○ | K26: 0 | L26: 0 | M26: 0 | N26: 0 | O26: 0 | P26: 0 | Q26: 0 | R26: 0 | S26: 0 | T26: 0 | U26: 0 | V26: 0 | W26: 0 | X26: 0 | Y26: 0 | Z26: 0 | AA26: 0 | AB26: 0 | AC26: 0 | AD26: 0 | AE26: 0 | AF26: 0 | AG26: 0 | AH26: 0 | AI26: 0 | AJ26: 0 | AK26: 0 | AL26: 0 | AM26: 0 | AN26: 0 | AO26: 0 | AP26: 0 | AQ26: 0 | AR26: 0 | AS26: 腎臓内科 | AT26: 0 | AU26: 0 | AV26: 0
A27: 25 | B27: 気仙沼 | C27: 医療法人宮川仁隆会 | D27: もとよしクリニック | E27: 宮川 利史 | F27: 42528 | G27: 988-0305 | H27: 気仙沼市本吉町津谷長根86番３ | I27: (0226)25-7585 | J27: ○ | AO27: ○
A28: 26 | B28: 気仙沼 | C28: 社会福祉法人春圃会 | D28: 特別養護老人ホーム春圃苑 | E28: 呉 燦文 | F28: 33329 | G28: 988-0331 | H28: 気仙沼市本吉町中島３５８－３ | I28: （0226）42-3100 | J28: ○ | K28: 0 | L28: 0 | M28: 0 | N28: 0 | O28: 0 | P28: 0 | Q28: 0 | R28: 0 | S28: 0 | T28: 0 | U28: 0 | V28: 0 | W28: 0 | X28: 0 | Y28: 0 | Z28: 0 | AA28: 0 | AB28: 0 | AC28: 0 | AD28: 0 | AE28: 0 | AF28: 0 | AG28: 0 | AH28: 0 | AI28: 0 | AJ28: 0 | AK28: 0 | AL28: 0 | AM28: 0 | AN28: 0 | AO28: 0 | AP28: 0 | AQ28: 0 | AR28: 0 | AT28: 0 | AU28: 0 | AV28: 0 | AW28: 0
A29: 27 | B29: 気仙沼 | C29: 社会福祉法人憲心会 | D29: 障害者支援施設 只越荘 | E29: 大和田 雅信 | F29: 36982 | G29: 988-0524 | H29: 気仙沼市唐桑町只越３４６－１７ | I29: （0226）31-2131 | J29: ○ | K29: 0 | L29: 0 | M29: 0 | N29: 0 | O29: 0 | P29: 0 | Q29: 0 | R29: 0 | S29: 0 | T29: 0 | U29: 0 | V29: ○ | W29: 0 | X29: 0 | Y29: 0 | Z29: 0 | AA29: 0 | AB29: 0 | AC29: 0 | AD29: 0 | AE29: 0 | AF29: 0 | AG29: 0 | AH29: 0 | AI29: 0 | AJ29: 0 | AK29: 0 | AL29: 0 | AM29: 0 | AN29: 0 | AO29: 0 | AP29: 0 | AQ29: 0 | AR29: 0 | AT29: 0 | AU29: 0 | AV29: 0 | AW29: 0
A30: 28 | B30: 気仙沼 | C30: 社会福祉法人憲心会 | D30: 特別養護老人ホーム唐桑園 診療所（診察室） | E30: 大和田 雅信 | F30: 40269 | G30: 988-0524 | H30: 気仙沼市唐桑町只越３４６－７ | I30: （0226）29-6301 | J30: ○ | K30: 0 | L30: 0 | M30: 0 | N30: 0 | O30: 0 | P30: 0 | Q30: 0 | R30: 0 | S30: 0 | T30: 0 | U30: 0 | V30: 0 | W30: 0 | X30: 0 | Y30: 0 | Z30: 0 | AA30: 0 | AB30: 0 | AC30: 0 | AD30: 0 | AE30: ○ | AF30: ○ | AG30: 0 | AH30: 0 | AI30: 0 | AJ30: 0 | AK30: 0 | AL30: 0 | AM30: 0 | AN30: 0 | AO30: 0 | AP30: 0 | AQ30: 0 | AR30: 0 | AT30: 0 | AU30: 0 | AV30: 0 | AW30: 0
A31: 29 | B31: 気仙沼 | C31: 医療法人社団泰清会 | D31: 小野医院 | E31: 菊地 淳一 | F31: 33585 | G31: 988-0534 | H31: 気仙沼市唐桑町宿浦４０５－８ | I31: （0226）32-3128 | J31: ○ | K31: 0 | L31: 0 | M31: 0 | N31: 0 | O31: 0 | P31: 0 | Q31: 0 | R31: 0 | S31: 0 | T31: 0 | U31: ○ | V31: 0 | W31: 0 | X31: 0 | Y31: 0 | Z31: 0 | AA31: 0 | AB31: 0 | AC31: 0 | AD31: 0 | AE31: 0 | AF31: 0 | AG31: 0 | AH31: 0 | AI31: 0 | AJ31: 0 | AK31: 0 | AL31: 0 | AM31: 0 | AN31: 0 | AO31: 0 | AP31: 0 | AQ31: 0 | AR31: 0 | AS31: 循環器内科 | AU31: 0 | AV31: 0
A32: 30 | B32: 気仙沼 | C32: 森田 良平 | D32: 大島医院 | E32: 森田 良平 | F32: 42839 | G32: 988-0613 | H32: 気仙沼市高井215番地2 | I32: （0226）28-2603 | J32: ○ | L32: 0 | M32: 0 | N32: 0 | O32: 0 | Q32: 0 | R32: 0 | S32: 0 | T32: 0 | V32: 0 | W32: ○ | X32: 0 | Y32: 0 | Z32: 0 | AA32: 0 | AB32: 0 | AC32: 0 | AD32: 0 | AF32: 0 | AG32: 0 | AH32: 0 | AI32: 0 | AJ32: 0 | AK32: 0 | AL32: 0 | AM32: 0 | AN32: 0 | AO32: 0 | AP32: 0 | AQ32: 0 | AR32: 0
A33: 31 | B33: 気仙沼 | C33: 社会福祉法人なかつうみ会 | D33: 特別養護老人ホーム恵心寮 | E33: 志田 章 | F33: 41821 | G33: 988-0851 | H33: 気仙沼市下八瀬４２６－８ | I33: （0226）25-8727 | J33: ○ | K33: 0 | L33: 0 | M33: 0 | N33: 0 | O33: 0 | P33: 0 | Q33: 0 | R33: 0 | S33: 0 | T33: 0 | U33: 0 | V33: 0 | W33: 0 | X33: 0 | Y33: 0 | Z33: 0 | AA33: 0 | AB33: 0 | AC33: 0 | AD33: 0 | AE33: 0 | AF33: 0 | AG33: 0 | AH33: 0 | AI33: 0 | AJ33: 0 | AK33: 0 | AL33: 0 | AM33: 0 | AN33: 0 | AO33: 0 | AP33: 0 | AQ33: 0 | AR33: 0 | AT33: 0 | AU33: 0 | AV33: 0 | AW33: 0
A34: 32 | B34: 気仙沼 | C34: 社会福祉法人 美楽会 | D34: 特別養護老人ホーム いこいの海・あらと 医務室 | E34: 山野上昭光 | F34: 40735 | G34: 986-0714 | H34: 南三陸町志津川字蒲の沢１９０－１ | I34: （0226）46-1820 | J34: ○
A35: 33 | B35: 気仙沼 | C35: 医療法人社団新生会 | D35: 佐藤徹内科クリニック | E35: 佐藤 雄一 | F35: 40925 | G35: 986-0725 | H35: 南三陸町志津川字沼田１４４－４５ | I35: （0226）47-1175 | J35: ○ | K35: 0 | L35: 0 | M35: 0 | N35: 0 | O35: ○ | P35: 0 | Q35: ○ | R35: ○ | S35: ○ | T35: 0 | U35: ○ | V35: 0 | W35: 0 | X35: 0 | Y35: 0 | Z35: 0 | AA35: 0 | AB35: 0 | AC35: 0 | AD35: 0 | AE35: 0 | AF35: 0 | AG35: 0 | AH35: 0 | AI35: 0 | AJ35: 0 | AK35: 0 | AL35: 0 | AM35: 0 | AN35: 0 | AO35: 0 | AP35: 0 | AQ35: 0 | AR35: 0 | AT35: 0 | AU35: 0 | AV35: 0
A36: 34 | B36: 気仙沼 | C36: 社会福祉法人旭浦会 | D36: 特別養護老人ホーム 慈恵園 | E36: 阿部 翔太郎 | F36: 41852 | G36: 986-0782 | H36: 南三陸町入谷字童子下159-2 | I36: （0226）46-6046 | J36: ○ | K36: 0 | L36: 0 | M36: 0 | N36: 0 | O36: 0 | P36: 0 | Q36: 0 | R36: 0 | S36: 0 | T36: 0 | U36: 0 | W36: 0 | X36: 0 | Y36: 0 | Z36: 0 | AA36: 0 | AB36: 0 | AC36: 0 | AD36: 0 | AE36: 0 | AF36: 0 | AG36: 0 | AH36: 0 | AI36: 0 | AJ36: 0 | AK36: 0 | AL36: 0 | AM36: 0 | AN36: 0 | AO36: 0 | AP36: 0 | AQ36: 0 | AR36: 0 | AT36: 0 | AU36: 0 | AV36: 0 | AW36: 0
A37: 35 | B37: 気仙沼 | C37: 気仙沼市 | D37: 気仙沼市立病院附属本吉医院 | E37: 齊藤 稔哲 | F37: 45383 | G37: 988-0382 | H37: 気仙沼市本吉町津谷明戸222-2 | I37: 0226(42) 2621 | J37: ○ | L37: ○ | U37: ○ | V37: ○ | W37: ○ | AU37: 0
A38: 36 | B38: 気仙沼 | C38: 医療法人公孫樹会 | D38: 大里胃腸科内科婦人科医院 | E38: 大里 篤志 | F38: 45559 | G38: 988-0025 | H38: 気仙沼市内の脇１丁目１５−１ | I38: （0226）22-7157 | J38: ○ | K38: 0 | L38: 0 | M38: 0 | N38: 0 | O38: 0 | P38: 0 | Q38: ○ | R38: 0 | S38: 0 | T38: 0 | U38: 0 | V38: 0 | W38: 0 | X38: 0 | Y38: 0 | Z38: 0 | AA38: 0 | AB38: 0 | AC38: 0 | AD38: 0 | AE38: 0 | AF38: 0 | AG38: 0 | AH38: 0 | AI38: ○ | AJ38: 0 | AK38: 0 | AL38: 0 | AM38: 0 | AN38: 0 | AO38: 0 | AP38: 0 | AQ38: 0 | AR38: 0
A39: 37 | B39: 気仙沼 | C39: 関 由美加 | D39: うたつファミリークリニック | E39: 関 由美加 | F39: 46058 | G39: 988-0423 | H39: 南三陸町歌津字枡沢９３－１ | I39: （0226）36-2626 | J39: ○ | K39: 0 | L39: 0 | M39: 0 | N39: 0 | O39: 0 | P39: 0 | R39: 0 | S39: 0 | T39: 0 | U39: ○ | V39: 0 | W39: 0 | X39: 0 | Y39: 0 | Z39: 0 | AA39: 0 | AB39: 0 | AC39: 0 | AD39: 0 | AE39: 0 | AF39: 0 | AG39: 0 | AH39: 0 | AJ39: 0 | AK39: 0 | AL39: 0 | AM39: 0 | AN39: 0 | AO39: 0 | AP39: 0 | AQ39: 0 | AR39: 0 | AS39: 腎臓内科

Sheet 青葉区
A1: № | B1: 区 | C1: 開設者名 | D1: 診療所名 | E1: 管理者名 | F1: 開設年月日 | G1: 郵便番号 | H1: 所在地 | I1: 電話番号 | J1: 診 療 科 目 | AT1: 病床数 | AW1: 摘要
J2: 内科 | K2: 心療内科 | L2: 精神科 | M2: 神経科 | N2: 神経内科 | O2: 呼吸器科 | P2: 消化器科 | Q2: 胃腸科 | R2: 循環器科 | S2: アレルギー科 | T2: リウマチ科 | U2: 小児科 | V2: 外科 | W2: 整形外科 | X2: 形成外科 | Y2: 美容外科 | Z2: 脳神経外科 | AA2: 呼吸器外科 | AB2: 心臓血管外科 | AC2: 小児外科 | AD2: 皮膚泌尿器科 | AE2: 皮膚科 | AF2: 泌尿器科 | AG2: 性病科 | AH2: こう門科 | AI2: 産婦人科 | AJ2: 産科 | AK2: 婦人科 | AL2: 眼科 | AM2: 耳鼻咽喉科 | AN2: 気管食道科 | AO2: リハビリテーション科 | AP2: 放射線科 | AQ2: 麻酔科 | AR2: 歯科 | AS2: その他の科目 | AT2: 合 計 | AU2: 療養型 | AV2: その他
A3: 1 | B3: 青葉 | C3: 大内英郎 | D3: 大内医院 | E3: 大内 英郎 | F3: 39468 | G3: 980-0002 | H3: 青葉区福沢町１－３４ | I3: 022-222-9870 | J3: ○ | O3: ○ | P3: ○ | R3: ○ | AS3: 消化器内科、循環器内科、呼吸器内科
A4: 2 | B4: 青葉 | C4: 遠藤 潔 | D4: 遠藤外科医院 | E4: 遠藤 潔 | F4: 35859 | G4: 980-0003 | H4: 青葉区小田原六丁目５－３７ | I4: 022-223-1755 | V4: ○ | W4: ○ | AE4: ○ | AF4: ○
A5: 3 | B5: 青葉 | C5: 鬼怒川 知香 | D5: 鬼怒川産婦人科女性診療医院 | E5: 鬼怒川 知香 | F5: 44105 | G5: 980-0003 | H5: 青葉区小田原六丁目６－１ | I5: 022-227-2205 | AI5: ○ | AQ5: ○ | AS5: 女性内科
A6: 4 | B6: 青葉 | C6: 医療法人 悠人会 | D6: 宮町整形外科クリニック | E6: 渡辺 茂 | F6: 41579 | G6: 980-0004 | H6: 青葉区宮町四丁目６－１０ | I6: 022-796-3271 | J6: ○ | T6: ○ | V6: ○ | W6: ○ | AO6: ○
A7: 5 | B7: 青葉 | C7: 一迫 理恵 | D7: 山本眼科医院 | E7: 一迫 理恵 | F7: 42339 | G7: 980-0004 | H7: 青葉区宮町四丁目６－２４ | I7: 022-222-1629 | AL7: ○
A8: 6 | B8: 青葉 | C8: 公益財団法人宮城県結核予防会 | D8: 公益財団法人宮城県結核予防会健康相談所興生館 | E8: 八重柏 政宏 | F8: 19899 | G8: 980-0004 | H8: 青葉区宮町一丁目１－５ | I8: 022-221-4461 | J8: ○ | K8: 0 | L8: 0 | M8: 0 | N8: 0 | O8: ○ | P8: 0 | R8: ○ | S8: 0 | T8: 0 | V8: 0 | W8: 0 | X8: 0 | Y8: 0 | Z8: 0 | AA8: 0 | AB8: 0 | AC8: 0 | AE8: 0 | AF8: 0 | AG8: 0 | AH8: 0 | AI8: 0 | AJ8: 0 | AL8: 0 | AM8: 0 | AN8: 0 | AO8: 0 | AQ8: 0 | AR8: 0
A9: 7 | B9: 青葉 | C9: 医療法人悠心会 | D9: 宮町通りクリニック | E9: 中目 貴彦 | F9: 39083 | G9: 980-0004 | H9: 青葉区宮町一丁目１－４８ | I9: 022-223-2082 | J9: ○ | K9: 0 | L9: 0 | M9: 0 | N9: 0 | O9: ○ | P9: 0 | R9: ○ | S9: 0 | T9: 0 | U9: 0 | V9: ○ | W9: 0 | X9: 0 | Y9: 0 | Z9: 0 | AA9: 0 | AB9: ○ | AC9: 0 | AE9: 0 | AF9: 0 | AG9: 0 | AH9: 0 | AI9: 0 | AJ9: 0 | AK9: 0 | AL9: 0 | AM9: 0 | AN9: 0 | AO9: 0 | AP9: 0 | AQ9: 0 | AR9: 0
A10: 8 | B10: 青葉 | C10: 高木 まゆ | D10: まゆ乳腺クリニック | E10: 高木 まゆ | F10: 44287 | G10: 980-0004 | H10: 青葉区宮町四丁目５－３４ NoieSendaiMiyamachi 2階 | I10: 022-398-8451 | AS10: 乳腺外科
A11: 9 | B11: 青葉 | C11: 小澤 宏明 | D11: 東照宮駅前皮ふ科クリニック | E11: 小澤 宏明 | F11: 39935 | G11: 980-0004 | H11: 青葉区宮町五丁目７－２０ | I11: 022-273-3303 | J11: 0 | K11: 0 | L11: 0 | M11: 0 | N11: 0 | O11: 0 | P11: 0 | R11: 0 | S11: 0 | T11: 0 | U11: 0 | V11: 0 | W11: 0 | X11: 0 | Y11: 0 | Z11: 0 | AA11: 0 | AB11: 0 | AC11: 0 | AE11: ○ | AF11: 0 | AG11: 0 | AH11: 0 | AI11: 0 | AJ11: 0 | AK11: 0 | AL11: 0 | AM11: 0 | AN11: 0 | AO11: 0 | AP11: 0 | AQ11: 0 | AR11: 0
A12: 10 | B12: 青葉 | C12: 医療法人社団誠和会澁川内科医院 | D12: 澁川内科医院 | E12: 澁川 諭 | F12: 32676 | G12: 980-0004 | H12: 青葉区宮町五丁目１０－１５ | I12: 022-272-5780 | J12: ○ | K12: 0 | L12: 0 | M12: 0 | N12: 0 | O12: ○ | P12: ○ | R12: ○ | S12: ○ | T12: 0 | U12: 0 | V12: 0 | W12: 0 | X12: 0 | Y12: 0 | Z12: 0 | AA12: 0 | AB12: 0 | AC12: 0 | AE12: 0 | AF12: 0 | AG12: 0 | AH12: 0 | AI12: 0 | AJ12: 0 | AK12: 0 | AL12: 0 | AM12: 0 | AN12: 0 | AO12: 0 | AP12: 0 | AQ12: 0 | AR12: 0 | AS12: 糖尿病内科
A13: 11 | B13: 青葉 | C13: 医療法人彰生会 | D13: いがらしレディースクリニック | E13: 五十嵐 司 | F13: 44691 | G13: 980-0004 | H13: 青葉区宮町四丁目５－３４ | I13: 022-261-3231 | AI13: ○ | AS13: 女性内科
A14: 12 | B14: 青葉 | C14: 財務省共済組合仙台国税局 | D14: 仙台国税局診療所 | E14: 相原 裕之 | F14: 34799 | G14: 980-0011 | H14: 青葉区上杉一丁目１－１ 仙台北税務署内 | I14: 022-223-0593 | J14: ○ | K14: 0 | L14: 0 | M14: 0 | N14: 0 | O14: 0 | P14: 0 | R14: 0 | S14: 0 | T14: 0 | U14: 0 | V14: 0 | W14: 0 | X14: 0 | Y14: 0 | Z14: 0 | AA14: 0 | AB14: 0 | AC14: 0 | AE14: 0 | AF14: 0 | AG14: 0 | AH14: 0 | AI14: 0 | AJ14: 0 | AK14: 0 | AL14: 0 | AM14: 0 | AN14: 0 | AO14: 0 | AP14: 0 | AQ14: 0 | AR14: ○
A15: 13 | B15: 青葉 | C15: 宮城県農業協同組合中央会 | D15: 宮城県農協連診療所 | E15: 村上 治 | F15: 40931 | G15: 980-0011 | H15: 青葉区上杉一丁目２－１６ JAﾋﾞﾙ宮城 6階 | I15: 022-264-8633 | J15: ○ | K15: 0 | L15: 0 | M15: 0 | N15: 0 | O15: 0 | P15: 0 | R15: 0 | S15: 0 | T15: 0 | U15: 0 | V15: ○ | W15: 0 | X15: 0 | Y15: 0 | Z15: 0 | AA15: 0 | AB15: 0 | AC15: 0 | AE15: 0 | AF15: 0 | AG15: 0 | AH15: 0 | AI15: 0 | AJ15: 0 | AK15: 0 | AL15: 0
A16: 14 | B16: 青葉 | C16: 和田 裕子 | D16: わだゆうこ眼科クリニック | E16: 和田 裕子 | F16: 39149 | G16: 980-0011 | H16: 青葉区上杉一丁目４－２８ ｱｯﾌﾟｼｰﾀﾞｰﾋﾞﾙ 3階 | I16: 022-395-7100 | J16: 0 | K16: 0 | L16: 0 | M16: 0 | N16: 0 | O16: 0 | P16: 0 | R16: 0 | S16: 0 | T16: 0 | U16: 0 | V16: 0 | W16: 0 | X16: 0 | Y16: 0 | Z16: 0 | AA16: 0 | AB16: 0 | AC16: 0 | AE16: 0 | AF16: 0 | AG16: 0 | AH16: 0 | AI16: 0 | AJ16: 0 | AK16: 0 | AL16: ○
A17: 15 | B17: 青葉 | C17: 一般財団法人宮城県予防医学協会 | D17: 一般財団法人 宮城県予防医学協会 附属勾当台診療所 | E17: 川村 武 | F17: 42088 | G17: 980-0011 | H17: 青葉区上杉一丁目６－６ ｲｰｽﾀﾝﾋﾞﾙ 5階・6階 | I17: 022-262-2621 | J17: ○ | AK17: ○
A18: 16 | B18: 青葉 | C18: 医療法人 健誠会 | D18: 小倉整形外科 | E18: 小倉 健 | F18: 43282 | G18: 980-0011 | H18: 青葉区上杉一丁目６－１０ EARTH BLUR仙台勾当台 2階 | I18: 022-796-4355 | T18: ○ | W18: ○ | AO18: ○
A19: 17 | B19: 青葉 | C19: 三島 利之 | D19: 上杉胃腸科内科クリニック | E19: 三島 利之 | F19: 42313 | G19: 980-0011 | H19: 青葉区上杉一丁目６－１０ EARTH BLUE仙台勾当台 3階 | I19: 022-724-7822 | J19: ○ | Q19: ○ | AS19: 胃腸内科
A20: 18 | B20: 青葉 | C20: 佐々木 啓吾 | D20: 上杉脳外科クリニック | E20: 佐々木 啓吾 | F20: 42310 | G20: 980-0011 | H20: 青葉区上杉一丁目６－１０ EARTH BLUE仙台勾当台 3階 | I20: 022-397-7667 | Z20: ○
A21: 19 | B21: 青葉 | C21: 柿沼 民郎 | D21: 柿沼内科・心療内科 青葉心理クリニック | E21: 柿沼 民郎 | F21: 39722 | G21: 980-0011 | H21: 青葉区上杉一丁目１７－３０ ﾛｲﾔﾙﾋﾙｽﾞ上杉Ⅱ601号 | I21: 022-215-3525 | J21: ○ | K21: ○ | L21: 0 | M21: 0 | N21: 0 | O21: 0 | P21: 0 | R21: 0 | S21: 0 | T21: 0 | U21: 0 | V21: 0 | W21: 0 | X21: 0 | Y21: 0 | Z21: 0 | AA21: 0 | AB21: 0 | AC21: 0 | AE21: 0 | AF21: 0 | AG21: 0 | AH21: 0 | AI21: 0 | AJ21: 0 | AK21: 0 | AL21: 0 | AM21: 0 | AN21: 0 | AO21: 0 | AP21: 0 | AQ21: 0 | AR21: 0
A22: 20 | B22: 青葉 | C22: 医療法人 恒心会 | D22: 上杉みんなの内科おなかクリニック | E22: 池田 恒彦 | F22: 36327 | G22: 980-0011 | H22: 青葉区上杉二丁目１－３０ | I22: 022-263-3151 | J22: ○ | K22: 0 | L22: 0 | M22: 0 | N22: 0 | O22: 0 | P22: ○ | Q22: ○ | R22: 0 | S22: 0 | T22: 0 | U22: 0 | V22: 0 | W22: 0 | X22: 0 | Y22: 0 | Z22: 0 | AA22: 0 | AB22: 0 | AC22: 0 | AE22: 0 | AF22: 0 | AG22: 0 | AH22: 0 | AI22: 0 | AJ22: 0 | AK22: 0 | AL22: 0 | AM22: 0 | AN22: 0 | AO22: 0 | AP22: 0 | AQ22: 0 | AR22: 0 | AS22: 消化器内科 胃腸内科
A23: 21 | B23: 青葉 | C23: 中川 聡 | D23: 北四番丁なかがわ皮フ科クリニック | E23: 中川 聡 | F23: 41000 | G23: 980-0011 | H23: 青葉区上杉二丁目３－１９ 3階 | I23: 022-721-5041 | S23: ○ | AE23: ○
A24: 22 | B24: 青葉 | C24: 貴田岡 ﾏﾁ子 | D24: 北四番丁さくら眼科 | E24: 貴田岡 ﾏﾁ子 | F24: 41000 | G24: 980-0011 | H24: 青葉区上杉二丁目３－１９ 4階 | I24: 022-265-8188 | AL24: ○
A25: 23 | B25: 青葉 | C25: 一般財団法人 周行会 | D25: 一般財団法人周行会 周行会上杉クリニック | E25: 唐橋 昌子 | F25: 41068 | G25: 980-0011 | H25: 青葉区上杉二丁目３－３ ﾉｰｽﾌｫｰ 1・2階 | I25: 022-221-5668 | J25: ○ | K25: ○ | AK25: ○ | AO25: ○
A26: 24 | B26: 青葉 | C26: 小野寺 謙吾 | D26: アイ往診クリニック | E26: 小野寺 謙吾 | F26: 42491 | G26: 980-0011 | H26: 青葉区上杉三丁目２－２８ ｱｸｽ上杉ﾋﾞﾙ 201 | I26: 022-224-0788 | J26: ○
A27: 25 | B27: 青葉 | C27: 公益財団法人宮城厚生協会 | D27: 公益財団法人宮城厚生協会仙台錦町診療所 | E27: 齋藤 慶史 | F27: 42142 | G27: 980-0011 | H27: 青葉区上杉三丁目２－２８ ｱｸｽ上杉ﾋﾞﾙ 301号室 | I27: 022-222-7997 | J27: ○ | O27: ○ | AS27: 呼吸器内科、腎臓内科
A28: 26 | B28: 青葉 | C28: 医療法人イーハトーブ | D28: 仙台内科総合クリニック | E28: 鎌田 和彦 | F28: 40544 | G28: 980-0011 | H28: 青葉区上杉三丁目９－２５ ﾎﾞﾅﾊｳｽ上杉 2階 | I28: 022-217-1733 | J28: ○ | L28: 0 | M28: 0 | N28: ○ | O28: ○ | P28: ○ | R28: ○ | S28: ○ | T28: 0 | U28: 0 | V28: 0 | W28: 0 | X28: 0 | Y28: 0 | Z28: 0 | AA28: 0 | AB28: 0 | AC28: 0 | AE28: 0 | AF28: 0 | AG28: 0 | AH28: 0 | AI28: 0 | AJ28: 0 | AK28: 0 | AL28: 0 | AM28: 0 | AN28: 0 | AO28: 0 | AP28: 0 | AQ28: 0 | AR28: 0 | AS28: 呼吸器内科 循環器内科 消化器内科 | AT28: 0 | AU28: 0 | AV28: 0 | AW28: 0
A29: 27 | B29: 青葉 | C29: 小泉 文明 | D29: 小泉内科医院 | E29: 小泉 文明 | F29: 33422 | G29: 980-0011 | H29: 青葉区上杉四丁目２－４７ | I29: 022-222-8703 | J29: ○ | K29: 0 | L29: 0 | M29: 0 | N29: 0 | O29: 0 | P29: 0 | R29: 0 | S29: 0 | T29: 0 | U29: 0 | V29: 0 | W29: 0 | X29: 0 | Y29: 0 | Z29: 0 | AA29: 0 | AB29: 0 | AC29: 0 | AE29: 0 | AF29: 0 | AG29: 0 | AH29: 0 | AI29: 0 | AJ29: 0 | AK29: 0 | AL29: 0 | AM29: 0 | AN29: 0 | AO29: 0 | AP29: 0 | AQ29: 0 | AR29: 0 | AT29: 0 | AU29: 0 | AV29: 0 | AW29: 0
A30: 28 | B30: 青葉 | C30: 公益財団法人宮城県対がん協会 | D30: 公益財団法人宮城県対がん協会附属診療所 | E30: 加藤 勝章 | F30: 29717 | G30: 980-0011 | H30: 青葉区上杉五丁目７－３０ | I30: 022-263-1525 | J30: ○ | K30: 0 | L30: 0 | M30: 0 | N30: 0 | O30: 0 | P30: 0 | R30: 0 | S30: 0 | T30: 0 | U30: 0 | V30: ○ | W30: 0 | X30: 0 | Y30: 0 | Z30: 0 | AA30: 0 | AB30: 0 | AC30: 0 | AE30: 0 | AF30: ○ | AG30: 0 | AH30: 0 | AI30: 0 | AJ30: 0 | AK30: ○ | AL30: 0 | AM30: 0 | AN30: 0 | AO30: 0 | AP30: 0 | AQ30: 0 | AR30: 0 | AT30: 0 | AU30: 0 | AV30: 0 | AW30: 0
A31: 29 | B31: 青葉 | C31: 伊澤 亮平 | D31: 上杉山整形外科クリニック | E31: 伊澤 亮平 | F31: 41214 | G31: 980-0011 | H31: 青葉区上杉五丁目８－４０ | I31: 022-797-0488 | W31: ○ | AO31: ○
A32: 30 | B32: 青葉 | C32: 医療法人社団イギスクリニック | D32: イギスクリニックベルポー | E32: 遠藤 京子 | F32: 36509 | G32: 980-0011 | H32: 青葉区上杉六丁目２－２６ | I32: 022-274-7333 | J32: 0 | K32: 0 | L32: 0 | M32: 0 | N32: 0 | O32: 0 | P32: 0 | R32: 0 | S32: ○ | T32: 0 | U32: 0 | V32: 0 | W32: 0 | X32: 0 | Y32: 0 | Z32: 0 | AA32: 0 | AB32: 0 | AC32: 0 | AE32: ○ | AF32: 0 | AG32: 0 | AH32: 0 | AI32: 0 | AJ32: 0 | AK32: 0 | AL32: 0 | AM32: 0 | AN32: 0 | AO32: 0 | AP32: 0 | AQ32: 0 | AR32: 0 | AT32: 0 | AU32: 0 | AV32: 0 | AW32: 0
A33: 31 | B33: 青葉 | C33: 佐々木 知佳 | D33: 上杉いろは皮ふ科 | E33: 佐々木 知佳 | F33: 45490 | G33: 980-0011 | H33: 青葉区上杉6丁目2-38 リッチモンドスクエア上杉1F | I33: 022-200-6680 | V33: ○ | X33: ○ | AE33: ○ | AS33: 小児皮膚科、美容皮膚科
A34: 32 | B34: 青葉 | C34: 仙台市長 | D34: 仙台市保健所青葉支所 | E34: 野村 脩子 | F34: 32509 | G34: 980-0011 | H34: 青葉区上杉一丁目-5-1 | I34: 022-225-7211 | J34: ○ | K34: 0 | L34: 0 | M34: 0 | N34: 0 | O34: 0 | P34: 0 | R34: 0 | S34: 0 | T34: 0 | U34: ○ | V34: 0 | W34: ○ | X34: 0 | Y34: 0 | Z34: 0 | AA34: 0 | AB34: 0 | AC34: 0 | AE34: 0 | AF34: 0 | AG34: 0 | AH34: 0 | AI34: 0 | AJ34: 0 | AK34: 0 | AL34: 0 | AM34: 0 | AN34: 0 | AO34: 0 | AP34: 0 | AQ34: 0 | AR34: ○ | AT34: 0 | AU34: 0 | AV34: 0 | AW34: 0
A35: 33 | B35: 青葉 | C35: 沓澤 大輔 | D35: 上杉くつざわハートクリニック | E35: 沓澤 大輔 | F35: 45566 | G35: 980-0011 | H35: 青葉区上杉6丁目2-38 リッチモンドスクエア上杉2F | I35: 022-341-7360 | J35: ○ | R35: ○ | AO35: ○ | AS35: 循環器内科
A36: 34 | B36: 青葉 | C36: 社会福祉法人湖星会 | D36: 特別養護老人ホーム スターレイク仙台 医務室 | E36: 石坂 重昭 | F36: 44531 | G36: 980-0012 | H36: 青葉区錦町一丁目8-10 | I36: 022-290-1360 | J36: ○
A37: 35 | B37: 青葉 | C37: 医療法人社団 宏樹会 | D37: やたべ内科・訪問診療クリニック | E37: 矢田部 宏一 | F37: 43466 | G37: 980-0012 | H37: 青葉区錦町一丁目９－８ | I37: 022-397-9904 | J37: ○ | AT37: 0 | AV37: 0
A38: 36 | B38: 青葉 | C38: 医療法人久仙会 | D38: 照井在宅緩和クリニック | E38: 照井 隆広 | F38: 45717 | G38: 980-0012 | H38: 青葉区錦町一丁目12-15-102号室 | I38: 022-781-8024 | AS38: 緩和ケア内科
A39: 37 | B39: 青葉 | C39: 清水 哲 | D39: 清水医院 | E39: 清水 哲 | F39: 44348 | G39: 980-0012 | H39: 青葉区錦町二丁目１－６ | I39: 022-223-2532 | J39: ○ | K39: 0 | L39: 0 | M39: 0 | N39: 0 | R39: ○ | S39: 0 | T39: 0 | V39: 0 | W39: 0 | X39: 0 | Y39: 0 | Z39: 0 | AA39: 0 | AB39: 0 | AC39: 0 | AE39: 0 | AF39: 0 | AG39: 0 | AH39: 0 | AI39: 0 | AJ39: 0 | AK39: 0 | AL39: 0 | AM39: 0 | AN39: 0 | AO39: 0 | AP39: 0 | AQ39: 0 | AR39: 0 | AS39: 循環器内科、糖尿病・代謝内科 | AT39: 0 | AU39: 0 | AV39: 0
A40: 38 | B40: 青葉 | C40: 医療法人社団青葉錦町クリニック | D40: 八丁目皮膚科クリニック | E40: 八丁目 直寛 | F40: 33981 | G40: 980-0012 | H40: 青葉区錦町二丁目１－４８ | I40: 022-223-1795 | J40: 0 | K40: 0 | L40: 0 | M40: 0 | N40: 0 | O40: 0 | P40: 0 | R40: 0 | S40: 0 | T40: 0 | U40: 0 | V40: 0 | W40: 0 | X40: 0 | Y40: 0 | Z40: 0 | AA40: 0 | AB40: 0 | AC40: 0 | AE40: ○ | AF40: 0 | AG40: 0 | AH40: 0 | AI40: 0 | AJ40: 0 | AK40: 0 | AL40: 0 | AM40: 0 | AN40: 0 | AO40: 0 | AP40: 0 | AQ40: 0 | AR40: 0 | AT40: 0 | AU40: 0 | AV40: 0 | AW40: 0
A41: 39 | B41: 青葉 | C41: 依田 拓之 | D41: よだ形成外科クリニック | E41: 依田 拓之 | F41: 40304 | G41: 980-0013 | H41: 青葉区花京院一丁目１－６ Ever-i仙台駅前 2階 | I41: 022-266-1126 | J41: 0 | K41: 0 | L41: 0 | M41: 0 | N41: 0 | O41: 0 | P41: 0 | Q41: 0 | R41: 0 | S41: 0 | T41: 0 | U41: 0 | V41: 0 | W41: 0 | X41: ○ | Y41: ○ | Z41: 0 | AA41: 0 | AB41: 0 | AC41: 0 | AD41: 0 | AE41: 0 | AF41: 0 | AG41: 0 | AH41: 0 | AI41: 0 | AJ41: 0 | AK41: 0 | AL41: 0 | AM41: 0 | AN41: 0 | AO41: 0 | AP41: 0 | AQ41: 0 | AR41: 0 | AS41: 美容皮膚科 | AT41: 0 | AU41: 0 | AV41: 0
A42: 40 | B42: 青葉 | C42: 医療法人松柴会 | D42: ソララクリニック | E42: 佐藤 雅樹 | F42: 44743 | G42: 980-0013 | H42: 青葉区花京院一丁目２－１５ ｿﾗﾗﾌﾟﾗｻﾞ 2階 | I42: 022-722-7091 | J42: ○ | W42: ○ | AE42: ○ | AS42: 美容皮膚科 | AT42: 0 | AU42: 0 | AV42: 0
A43: 41 | B43: 青葉 | C43: 川島孝一郎 | D43: 仙台往診クリニック | E43: 川島 孝一郎 | F43: 38687 | G43: 980-0013 | H43: 青葉区花京院二丁目１－７ 3階 | I43: 022-212-8501 | J43: ○ | K43: 0 | L43: ○ | M43: ○ | N43: ○ | O43: 0 | P43: 0 | R43: 0 | S43: 0 | T43: 0 | U43: 0 | V43: 0 | W43: 0 | X43: 0 | Y43: 0 | Z43: 0 | AA43: 0 | AB43: 0 | AC43: 0 | AE43: 0 | AF43: 0 | AG43: 0 | AH43: 0 | AI43: 0 | AJ43: 0 | AK43: 0 | AL43: 0 | AM43: 0 | AN43: 0 | AO43: 0 | AP43: 0 | AQ43: 0 | AR43: 0 | AT43: 0 | AU43: 0 | AV43: 0 | AW43: 0
A44: 42 | B44: 青葉 | C44: 医療法人社団月山会 | D44: おやま整形外科クリニック仙台西口院 | E44: 小形 拓也 | F44: 46012 | G44: 980-0013 | H44: 青葉区花京院二丁目1-65 いちご花京院ビル1F | I44: 022-748-5280 | W44: ○ | AO44: ○
A45: 43 | B45: 青葉 | C45: 田中 高志 | D45: 田中こどもクリニック | E45: 田中 高志 | F45: 44652 | G45: 980-0013 | H45: 青葉区花京院二丁目2-11区画A | I45: 022-748-5207 | U45: ○
A46: 44 | B46: 青葉 | C46: 上田 一気 | D46: 仙台花京院クリニック | E46: 上田 一気 | F46: 44652 | G46: 980-0013 | H46: 青葉区花京院二丁目2-11区画B | I46: 022-397-7140 | J46: ○ | K46: ○ | L46: ○
A47: 45 | B47: 青葉 | C47: 一般社団法人AND medical group | D47: AND美容外科仙台院 | E47: 鹿股 利一郎 | F47: 45182 | G47: 980-0013 | H47: 青葉区花京院一丁目2-15 ソララプラザ1階 | I47: 022-281-9254 | Y47: ○ | AF47: ○ | AS47: 美容皮膚科
A48: 46 | B48: 青葉 | C48: 医療法人社団 レディースクリニック京野 | D48: 京野アートクリニック仙台 | E48: 笠原 佑太 | F48: 39142 | G48: 980-0014 | H48: 青葉区本町一丁目１－１ | I48: 022-722-8841 | J48: 0 | K48: 0 | L48: 0 | M48: 0 | N48: 0 | O48: 0 | P48: 0 | R48: 0 | S48: 0 | T48: 0 | U48: 0 | V48: 0 | W48: 0 | X48: 0 | Y48: 0 | Z48: 0 | AA48: 0 | AB48: 0 | AC48: 0 | AE48: 0 | AF48: ○ | AG48: 0 | AH48: 0 | AI48: 0 | AJ48: ○ | AK48: ○ | AL48: 0 | AM48: 0 | AN48: 0 | AO48: 0 | AP48: 0 | AQ48: 0 | AR48: 0 | AT48: 0 | AU48: 0 | AV48: 0 | AW48: 0
A49: 47 | B49: 青葉 | C49: 医療法人仁光会 | D49: 鬼怒川眼科医院 | E49: 鬼怒川 雄一 | F49: 38357 | G49: 980-0014 | H49: 青葉区本町一丁目２－３ | I49: 022-222-5388 | J49: 0 | K49: 0 | L49: 0 | M49: 0 | N49: 0 | O49: 0 | P49: 0 | R49: 0 | S49: 0 | T49: 0 | U49: 0 | V49: 0 | W49: 0 | X49: 0 | Y49: 0 | Z49: 0 | AA49: 0 | AB49: 0 | AC49: 0 | AE49: 0 | AF49: 0 | AG49: 0 | AH49: 0 | AI49: 0 | AJ49: 0 | AK49: 0 | AL49: ○ | AM49: 0 | AN49: 0 | AO49: 0 | AP49: 0 | AQ49: 0 | AR49: 0 | AT49: 4 | AU49: 0 | AV49: 4 | AW49: 0
A50: 48 | B50: 青葉 | C50: 医療法人社団渡辺眼科医院 | D50: 渡辺眼科医院 | E50: 渡辺 順 | F50: 32676 | G50: 980-0014 | H50: 青葉区本町一丁目４－３５ | I50: 022-223-0671 | J50: 0 | K50: 0 | L50: 0 | M50: 0 | N50: 0 | O50: 0 | P50: 0 | R50: 0 | S50: 0 | T50: 0 | U50: 0 | V50: 0 | W50: 0 | X50: 0 | Y50: 0 | Z50: 0 | AA50: 0 | AB50: 0 | AC50: 0 | AE50: 0 | AF50: 0 | AG50: 0 | AH50: 0 | AI50: 0 | AJ50: 0 | AK50: 0 | AL50: ○ | AM50: 0 | AN50: 0 | AO50: 0 | AP50: 0 | AQ50: 0 | AR50: 0 | AS50: 0 | AT50: 8 | AU50: 0 | AV50: 8
A51: 49 | B51: 青葉 | C51: 東北電力(株) | D51: 東北電力㈱本店健康推進センター | E51: 望月 るり子 | F51: 37383 | G51: 980-0014 | H51: 青葉区本町一丁目７－１ | I51: 022-225-2111 | J51: ○ | K51: 0 | L51: ○ | M51: 0 | N51: 0 | O51: 0 | P51: 0 | R51: 0 | S51: 0 | T51: 0 | U51: 0 | V51: 0 | W51: 0 | X51: 0 | Y51: 0 | Z51: 0 | AA51: 0 | AB51: 0 | AC51: 0 | AE51: 0 | AF51: 0 | AG51: 0 | AH51: 0 | AI51: 0 | AJ51: 0 | AK51: 0 | AL51: 0 | AM51: 0 | AN51: 0 | AO51: 0 | AP51: 0 | AQ51: 0 | AR51: 0 | AT51: 0 | AU51: 0 | AV51: 0 | AW51: 0
A52: 50 | B52: 青葉 | C52: 青木 智之 | D52: Shea clinic sendai | E52: 青木 智之 | F52: 46083 | G52: 980-0014 | H52: 青葉区本町1丁目10-34 シエロ本町1丁目ビル501,502 | I52: 022-398-9501 | Y52: ○ | AS52: 美容皮膚科
A53: 51 | B53: 青葉 | C53: 医療法人佳留会 | D53: ごとう整形外科 | E53: 後藤 均 | F53: 42240 | G53: 980-0014 | H53: 青葉区本町二丁目４－８ 510ﾋﾞﾙ | I53: 022-221-6903 | W53: ○ | AO53: ○
A54: 52 | B54: 青葉 | C54: 医療法人稀月会 | D54: こころの総合診療室 Canal 勾当台 | E54: 桂 雅宏 | F54: 46235 | G54: 980-0014 | H54: 青葉区本町二丁目4－8 510ビル201 | I54: 022-226-8971 | K54: ○ | L54: ○ | AS54: 精神科（睡眠障害）
A55: 53 | B55: 青葉 | C55: 太田 貴文 | D55: もりのみやこクリニック | E55: 太田 貴文 | F55: 43617 | G55: 980-0014 | H55: 青葉区本町二丁目１０－５ 第7太田ﾋﾞﾙ 4階 | I55: 070-3953-9192 | J55: ○ | K55: ○ | L55: ○ | AS55: 漢方内科
A56: 54 | B56: 青葉 | C56: 笹森 源弘 | D56: 笹森医院 | E56: 笹森 源弘 | F56: 30820 | G56: 980-0014 | H56: 青葉区本町二丁目１３－１３ | I56: 022-222-9081 | J56: 0 | K56: 0 | L56: 0 | M56: 0 | N56: 0 | O56: 0 | P56: 0 | R56: 0 | S56: 0 | T56: 0 | V56: 0 | W56: 0 | X56: 0 | Y56: 0 | Z56: 0 | AA56: 0 | AB56: 0 | AC56: 0 | AE56: 0 | AF56: 0 | AG56: 0 | AH56: 0 | AI56: ○ | AJ56: 0 | AK56: 0 | AL56: ○ | AM56: 0 | AN56: 0 | AO56: 0 | AP56: 0 | AQ56: 0 | AR56: 0 | AT56: 0 | AU56: 0 | AV56: 0 | AW56: 0
A57: 55 | B57: 青葉 | C57: 医療法人さんらく会 | D57: すがわら内科外科・静脈瘤クリニック | E57: 菅原 弘光 | F57: 45566 | G57: 980-0014 | H57: 青葉区本町二丁目16-1 コニシビル1階 | I57: 022-302-6231 | J57: ○ | P57: ○ | V57: ○ | AS57: 血管外科、消化器外科、乳腺・甲状腺外科
A58: 56 | B58: 青葉 | C58: 医療法人かんとうクリニック | D58: かんとうクリニック | E58: 菅藤 哲 | F58: 43739 | G58: 980-0014 | H58: 青葉区本町二丁目１７－２３ | I58: 022-397-7762 | J58: ○ | AS58: 泌尿器科（生殖医療）
A59: 57 | B59: 青葉 | C59: 国家公務員共済組合連合会 | D59: 仙台合同庁舎診療所 | E59: 山下 恵子 | F59: 24210 | G59: 980-0014 | H59: 青葉区本町三丁目３－１ | I59: 022-263-1111 | J59: ○ | K59: 0 | L59: 0 | M59: 0 | N59: 0 | O59: 0 | P59: 0 | R59: 0 | S59: 0 | T59: 0 | U59: 0 | V59: ○ | W59: 0 | X59: 0 | Y59: 0 | Z59: 0 | AA59: 0 | AB59: 0 | AC59: 0 | AE59: 0 | AF59: 0 | AG59: 0 | AH59: 0 | AI59: 0 | AJ59: 0 | AK59: 0 | AL59: 0 | AM59: 0 | AN59: 0 | AO59: 0 | AP59: 0 | AQ59: 0 | AR59: ○ | AT59: 0 | AU59: 0 | AV59: 0 | AW59: 0
A60: 58 | B60: 青葉 | C60: 石橋 義彦 | D60: 仙台本町メンタルクリニック | E60: 石橋 義彦 | F60: 45352 | G60: 980-0014 | H60: 青葉区本町二丁目9-7 仙台YFビル1階 | I60: 022-398-3552 | J60: ○ | K60: ○ | L60: ○
A61: 59 | B61: 青葉 | C61: 医療法人めざきクリニック | D61: 仙台駅スマートクリニック | E61: 福家 良太 | F61: 45444 | G61: 980-0021 | H61: 青葉区中央一丁目1－1 JR東日本仙台駅2階 | I61: 022-354-8358 | J61: ○ | U61: ○
A62: 60 | B62: 青葉 | C62: 医療法人SOUND SLEEP | D62: 医療法人SOUND SLEEP 仙台内科睡眠クリニック | E62: 田中 俊彦 | F62: 44105 | G62: 980-0021 | H62: 青葉区中央一丁目１－１ ｴｽﾊﾟﾙ仙台 4階 | I62: 022-791-4159 | J62: ○ | L62: ○ | O62: ○ | R62: ○ | S62: ○ | AM62: ○ | AS62: 呼吸器内科、循環器内科、糖尿病内科
A63: 61 | B63: 青葉 | C63: 医療法人湘美会 | D63: 湘南美容クリニック仙台院 | E63: 福山 紘平 | F63: 42852 | G63: 980-0021 | H63: 青葉区中央一丁目２－３ 仙台ﾏｰｸﾜﾝ 17階 | I63: 050-5865-5290 | Y63: ○ | AR63: ○ | AS63: 美容皮膚科 | AT63: 0 | AU63: 0 | AV63: 0
A64: 62 | B64: 青葉 | C64: 古川 秀明 | D64: 古川眼科 | E64: 古川 秀明 | F64: 44866 | G64: 980-0021 | H64: 青葉区中央一丁目７－４ 宮城商事ﾋﾞﾙ 6階 | I64: 022-211-0338 | J64: 0 | K64: 0 | L64: 0 | M64: 0 | N64: 0 | O64: 0 | P64: 0 | R64: 0 | S64: 0 | T64: 0 | U64: 0 | V64: 0 | W64: 0 | X64: 0 | Y64: 0 | Z64: 0 | AA64: 0 | AB64: 0 | AC64: 0 | AE64: 0 | AF64: 0 | AG64: 0 | AH64: 0 | AI64: 0 | AJ64: 0 | AK64: 0 | AL64: ○ | AM64: 0 | AN64: 0 | AO64: 0 | AP64: 0 | AQ64: 0 | AR64: 0 | AT64: 0 | AU64: 0 | AV64: 0 | AW64: 0
A65: 63 | B65: 青葉 | C65: 医療法人社団 イースト会 | D65: 医療法人社団イースト会 仙台イースト駅前クリニック | E65: 芦名 義博 | F65: 43194 | G65: 980-0021 | H65: 青葉区中央一丁目７－１８ 日吉第一ﾋﾞﾙ 4階 | I65: 022-216-1080 | J65: ○ | AE65: ○ | AF65: ○
A66: 64 | B66: 青葉 | C66: 医療法人社団淳康会 | D66: 医療法人社団淳康会 ギガクリニック仙台院（ユナイテッドクリニック） | E66: 長浦 主税 | F66: 44265 | G66: 980-0021 | H66: 青葉区中央一丁目８－４０ 井門仙台駅前ﾋﾞﾙ 9階 | I66: 022-796-9358 | J66: ○ | AF66: ○
A67: 65 | B67: 青葉 | C67: 志賀 永嗣 | D67: せんだい駅前 消化器IBDクリニック | E67: 志賀 永嗣 | F67: 45931 | G67: 980-0021 | H67: 青葉区中央二丁目1番5号 青葉21ビル3階 | I67: 022-797-9171 | J67: ○ | AS67: 消化器内科 内視鏡内科
A68: 66 | B68: 青葉 | C68: 安本 匠 | D68: 仙台駅前美容外科 | E68: 安本 匠 | F68: 45733 | G68: 980-0021 | H68: 青葉区中央に丁目1-5 青葉21ビル4階 | I68: 022-724-7695 | Y68: ○ | AS68: 美容皮膚科
A69: 67 | B69: 青葉 | C69: 瀬野 幸治 | D69: 瀬野整形外科診療所 | E69: 瀬野 幸治 | F69: 37538 | G69: 980-0021 | H69: 青葉区中央二丁目２－５ あおば通駅前ビル 5階 | I69: 022-261-8361 | J69: 0 | K69: 0 | L69: 0 | M69: 0 | N69: 0 | O69: 0 | P69: 0 | R69: 0 | S69: 0 | T69: 0 | U69: 0 | V69: 0 | W69: ○ | X69: 0 | Y69: 0 | Z69: 0 | AA69: 0 | AB69: 0 | AC69: 0 | AE69: 0 | AF69: 0 | AG69: 0 | AH69: 0 | AI69: 0 | AJ69: 0 | AK69: 0 | AL69: 0 | AM69: 0 | AN69: 0 | AO69: 0 | AP69: 0 | AQ69: 0 | AR69: 0 | AT69: 0 | AU69: 0 | AV69: 0 | AW69: 0
A70: 68 | B70: 青葉 | C70: 医療法人柚桜会中村クリニック | D70: 医療法人 柚桜会 中村クリニック | E70: 中村 雍志 | F70: 40333 | G70: 980-0021 | H70: 青葉区中央二丁目２－５ 6階 | I70: 022-212-3615 | J70: ○ | K70: 0 | L70: 0 | M70: 0 | N70: 0 | O70: 0 | P70: 0 | Q70: ○ | R70: 0 | S70: 0 | T70: 0 | U70: 0 | V70: ○ | W70: 0 | X70: 0 | Y70: 0 | Z70: 0 | AA70: 0 | AB70: 0 | AC70: 0 | AE70: 0 | AF70: 0 | AG70: 0 | AH70: 0 | AI70: 0 | AJ70: 0 | AK70: 0 | AL70: 0 | AM70: 0 | AN70: 0 | AO70: 0 | AP70: 0 | AQ70: 0 | AR70: 0 | AS70: 胃腸内科、肛門外科 | AT70: 0 | AU70: 0 | AV70: 0
A71: 69 | B71: 青葉 | C71: 三由 幸治 | D71: 青葉通り中央みよしメンタルクリニック | E71: 三由 幸治 | F71: 42007 | G71: 980-0021 | H71: 青葉区中央二丁目２－１０ 仙都会館ﾋﾞﾙビル 4階 | I71: 022-797-7145 | J71: ○ | K71: ○ | L71: ○
A72: 70 | B72: 青葉 | C72: 医療法人ひまわり会 | D72: 仙台ひまわり眼科 | E72: 下野 龍 | F72: 44621 | G72: 980-0021 | H72: 青葉区中央二丁目3-29 榎戸ビル1階2階 | I72: 022-796-2710 | AL72: ○
A73: 71 | B73: 青葉 | C73: 医療法人社団十二会 | D73: ゴリラクリニック仙台院 | E73: 小篠 隆広 | F73: 43784 | G73: 980-0021 | H73: 青葉区中央二丁目４－５ ｱﾙﾎﾞｰﾚ仙台 4階 | I73: 022-217-7930 | AE73: ○ | AS73: 美容皮膚科
A74: 72 | B74: 青葉 | C74: 医療法人リベルラ | D74: ひでゆき眼科クリニック | E74: 今野 瑛之 | F74: 44927 | G74: 980-0021 | H74: 青葉区中央二丁目４－１１ 水晶堂ﾋﾞﾙ 2階 | I74: 022-722-1201 | S74: ○ | X74: ○ | AL74: ○
A75: 73 | B75: 青葉 | C75: 医療法人誠崇会 | D75: レジーナクリニック仙台院 | E75: 清水 航 | F75: 45275 | G75: 980-0021 | H75: 青葉区中央二丁目5-5 三経60ﾋﾞﾙ6階 | I75: 022-399-8361 | AS75: 美容皮膚科
A76: 74 | B76: 青葉 | C76: 古暮 恒夫 | D76: あかかぶクリニック | E76: 古暮 恒夫 | F76: 43989 | G76: 980-0021 | H76: 青葉区中央二丁目６－１９ 豊栄堂ﾋﾞﾙ 5階 | I76: 022-224-6788 | J76: ○ | K76: ○ | L76: ○
A77: 75 | B77: 青葉 | C77: 医療法人社団陽美会 | D77: メンズライフクリニック仙台院 | E77: 澤 純平 | F77: 43146 | G77: 980-0021 | H77: 青葉区中央二丁目６－３６ 中央ﾚﾝﾄﾋﾞﾙ 5階 | I77: 022-796-3913 | X77: ○ | AE77: ○ | AF77: ○ | AS77: 頭部皮膚科
A78: 76 | B78: 青葉 | C78: 明神 祟仁 | D78: 明神クリニック | E78: 明神 祟仁 | F78: 38513 | G78: 980-0021 | H78: 青葉区中央二丁目６－３６ 601号室 | I78: 022-723-1481 | J78: 0 | K78: 0 | L78: 0 | M78: 0 | N78: 0 | O78: 0 | P78: 0 | R78: 0 | S78: ○ | X78: ○ | Y78: ○ | AE78: ○ | AW78: 0
A79: 77 | B79: 青葉 | C79: 鈴木 卓 | D79: 杜のレディースクリニック | E79: 鈴木 卓 | F79: 38658 | G79: 980-0021 | H79: 青葉区中央二丁目７－１５ ＣＯＸＢＬＤ 4階 | I79: 022-711-2351 | J79: 0 | K79: 0 | L79: 0 | M79: 0 | N79: 0 | O79: 0 | P79: 0 | R79: 0 | S79: 0 | T79: 0 | U79: 0 | V79: 0 | W79: 0 | X79: 0 | Y79: 0 | Z79: 0 | AA79: 0 | AB79: 0 | AC79: 0 | AE79: 0 | AF79: 0 | AG79: 0 | AH79: 0 | AI79: ○ | AJ79: 0 | AK79: 0 | AL79: 0 | AM79: 0 | AN79: 0 | AO79: 0 | AP79: 0 | AQ79: 0 | AR79: 0 | AT79: 0 | AU79: 0 | AV79: 0 | AW79: 0
A80: 78 | B80: 青葉 | C80: 雫石 崇 | D80: ウッドランドクリニック | E80: 雫石 崇 | F80: 45912 | G80: 980-0021 | H80: 青葉区中央2丁目7-30 角川ビルディング303号 | I80: 090-4651-6255 | J80: ○
A81: 79 | B81: 青葉 | C81: 鈴木 啓子 | D81: すずきけいこカウンセリングオフィス | E81: 鈴木 啓子 | F81: 45627 | G81: 980-0021 | H81: 青葉区中央二丁目８－１１ ﾌﾟﾚﾐｱﾑｸﾞﾘｰﾝﾋﾙｽﾞ 3階 M-LABEL仙台008号室 | I81: 080-8460-7123 | L81: ○
A82: 80 | B82: 青葉 | C82: 医療法人社団平成会 | D82: 春樹記念眼科診療所 | E82: 山口 千鶴 | F82: 35842 | G82: 980-0021 | H82: 青葉区中央二丁目８－３２ 生活文化ﾋﾞﾙ | I82: 022-227-1360 | J82: 0 | K82: 0 | L82: 0 | M82: 0 | N82: 0 | O82: 0 | P82: 0 | R82: 0 | S82: 0 | T82: 0 | U82: 0 | V82: 0 | W82: 0 | X82: 0 | Y82: 0 | Z82: 0 | AA82: 0 | AB82: 0 | AC82: 0 | AE82: 0 | AF82: 0 | AG82: 0 | AH82: 0 | AI82: 0 | AJ82: 0 | AK82: 0 | AL82: ○ | AM82: 0 | AN82: 0 | AO82: 0 | AP82: 0 | AQ82: 0 | AR82: 0 | AT82: 0 | AU82: 0 | AV82: 0 | AW82: 0
A83: 81 | B83: 青葉 | C83: 瀬上 正仁 | D83: 瀬上整形外科医院 | E83: 瀬上 正仁 | F83: 43901 | G83: 980-0021 | H83: 青葉区中央二丁目８－３２ 生活文化ﾋﾞﾙ 2階 | I83: 022-266-3323 | W83: ○ | AO83: ○
A84: 82 | B84: 青葉 | C84: 河西 研一 | D84: 河西耳鼻咽喉科 | E84: 河西 研一 | F84: 33254 | G84: 980-0021 | H84: 青葉区中央二丁目９－１ | I84: 022-222-4536 | J84: 0 | K84: 0 | L84: 0 | M84: 0 | N84: 0 | O84: 0 | P84: 0 | R84: 0 | S84: ○ | T84: 0 | U84: 0 | V84: 0 | W84: 0 | X84: 0 | Y84: 0 | Z84: 0 | AA84: 0 | AB84: 0 | AC84: 0 | AE84: 0 | AF84: 0 | AG84: 0 | AH84: 0 | AI84: 0 | AJ84: 0 | AK84: 0 | AL84: 0 | AM84: ○ | AN84: ○ | AO84: 0 | AP84: 0 | AQ84: 0 | AR84: 0 | AT84: 0 | AU84: 0 | AV84: 0 | AW84: 0
A85: 83 | B85: 青葉 | C85: 医療法人社団暁宏会 | D85: 大橋眼科医院 | E85: 山口 克宏 | F85: 39995 | G85: 980-0021 | H85: 青葉区中央二丁目９－３４ | I85: 022-223-3854 | J85: 0 | K85: 0 | L85: 0 | M85: 0 | N85: 0 | O85: 0 | P85: 0 | R85: 0 | S85: 0 | T85: 0 | U85: 0 | V85: 0 | W85: 0 | X85: 0 | Y85: 0 | Z85: 0 | AA85: 0 | AB85: 0 | AC85: 0 | AE85: 0 | AF85: 0 | AG85: 0 | AH85: 0 | AI85: 0 | AJ85: 0 | AK85: 0 | AL85: ○ | AM85: 0 | AN85: 0 | AO85: 0 | AP85: 0 | AQ85: 0 | AR85: 0 | AT85: 0 | AU85: 0 | AV85: 0 | AW85: 0
A86: 84 | B86: 青葉 | C86: 医療法人楽生会 | D86: 奥口内科クリニック | E86: 奥口 文宣 | F86: 39083 | G86: 980-0021 | H86: 青葉区中央二丁目１０－１２ 仙台ﾏﾙｾﾝﾋﾞﾙ 2階 | I86: 022-215-7171 | J86: ○ | K86: 0 | L86: 0 | M86: 0 | N86: 0 | O86: 0 | P86: 0 | R86: 0 | S86: 0 | T86: 0 | U86: 0 | V86: 0 | W86: 0 | X86: 0 | Y86: 0 | Z86: 0 | AA86: 0 | AB86: 0 | AC86: 0 | AE86: 0 | AF86: 0 | AG86: 0 | AH86: 0 | AI86: 0 | AJ86: 0 | AK86: 0 | AL86: 0 | AM86: 0 | AN86: 0 | AO86: 0 | AP86: 0 | AQ86: 0 | AR86: 0 | AT86: 0 | AU86: 0 | AV86: 0 | AW86: 0
A87: 85 | B87: 青葉 | C87: 医療法人社団青葉中央クリニック | D87: 師小児科医院 | E87: 師 保之 | F87: 35569 | G87: 980-0021 | H87: 青葉区中央二丁目１０－１７ ﾓﾛﾋﾞﾙﾃﾞｨﾝｸﾞ 2階 | I87: 022-222-6247 | J87: 0 | K87: 0 | L87: 0 | M87: 0 | N87: 0 | O87: 0 | P87: 0 | R87: 0 | S87: 0 | T87: 0 | U87: ○ | V87: 0 | W87: 0 | X87: 0 | Y87: 0 | Z87: 0 | AA87: 0 | AB87: 0 | AC87: 0 | AE87: 0 | AF87: 0 | AG87: 0 | AH87: 0 | AI87: 0 | AJ87: 0 | AK87: 0 | AL87: 0 | AM87: 0 | AN87: 0 | AO87: 0 | AP87: 0 | AQ87: 0 | AR87: 0 | AT87: 0 | AU87: 0 | AV87: 0 | AW87: 0
A88: 86 | B88: 青葉 | C88: 医療法人社団今井眼科医院 | D88: 今井眼科医院 | E88: 橋本 詠子 | F88: 33067 | G88: 980-0021 | H88: 青葉区中央二丁目１１－１ | I88: 022-222-7350 | J88: 0 | K88: 0 | L88: 0 | M88: 0 | N88: 0 | O88: 0 | P88: 0 | R88: 0 | S88: 0 | T88: 0 | U88: 0 | V88: 0 | W88: 0 | X88: 0 | Y88: 0 | Z88: 0 | AA88: 0 | AB88: 0 | AC88: 0 | AE88: 0 | AF88: 0 | AG88: 0 | AH88: 0 | AI88: 0 | AJ88: 0 | AK88: 0 | AL88: ○ | AM88: 0 | AN88: 0 | AO88: 0 | AP88: 0 | AQ88: 0 | AR88: 0 | AT88: 0 | AU88: 0 | AV88: 0 | AW88: 0
A89: 87 | B89: 青葉 | C89: 島守 寿樹 | D89: 島守クリニック | E89: 島守 寿樹 | F89: 42009 | G89: 980-0021 | H89: 青葉区中央二丁目１１－１ ｵﾙﾀｽ仙台ﾋﾞﾙ 8階 | I89: 022‐797-7518 | J89: ○ | K89: ○ | L89: ○ | S89: ○
A90: 88 | B90: 青葉 | C90: 医療法人青楓会 | D90: あおば脳神経内科 | E90: 小川 達次 | F90: 40156 | G90: 980-0021 | H90: 青葉区中央二丁目１１－１９ 仙南ﾋﾞﾙ | I90: 022-215-8818 | J90: ○ | K90: 0 | L90: 0 | M90: 0 | O90: 0 | P90: 0 | R90: 0 | S90: 0 | T90: 0 | U90: 0 | V90: 0 | W90: 0 | X90: 0 | Y90: 0 | AA90: 0 | AB90: 0 | AC90: 0 | AE90: 0 | AF90: 0 | AG90: 0 | AH90: 0 | AI90: 0 | AJ90: 0 | AK90: 0 | AL90: 0 | AM90: 0 | AN90: 0 | AP90: 0 | AQ90: 0 | AR90: 0 | AS90: 脳神経内科 | AT90: 0 | AU90: 0 | AV90: 0 | AW90: 0
A91: 89 | B91: 青葉 | C91: 医療法人プラスティ | D91: フェイス美容外科 | E91: 土屋 裕人 | F91: 45839 | G91: 980-0021 | H91: 青葉区中央三丁目１－３ ａｕｎｅ仙台2F | I91: 022-796-5062 | Y91: ○ | AS91: 美容皮膚科
A92: 90 | B92: 青葉 | C92: 一般社団法人翔慶会 | D92: ディオクリニック仙台院 | E92: 鎌田 幹久 | F92: 45000 | G92: 980-0021 | H92: 青葉区中央三丁目1-3 aune仙台4階 | I92: 022-226-7451 | AS92: 美容皮膚科、美容内科
A93: 91 | B93: 青葉 | C93: 医療法人社団上伸会 | D93: 医療法人社団上伸会 東京上野クリニック仙台医院 | E93: 柳田 邦昭 | F93: 43787 | G93: 980-0021 | H93: 青葉区中央三丁目１－１４ 中央古久根ﾋﾞﾙ 6階 | I93: 022-723-3785 | X93: ○ | AE93: ○ | AF93: ○ | AS93: 性感染症内科
A94: 92 | B94: 青葉 | C94: 医療法人松の葉 | D94: かねとう腎泌尿器クリニック | E94: 伊藤 淳 | F94: 45566 | G94: 980-0021 | H94: 青葉区中央三丁目1-21 ＵＳビル・ナインティーン2-A | I94: 022-216-7111 | J94: ○ | AF94: ○
A95: 93 | B95: 青葉 | C95: 一般社団法人あかざ | D95: 仙台中央すみれ皮ふ科 | E95: 太田 英理菜 | F95: 45447 | G95: 980-0021 | H95: 青葉区中央3丁目1-21 ＵＳビル・ナインティーン3-A | I95: 022-797-7630 | X95: ○ | AE95: ○
A96: 94 | B96: 青葉 | C96: 医療法人社団善美会 | D96: ＡＧＡスキンクリニック仙台院 | E96: 橋本 朋幸 | F96: 43771 | G96: 980-0021 | H96: 青葉区中央三丁目１－２１ USﾋﾞﾙ19 5階 | I96: 022-796-0168 | AE96: ○ | AS96: 頭部皮膚科、美容皮膚科
A97: 95 | B97: 青葉 | C97: 一般社団法人仙台Ｎ美容クリニック | D97: 一般社団法人仙台Ｎ美容クリニック | E97: 小阪 捺稀 | F97: 46174 | G97: 980-0021 | H97: 青葉区中央三丁目1番21号 ＵＳビル19 6階 | I97: 022-398-8132 | Y97: ○ | AS97: 美容皮膚科
A98: 96 | B98: 青葉 | C98: 医療法人社団白凛会 | D98: ブランクリニック仙台院 | E98: 加藤 直樹 | F98: 43750 | G98: 980-0021 | H98: 青葉区中央三丁目１－２１ USﾋﾞﾙ19 7階 | I98: 03-3538-3309 | AE98: ○ | AS98: 美容皮膚科
A99: 97 | B99: 青葉 | C99: 医療法人聖心会 | D99: マドレクリニック | E99: 千葉 正之 | F99: 42917 | G99: 980-0021 | H99: 青葉区中央三丁目１－２２ EQUINIA青葉通り 2階 | I99: 022-738-9067 | K99: ○ | L99: ○ | AS99: 美容内科 | AT99: 0 | AU99: 0 | AV99: 0
A100: 98 | B100: 青葉 | C100: 医療法人仙台甲状腺クリニック | D100: 仙台甲状腺クリニック | E100: 中川 吉則 | F100: 42373 | G100: 980-0021 | H100: 青葉区中央三丁目１－２２ EQUINIA青葉通り 3階 | I100: 022-722-0321 | J100: ○ | AS100: 内分泌内科 | AT100: 0 | AU100: 0 | AV100: 0
...

Sheet 宮城野区
A1: № | B1: 区 | C1: 開設者名 | D1: 診療所名 | E1: 管理者名 | F1: 開設年月日 | G1: 郵便番号 | H1: 所在地 | I1: 電話番号 | J1: 診 療 科 目 | AT1: 病床数 | AW1: 摘要
J2: 内科 | K2: 心療内科 | L2: 精神科 | M2: 神経科 | N2: 神経内科 | O2: 呼吸器科 | P2: 消化器科 | Q2: 胃腸科 | R2: 循環器科 | S2: アレルギー科 | T2: リウマチ科 | U2: 小児科 | V2: 外科 | W2: 整形外科 | X2: 形成外科 | Y2: 美容外科 | Z2: 脳神経外科 | AA2: 呼吸器外科 | AB2: 心臓血管外科 | AC2: 小児外科 | AD2: 皮膚泌尿器科 | AE2: 皮膚科 | AF2: 泌尿器科 | AG2: 性病科 | AH2: こう門科 | AI2: 産婦人科 | AJ2: 産科 | AK2: 婦人科 | AL2: 眼科 | AM2: 耳鼻咽喉科 | AN2: 気管食道科 | AO2: リハビリテーション科 | AP2: 放射線科 | AQ2: 麻酔科 | AR2: 歯科 | AS2: その他の科目 | AT2: 合 計 | AU2: 療養型 | AV2: その他
A3: 1 | B3: 宮城野 | C3: 医療法人社団清山会_x000D_ | D3: みはるの杜診療所 | E3: 三輪 真也 | F3: 39479 | G3: 983-0005 | H3: 宮城野区福室二丁目５－２７ | I3: 022-254-7201 | K3: ○ | L3: ○ | M3: ○ | AO3: ○
A4: 2 | B4: 宮城野 | C4: 池田 淳 | D4: いけだ循環器クリニック | E4: 池田 淳 | F4: 39209 | G4: 983-0005 | H4: 宮城野区福室二丁目６－２４ | I4: 022-786-1321 | R4: ○ | S4: ○
A5: 3 | B5: 宮城野 | C5: 医療法人社団 井上小児科クリニック_x000D_ | D5: いのうえ小児科アレルギー科 | E5: 井上 重夫 | F5: 35612 | G5: 983-0005 | H5: 宮城野区福室二丁目６－２４ | I5: 022-254-1101 | U5: ○
A6: 4 | B6: 宮城野 | C6: 五十嵐 孝之 | D6: 五十嵐内科 | E6: 五十嵐 孝之 | F6: 41978 | G6: 983-0005 | H6: 宮城野区福室三丁目３７－５ | I6: 022-355-9988 | J6: ○ | O6: ○ | R6: ○ | AS6: 呼吸器内科、循環器内科
A7: 5 | B7: 宮城野 | C7: 医療法人希倫会 | D7: 福室みみはなのどクリニック | E7: 郭 冠宏 | F7: 43282 | G7: 983-0005 | H7: 宮城野区福室四丁目１８－１８ | I7: 022-353-6544 | S7: ○ | AM7: ○
A8: 6 | B8: 宮城野 | C8: 医療法人磐清会 | D8: せきこどもクリニック | E8: 関 信夫 | F8: 39234 | G8: 983-0005 | H8: 宮城野区福室五丁目９－４０ | I8: 022-388-8864 | J8: ○ | S8: ○ | U8: ○ | AC8: ○
A9: 7 | B9: 宮城野 | C9: 医療法人社団福室クリニック _x000D_ | D9: 福室クリニック | E9: 津田 克二 | F9: 34891 | G9: 983-0005 | H9: 宮城野区福室五丁目１３－１５ | I9: 022-259-5856 | J9: ○ | P9: ○ | R9: ○ | U9: ○
A10: 8 | B10: 宮城野 | C10: 医療法人社団 千葉内科クリニック_x000D_ | D10: 千葉内科クリニック | E10: 千葉 隆胤 | F10: 35597 | G10: 983-0011 | H10: 宮城野区栄二丁目２５－７ | I10: 022-258-8776 | J10: ○ | N10: ○ | P10: ○ | U10: ○ | AE10: ○
A11: 9 | B11: 宮城野 | C11: 千釜 理佳 | D11: ちかまりか皮ふ科クリニック | E11: 千釜 理佳 | F11: 42436 | G11: 983-0012 | H11: 宮城野区出花一丁目２４８－１ | I11: 022-794-8861 | AE11: ○
A12: 10 | B12: 宮城野 | C12: 高橋 彰 | D12: みなとクリニック | E12: 高橋 彰 | F12: 39037 | G12: 983-0013 | H12: 宮城野区中野五丁目１番地の１ | I12: 022-388-7617 | J12: ○ | R12: ○ | AS12: 循環器内科、糖尿病内科
A13: 11 | B13: 宮城野 | C13: 社会福祉法人あおば厚生福祉会 | D13: 特別養護老人ホーム中野あおばの杜医務室 | E13: 李 宇鐘 | F13: 45017 | G13: 983-0013 | H13: 宮城野区中野五丁目７－８ | I13: 022-290-9310 | J13: ○
A14: 12 | B14: 宮城野 | C14: 医療法人社団一州会 | D14: はまざきウィメンズクリニック | E14: 濱崎 洋一 | F14: 39083 | G14: 983-0014 | H14: 宮城野区高砂一丁目１-１５ 高砂関弐番館３階 | I14: 022-388-8321 | AJ14: ○ | AK14: ○
A15: 13 | B15: 宮城野 | C15: 医療法人中真会木村貞之進記念まひと内科クリニック | D15: 木村貞之進記念 まひと内科クリニック | E15: 木村 真人 | F15: 38718 | G15: 983-0014 | H15: 宮城野区高砂一丁目２４-３９ | I15: 022-388-8228 | J15: ○ | AQ15: ○
A16: 14 | B16: 宮城野 | C16: 医療法人松の葉 | D16: 高砂内科・消化器内科クリニック | E16: 松下 勝則 | F16: 40634 | G16: 983-0014 | H16: 宮城野区高砂一丁目２９－４ | I16: 022-388-6338 | J16: ○ | O16: ○ | P16: ○ | R16: ○ | S16: ○ | AS16: 消化器内科、老年内科、糖尿病内科、循環器内科、呼吸器内科、内視鏡内科
A17: 15 | B17: 宮城野 | C17: 医療法人岬会 | D17: 仙台高砂駅前メンタルクリニック | E17: 荒川 英輔 | F17: 45292 | G17: 983-0014 | H17: 宮城野区高砂一丁目１５４－１１ | I17: 022-290-5270 | J17: ○ | K17: ○ | L17: ○
A18: 16 | B18: 宮城野 | C18: 医療法人三六会 | D18: たかさご整形外科 | E18: 髙橋 新 | F18: 35235 | G18: 983-0014 | H18: 宮城野区高砂二丁目１－８ | I18: 022-254-8383 | W18: ○ | AO18: ○
A19: 17 | B19: 宮城野 | C19: 医療法人社団桜蘭会 | D19: Ｍ＆Ｔ総合クリニック福室 | E19: 太田 章三 | F19: 44501 | G19: 983-0014 | H19: 宮城野区高砂２丁目７－７ | I19: 022-762-7837 | J19: ○ | AF19: ○
A20: 18 | B20: 宮城野 | C20: 山崎 伸 | D20: みやぎの整形外科 | E20: 山崎 伸 | F20: 37690 | G20: 983-0021 | H20: 宮城野区田子二丁目１３－２８ | I20: 022-387-5060 | T20: ○ | W20: ○ | AO20: ○
A21: 19 | B21: 宮城野 | C21: 社会福祉法人宮城厚生福祉会 | D21: 介護老人福祉施設田子のまち医務室 | E21: 本郷 舞衣 | F21: 41518 | G21: 983-0021 | H21: 宮城野区田子字冨里１５３ | I21: 022-388-9970 | J21: ○
A22: 20 | B22: 宮城野 | C22: 遠藤 昭彦 | D22: 遠藤クリニック | E22: 遠藤 昭彦 | F22: 37755 | G22: 983-0023 | H22: 宮城野区福田町一丁目１－１８ | I22: 022-258-3600 | J22: ○ | Q22: ○ | V22: ○ | W22: ○ | AS22: 胃腸内科
A23: 21 | B23: 宮城野 | C23: 色川 伸夫 | D23: 色川内科小児科医院 | E23: 色川 伸夫 | F23: 33879 | G23: 983-0023 | H23: 宮城野区福田町二丁目５－１３ | I23: 022-258-1051 | J23: ○ | U23: ○
A24: 22 | B24: 宮城野 | C24: 佐藤 恭雄 | D24: みやぎの眼科 | E24: 佐藤 恭雄 | F24: 35712 | G24: 983-0023 | H24: 宮城野区福田町一丁目１０－４３ | I24: 022-259-5577 | AL24: ○
A25: 23 | B25: 宮城野 | C25: 山田 元 | D25: ふくだまち内科クリニック | E25: 山田 元 | F25: 45385 | G25: 983-0023 | H25: 宮城野区福田町四丁目14-13 | I25: 022-352-3795 | J25: ○ | AS25: 腎臓内科、人工透析内科
A26: 24 | B26: 宮城野 | C26: 医療法人清舞会 | D26: キッズクリニック田子 | E26: 箕浦 貴則 | F26: 43101 | G26: 983-0026 | H26: 宮城野区田子西一丁目１０－９ | I26: 022-290-9377 | S26: ○ | U26: ○ | AK26: ○
A27: 25 | B27: 宮城野 | C27: 医療法人美之会 | D27: 青空クリニック | E27: 大内 雄太 | F27: 44501 | G27: 983-0026 | H27: 宮城野区田子西二丁目８－３ | I27: 022-387-2666 | K27: ○ | L27: ○ | AS27: 人工透析内科、腎臓内科
A28: 26 | B28: 宮城野 | C28: 阿部 篤朗 | D28: 阿部内科医院 | E28: 阿部 篤朗 | F28: 45261 | G28: 983-0031 | H28: 宮城野区小鶴一丁目１－１１ | I28: 022-251-1804 | J28: ○ | L28: ○ | N28: ○
A29: 27 | B29: 宮城野 | C29: 一般財団法人杜の都産業保健会 | D29: 一般財団法人杜の都産業保健会附属仙台健診センター | E29: 山田 章吾 | F29: 30340 | G29: 983-0031 | H29: 宮城野区小鶴一丁目２１－８ | I29: 022-251-8211 | J29: ○ | O29: ○ | P29: ○ | R29: ○ | V29: ○ | AK29: ○
A30: 28 | B30: 宮城野 | C30: 鈴木寿彦 | D30: 福住クリニック | E30: 鈴木 寿彦 | F30: 37476 | G30: 983-0033 | H30: 宮城野区福住町４－１６ | I30: 022-387-2322 | J30: ○ | Q30: ○ | U30: ○ | V30: ○ | AE30: ○ | AS30: 胃腸内科
A31: 29 | B31: 宮城野 | C31: 医療法人社団交鐘会 | D31: 医療法人社団交鐘会あおぞら在宅診療所仙台東 | E31: 菊池 祐 | F31: 42930 | G31: 983-0036 | H31: 宮城野区苦竹一丁目９－１ エルヴィータ１階 | I31: 022-794-8910 | J31: ○
A32: 30 | B32: 宮城野 | C32: 経済産業省共済組合産業技術総合研究所 | D32: 経済産業省共済組合産業技術総合研究所支部診療所東北分室 | E32: 矢島 健也 | F32: 26155 | G32: 983-0036 | H32: 宮城野区苦竹四丁目２－１ | I32: 022-237-5211 | J32: ○
A33: 31 | B33: 宮城野 | C33: 清水 文人 | D33: 清水外科医院 | E33: 清水 文人 | F33: 34711 | G33: 983-0038 | H33: 宮城野区新田一丁目２０－１０ | I33: 022-284-4648 | Q33: ○ | V33: ○ | W33: ○ | AE33: ○ | AF33: ○ | AH33: ○ | AS33: 胃腸内科、肛門外科
A34: 32 | B34: 宮城野 | C34: 医療法人相友会 | D34: 新田さいとうクリニック | E34: 齋藤 一也 | F34: 41366 | G34: 983-0038 | H34: 宮城野区新田四丁目３３－１８ | I34: 022-353-5780 | J34: ○ | Q34: ○ | V34: ○ | AS34: 胃腸内科、肛門外科、乳腺外科
A35: 33 | B35: 宮城野 | C35: 社会福祉法人ライフの学校 | D35: 社会福祉法人ライフの学校 ゆとりの医科歯科クリニック | E35: 町田 幸雄 | F35: 45200 | G35: 983-0038 | H35: 宮城野区新田五丁目１－２０ | I35: 022-253-6580 | J35: ○ | AK35: ○ | AR35: ○
A36: 34 | B36: 宮城野 | C36: 医療法人社団三七三会 | D36: なかむら脳神経外科 | E36: 中邨 裕之 | F36: 42736 | G36: 983-0039 | H36: 宮城野区新田東一丁目８－１新田東メディカルビル １階 | I36: 022-232-0770 | J36: ○ | Z36: ○ | AS36: 脳神経内科
A37: 35 | B37: 宮城野 | C37: 医療法人社団のろこどもクリニック | D37: のろこどもクリニック | E37: 野呂 知世 | F37: 39083 | G37: 983-0039 | H37: 宮城野区新田東一丁目８－１新田東メディカルビル ２階 | I37: 022-788-3830 | S37: ○ | U37: ○
A38: 36 | B38: 宮城野 | C38: 山田 真司 | D38: やまだ内科・胃腸科クリニック | E38: 山田 真司 | F38: 38638 | G38: 983-0039 | H38: 宮城野区新田東一丁目８－１新田東メディカルビル ２階 | I38: 022-237-8221 | J38: ○ | P38: ○ | Q38: ○
A39: 37 | B39: 宮城野 | C39: 医療法人東あおば整形外科 | D39: 東あおば整形外科スポーツ・リハビリクリニック | E39: 髙橋 周 | F39: 44743 | G39: 983-0039 | H39: 宮城野区新田東一丁目９－１ | I39: 022-783-1505 | W39: ○ | AO39: ○
A40: 38 | B40: 宮城野 | C40: 泉山 泰宏 | D40: 小鶴新田内科・内視鏡クリニック | E40: 泉山 泰宏 | F40: 45992 | G40: 983-0039 | H40: 宮城野区新田東一丁目１７－５ | I40: 022-762-6081 | J40: ○ | P40: ○ | AS40: 消化器内科、内視鏡内科
A41: 39 | B41: 宮城野 | C41: 医療法人泉山会 | D41: いずみやまリウマチ整形外科クリニック | E41: 泉山 拓也 | F41: 45798 | G41: 983-0039 | H41: 宮城野区新田東五丁目１３番１９ | I41: 022-352-8332 | T41: ○ | W41: ○ | AO41: ○
A42: 40 | B42: 宮城野 | C42: 医療法人王心会 | D42: 新田東クリニック | E42: 王 文輝 | F42: 40179 | G42: 983-0039 | H42: 宮城野区新田東二丁目１０－４ | I42: 022-797-6700 | J42: ○ | O42: ○ | P42: ○ | R42: ○ | AS42: 心臓・循環器内科、糖尿病内科、呼吸器内科、消化器内科
A43: 41 | B43: 宮城野 | C43: 菊地俊彦 | D43: しんでん東耳鼻咽喉科 | E43: 菊地 俊彦 | F43: 39066 | G43: 983-0039 | H43: 宮城野区新田東二丁目１０－５ | I43: 022-782-3387 | S43: ○ | AM43: ○
A44: 42 | B44: 宮城野 | C44: 医療法人千徳会 | D44: 徳永クリニック | E44: 徳永 英夫 | F44: 43647 | G44: 983-0039 | H44: 宮城野区新田東二丁目１４－３ | I44: 022-343-8353 | AE44: ○ | AF44: ○
A45: 43 | B45: 宮城野 | C45: 医療法人推高会 | D45: まんてん堂こどもクリニック | E45: 佐藤 宣貴 | F45: 44197 | G45: 983-0039 | H45: 宮城野区新田東三丁目２－７ | I45: 022-782-6260 | S45: ○ | U45: ○
A46: 44 | B46: 宮城野 | C46: 医療法人社団関逓会 | D46: 仙台ペインクリニック | E46: 伊達 久 | F46: 39295 | G46: 983-0039 | H46: 宮城野区新田東三丁目１４－１ | I46: 022-236-1310 | J46: ○ | W46: ○ | AQ46: ○ | AT46: 11 | AV46: 11
A47: 45 | B47: 宮城野 | C47: 福井 俊彦 | D47: 福井医院 | E47: 福井 俊彦 | F47: 28906 | G47: 983-0042 | H47: 宮城野区東宮城野４－２ | I47: 022-236-8831 | J47: ○ | N47: ○ | R47: ○ | U47: ○
A48: 46 | B48: 宮城野 | C48: 田島 治郎 | D48: 田島内科医院 | E48: 田島 治郎 | F48: 38336 | G48: 983-0043 | H48: 宮城野区萩野町一丁目１１－１ | I48: 022-231-7222 | J48: ○ | O48: ○ | R48: ○
A49: 47 | B49: 宮城野 | C49: 清水 泰行 | D49: 清水内科小児科医院 | E49: 清水 泰行 | F49: 40269 | G49: 983-0043 | H49: 宮城野区萩野町二丁目１７－６ | I49: 022-231-0280 | J49: ○ | U49: ○
A50: 48 | B50: 宮城野 | C50: 加藤 純二 | D50: 宮千代 加藤内科医院 | E50: 加藤 純二 | F50: 31762 | G50: 983-0044 | H50: 宮城野区宮千代一丁目２－９ | I50: 022-235-8876 | J50: ○ | AO50: ○
A51: 49 | B51: 宮城野 | C51: 大谷 朋之 | D51: 宮千代皮フ科クリニック | E51: 大谷 朋之 | F51: 42944 | G51: 983-0044 | H51: 宮城野区宮千代二丁目１７－９ | I51: 022-385-6260 | S51: ○ | AE51: ○
A52: 50 | B52: 宮城野 | C52: 医療法人しるべ | D52: 宮千代内科クリニック | E52: 渡邉 力 | F52: 41456 | G52: 983-0044 | H52: 宮城野区宮千代二丁目１９－７ | I52: 022-797-3777 | J52: ○ | O52: ○ | R52: ○ | S52: ○ | AS52: 循環器内科、呼吸器内科
A53: 51 | B53: 宮城野 | C53: 医療法人氷室医院 | D53: ひむろ内科・血液内科 | E53: 氷室 真仁 | F53: 45292 | G53: 983-0045 | H53: 宮城野区宮城野一丁目２－４５ | I53: 022-352-0325 | J53: ○ | AS53: 血液内科
A54: 52 | B54: 宮城野 | C54: 菱沼 民生 | D54: みやぎの内科クリニック | E54: 菱沼 民生 | F54: 36774 | G54: 983-0045 | H54: 宮城野区宮城野一丁目２１－７ | I54: 022-292-7801 | J54: ○ | N54: ○
A55: 53 | B55: 宮城野 | C55: 医療法人社団永井小児科医院 _x000D_ | D55: 永井小児科医院 | E55: 永井 幸夫 | F55: 32874 | G55: 983-0045 | H55: 宮城野区宮城野一丁目２５－１０ | I55: 022-256-3466 | U55: ○
A56: 54 | B56: 宮城野 | C56: 玉渕 智昭 | D56: Ｔ’ｓハートクリニック | E56: 玉渕 智昭 | F56: 45818 | G56: 983-0045 | H56: 宮城野区宮城野二丁目１－２ | I56: 022-290-7605 | R56: ○ | AS56: 循環器内科、心臓リハビリテーション科
A57: 55 | B57: 宮城野 | C57: 株式会社楽天野球団 | D57: 楽天野球団 トレーナー室 | E57: 黒川 大介 | F57: 42053 | G57: 983-0045 | H57: 宮城野区宮城野二丁目１１－６ | I57: 022-298-5300 | J57: ○ | W57: ○
A58: 56 | B58: 宮城野 | C58: 厚生労働省第二共済組合仙台医療センター所属所診療部 | D58: 厚生労働省第二共済組合仙台医療センター所属所診療部 | E58: 篠崎 毅 | F58: 43586 | G58: 983-0045 | H58: 宮城野区宮城野二丁目１１－１２ | I58: 022-293-1111 | J58: ○ | L58: ○ | O58: ○ | P58: ○ | R58: ○ | U58: ○ | V58: ○ | W58: ○ | Z58: ○ | AE58: ○ | AF58: ○ | AI58: ○ | AL58: ○ | AM58: ○ | AP58: ○ | AR58: ○
A59: 57 | B59: 宮城野 | C59: 相澤 敏也 | D59: あいざわクリニック | E59: 相澤 敏也 | F59: 38875 | G59: 983-0047 | H59: 宮城野区銀杏町２６－７ | I59: 022-296-0520 | J59: ○ | O59: ○ | R59: ○ | S59: ○ | AS59: 呼吸器内科、循環器内科
A60: 58 | B60: 宮城野 | C60: 小野寺 真一 | D60: おのでらクリニック | E60: 小野寺 真一 | F60: 42826 | G60: 983-0047 | H60: 宮城野区銀杏町３５－１ | I60: 022-236-7522 | J60: ○ | P60: ○ | V60: ○ | W60: ○ | AE60: ○ | AH60: ○ | AS60: 消化器内科、肛門内科
A61: 59 | B61: 宮城野 | C61: 菅野 重人 | D61: 菅野医院 | E61: 菅野 重人 | F61: 39050 | G61: 983-0803 | H61: 宮城野区小田原一丁目３－２７ | I61: 022-256-4261 | J61: ○ | R61: ○ | V61: ○ | AB61: ○ | AS61: 循環器内科
A62: 60 | B62: 宮城野 | C62: 萱場 佳郎 | D62: 内科萱場クリニック | E62: 萱場 佳郎 | F62: 39667 | G62: 983-0803 | H62: 宮城野区小田原一丁目５－３２ | I62: 022-256-5101 | J62: ○ | P62: ○ | AS62: 消化器内科
A63: 61 | B63: 宮城野 | C63: 医療法人俊英智会 | D63: 内科・胃腸科 小田原クリニック | E63: 大方 俊樹 | F63: 44927 | G63: 983-0803 | H63: 宮城野区小田原一丁目６－４０ | I63: 022-792-8080 | J63: ○ | P63: ○ | Q63: ○ | AS63: 胃腸内科、消化器内科
A64: 62 | B64: 宮城野 | C64: 医療法人社団兼愛会 _x000D_ | D64: 森川小児科アレルギー科クリニック | E64: 森川 みき | F64: 38322 | G64: 983-0812 | H64: 宮城野区小田原弓ノ町１００番地の１ ２階 | I64: 022-256-6211 | S64: ○ | U64: ○
A65: 63 | B65: 宮城野 | C65: 落合由理子 | D65: 落合ゆり子皮ふ科クリニック | E65: 落合 由理子 | F65: 38306 | G65: 983-0812 | H65: 宮城野区小田原弓ノ町１００番地の1 ３階 | I65: 022-292-6171 | AE65: ○
A66: 64 | B66: 宮城野 | C66: 佐野公仁夫 | D66: さのクリニック アレルギー科・呼吸器科・内科 | E66: 佐野 公仁夫 | F66: 38819 | G66: 983-0812 | H66: 宮城野区小田原弓ノ町１００番地の１ ４階 | I66: 022-291-2680 | J66: ○ | O66: ○ | S66: ○ | AS66: 感染症内科
A67: 65 | B67: 宮城野 | C67: 医療法人社団小山皮フ科クリニック _x000D_ | D67: 小山皮フ科クリニック | E67: 小山 純 | F67: 34927 | G67: 983-0821 | H67: 宮城野区岩切一丁目２６－２０ | I67: 022-255-5968 | AE67: ○
A68: 66 | B68: 宮城野 | C68: 医療法人社団大平会 | D68: のむら内科心療内科クリニック | E68: 野村 泰輔 | F68: 39083 | G68: 983-0821 | H68: 宮城野区岩切一丁目２６－２７ | I68: 022-396-8755 | J68: ○ | K68: ○ | L68: ○ | M68: ○ | P68: ○
A69: 67 | B69: 宮城野 | C69: 医療法人拓明会 | D69: 宮林こどもクリニック | E69: 宮林 重明 | F69: 44197 | G69: 983-0821 | H69: 宮城野区岩切字今市東１８－２ | I69: 022-255-2555 | S69: ○ | U69: ○
A70: 68 | B70: 宮城野 | C70: 倉田 良孝 | D70: くらた整形外科クリニック | E70: 倉田 良孝 | F70: 37817 | G70: 983-0821 | H70: 宮城野区岩切字今市東２４－２ | I70: 022-255-8282 | W70: ○ | AO70: ○ | AQ70: ○
A71: 69 | B71: 宮城野 | C71: 湯村 和博 | D71: 湯村医院 | E71: 湯村 和博 | F71: 38322 | G71: 983-0821 | H71: 宮城野区岩切字若宮前８２－１ | I71: 022-255-8011 | J71: ○ | P71: ○ | AS71: 消化器内科
A72: 70 | B72: 宮城野 | C72: 社会福祉法人杜の村 | D72: 特別養護老人ホームかむりの里翔裕園 診療所 | E72: 高澤 欣煕 | F72: 36617 | G72: 983-0821 | H72: 宮城野区岩切字東河原３５２－３ | I72: 022-396-7522 | J72: ○
A73: 71 | B73: 宮城野 | C73: 医療法人 岩切阿部医院 | D73: 阿部医院 | E73: 阿部 基 | F73: 35431 | G73: 983-0821 | H73: 宮城野区岩切字洞ノ口１９０－４ | I73: 022-255-8218 | J73: ○ | P73: ○ | AS73: 消化器内科
A74: 72 | B74: 宮城野 | C74: 医療法人田所ハートクリニック_x000D_ | D74: 田所ハートクリニック | E74: 関野 美仁 | F74: 37608 | G74: 983-0821 | H74: 宮城野区岩切字洞ノ口２２９－５ | I74: 022-396-0810 | J74: ○ | R74: ○ | V74: ○ | AB74: ○ | AS74: 循環器内科
A75: 73 | B75: 宮城野 | C75: 社会福祉法人美楽会 | D75: 特別養護老人ホームいこいの郷・燕沢 医務室 | E75: 山野上 昭光 | F75: 43405 | G75: 983-0822 | H75: 宮城野区燕沢東二丁目１－３５ | I75: 022-794-7740 | J75: ○ | N75: ○ | AO75: ○
A76: 74 | B76: 宮城野 | C76: 社会福祉法人カトリック児童福祉会 | D76: 特別養護老人ホームパルシア 医務室 | E76: 我妻 惠 | F76: 36069 | G76: 983-0822 | H76: 宮城野区燕沢東三丁目８－１０ | I76: 022-253-3301 | J76: ○
A77: 75 | B77: 宮城野 | C77: 医療法人社団尚潤会_x000D_塩沢消化器内科 _x000D_ | D77: 塩沢消化器内科 | E77: 山田 尚子 | F77: 36151 | G77: 983-0823 | H77: 宮城野区燕沢二丁目１５－３０ | I77: 022-251-2233 | J77: ○ | P77: ○
A78: 76 | B78: 宮城野 | C78: 医療法人 大山内科胃腸科_x000D_ | D78: 大山内科胃腸科 | E78: 大山 武 | F78: 36511 | G78: 983-0823 | H78: 宮城野区燕沢三丁目１９－１ | I78: 022-253-1733 | J78: ○ | P78: ○ | AS78: 消化器内科
A79: 77 | B79: 宮城野 | C79: 医療法人東仙台さとう整形外科 | D79: 東仙台さとう整形外科 | E79: 佐藤 明弘 | F79: 42186 | G79: 983‐0823 | H79: 宮城野区燕沢二丁目１１－１ | I79: 022-781-7022 | T79: ○ | W79: ○ | AO79: ○
A80: 78 | B80: 宮城野 | C80: 社会福祉法人カトリック児童福祉会 | D80: 特別養護老人ホームハートケア鶴ケ谷 医務室 | E80: 我妻 惠 | F80: 43191 | G80: 983-0824 | H80: 宮城野区鶴ケ谷二丁目１－１３ | I80: 022-357-0960 | J80: ○ | AR80: ○
A81: 79 | C81: 秋山 健一 | D81: つるがや１０００年クリニック | E81: 秋山 健一 | F81: 46121 | G81: 983-0824 | H81: 宮城野区鶴ケ谷二丁目２－２ | I81: 022-354-0971 | J81: ○ | AE81: ○ | AS81: 腎臓内科 人工透析内科
A82: 80 | B82: 宮城野 | C82: 佐伯 敏亮 | D82: さえきこどもクリニック | E82: 佐伯 敏亮 | F82: 45597 | G82: 983-0824 | H82: 宮城野区鶴ケ谷五丁目１５－１ | I82: 022-353-5535 | S82: ○ | U82: ○
A83: 81 | B83: 宮城野 | C83: 熊坂 中 | D83: 熊坂皮フ科クリニック | E83: 熊坂 中 | F83: 37788 | G83: 983-0824 | H83: 宮城野区鶴ケ谷五丁目１５－２ | I83: 022-252-6211 | AE83: ○
A84: 82 | B84: 宮城野 | C84: 医療法人社団クリニック斎藤泌尿器科 | D84: クリニック斎藤泌尿器科 | E84: 齋藤 敏典 | F84: 40940 | G84: 983-0824 | H84: 宮城野区鶴ケ谷五丁目２０－１７ | I84: 022-251-0170 | AE84: ○ | AF84: ○
A85: 83 | B85: 宮城野 | C85: 小松 郁夫 | D85: 鶴ヶ谷七丁目眼科 | E85: 小松 郁夫 | F85: 39307 | G85: 983-0824 | H85: 宮城野区鶴ケ谷七丁目３１－３ | I85: 022-251-6666 | AL85: ○
A86: 84 | B86: 宮城野 | C86: 医療法人社団仲鈴会_x000D_ | D86: 中林耳鼻咽喉科医院 | E86: 中林 成一郎 | F86: 33086 | G86: 983-0824 | H86: 宮城野区鶴ケ谷七丁目３１－６ | I86: 022-251-1761 | S86: ○ | AM86: ○
A87: 85 | B87: 宮城野 | C87: 神崎 了 | D87: 整形外科･外科 神崎クリニック | E87: 神崎 了 | F87: 34561 | G87: 983-0824 | H87: 宮城野区鶴ケ谷七丁目３１－７ | I87: 022-251-7711 | V87: ○ | W87: ○
A88: 86 | B88: 宮城野 | C88: 永谷 正一 | D88: つるがや診療所 | E88: 永谷 正一 | F88: 46082 | G88: 983-0824 | H88: 宮城野区鶴ケ谷八丁目１６－１４ | I88: 090-5827-9408 | W88: ○
A89: 87 | B89: 宮城野 | C89: 医療法人松田会 | D89: 医療法人松田会鶴ケ谷クリニック | E89: 小竹 英俊 | F89: 39786 | G89: 983-0824 | H89: 宮城野区鶴ケ谷字舘下３５番地１ | I89: 022-355-6121 | J89: ○ | AS89: 糖尿病内科
A90: 88 | B90: 宮城野 | C90: 清治 邦章 | D90: ひかりクリニック | E90: 清治 邦章 | F90: 40513 | G90: 983-0824 | H90: 宮城野区鶴ケ谷字京原７ | I90: 022-781-9948 | J90: ○
A91: 89 | B91: 宮城野 | C91: 社会福祉法人宏恵会 | D91: 特別養護老人ホームリーフ鶴ｹ谷 医務室 | E91: 中谷 理恵子 | F91: 39578 | G91: 983-0824 | H91: 宮城野区鶴ケ谷字京原７９－１ | I91: 022-388-3303 | J91: ○ | AR91: ○
A92: 90 | B92: 宮城野 | C92: 大方 高志 | D92: おおかた内科胃腸科医院 | E92: 大方 高志 | F92: 35209 | G92: 983-0825 | H92: 宮城野区鶴ケ谷北一丁目１４－２１ | I92: 022-251-5515 | J92: ○ | Q92: ○ | R92: ○ | AS92: 胃腸内科、循環器内科
A93: 91 | B93: 宮城野 | C93: 根本 忠義 | D93: 岩切中央クリニック | E93: 根本 忠義 | F93: 40483 | G93: 983-0828 | H93: 宮城野区岩切分台一丁目２－５ | I93: 022-255-2131 | J93: ○ | V93: ○ | W93: ○ | AO93: ○
A94: 92 | B94: 宮城野 | C94: 医療法人うりぼうキッズクリニック | D94: うりぼうキッズクリニック | E94: 佐藤 亮 | F94: 45658 | G94: 983-0828 | H94: 宮城野区岩切分台三丁目１－５ | I94: 022-355-4515 | U94: ○
A95: 93 | B95: 宮城野 | C95: 社会福祉法人カトリック児童福祉会 | D95: 軽費老人ホームあけの星荘医務室 | E95: 我妻 惠 | F95: 29707 | G95: 983-0832 | H95: 宮城野区安養寺二丁目２４－１ | I95: 022-297-1359 | J95: ○
A96: 94 | B96: 宮城野 | C96: 公益社団法人宮城県医師会 | D96: 宮城県医師会健康センター | E96: 大槻 昌夫 | F96: 33739 | G96: 983-0832 | H96: 宮城野区安養寺三丁目７－５ | I96: 022-256-8600 | J96: ○
A97: 95 | B97: 宮城野 | C97: 若生 純司 | D97: 東仙台クリニック | E97: 若生 純司 | F97: 38974 | G97: 983-0833 | H97: 宮城野区東仙台一丁目７－１ | I97: 022-792-8661 | J97: ○ | U97: ○
A98: 96 | B98: 宮城野 | C98: 医療法人社団髙橋内科小児科医院 _x000D_ | D98: たかはし内科 | E98: 髙橋 亮一 | F98: 32678 | G98: 983-0833 | H98: 宮城野区東仙台二丁目５－３ | I98: 022-257-3227 | J98: ○ | U98: ○ | AS98: 胃腸内科
A99: 97 | B99: 宮城野 | C99: 医療法人真雄会 | D99: シャントクリニック仙台東 | E99: 後藤 靖雄 | F99: 42629 | G99: 983-0833 | H99: 宮城野区東仙台二丁目１７－２５ | I99: 022-349-5330 | AP99: ○
A100: 98 | B100: 宮城野 | C100: 医療法人アクティブエイジング | D100: とざわクリニック | E100: 戸澤 雅彦 | F100: 42370 | G100: 983-0833 | H100: 宮城野区東仙台四丁目７－１ | I100: 022-298-6770 | J100: ○ | AE100: ○ | AS100: 美容皮膚科
...

Sheet 若林区
A1: № | B1: 区 | C1: 開設者名 | D1: 診療所名 | E1: 管理者名 | F1: 開設年月日 | G1: 郵便番号 | H1: 所在地 | I1: 電話番号 | J1: 診 療 科 目 | AT1: 病床数 | AW1: 摘要
J2: 内科 | K2: 心療内科 | L2: 精神科 | M2: 神経科 | N2: 神経内科 | O2: 呼吸器科 | P2: 消化器科 | Q2: 胃腸科 | R2: 循環器科 | S2: アレルギー科 | T2: リウマチ科 | U2: 小児科 | V2: 外科 | W2: 整形外科 | X2: 形成外科 | Y2: 美容外科 | Z2: 脳神経外科 | AA2: 呼吸器外科 | AB2: 心臓血管外科 | AC2: 小児外科 | AD2: 皮膚泌尿器科 | AE2: 皮膚科 | AF2: 泌尿器科 | AG2: 性病科 | AH2: こう門科 | AI2: 産婦人科 | AJ2: 産科 | AK2: 婦人科 | AL2: 眼科 | AM2: 耳鼻咽喉科 | AN2: 気管食道科 | AO2: リハビリテーション科 | AP2: 放射線科 | AQ2: 麻酔科 | AR2: 歯科 | AS2: その他の科目 | AT2: 合 計 | AU2: 療養 | AV2: 一般
A3: 1 | B3: 若林 | C3: 一般社団法人仙台産業医科診療所 | D3: 仙台産業医科診療所 | E3: 宮川 英喜 | F3: 45474 | G3: 984-0011 | H3: 若林区六丁の目西町1-43 | I3: 022-288-7701 | J3: ○
A4: 2 | B4: 若林 | C4: 医療法人社団千樹会 | D4: 角田記念 ちえこ・ゆきかレディースクリニック | E4: 松田 雪香 | F4: 43160 | G4: 984-0012 | H4: 若林区六丁の目中町1-16 | I4: 022-287-8612 | AI4: ○ | AK4: ○
A5: 3 | B5: 若林 | C5: 医療法人社団千樹会 | D5: 角田記念 まつだクリニック 内科・消化器内科 | E5: 松田 泰徳 | F5: 43160 | G5: 984-0012 | H5: 若林区六丁の目中町1-17 | I5: 022-287-8611 | J5: ○ | P5: ○ | Q5: ○ | AS5: 消化器内科，胃腸内科
A6: 4 | B6: 若林 | C6: 阿部 峰久 | D6: 東部内科医院 | E6: 阿部 峰久 | F6: 38018 | G6: 984-0012 | H6: 若林区六丁の目中町1-57 | I6: 022-287-6333 | J6: ○ | O6: ○ | R6: ○ | S6: ○
A7: 5 | B7: 若林 | C7: 医療法人モクシン | D7: 堀田修クリニック | E7: 堀田 修 | F7: 41821 | G7: 984-0013 | H7: 若林区六丁の目南町2-39 | I7: 022-390-6033 | J7: ○ | U7: ○ | AR7: ○ | AS7: 人工透析内科
A8: 6 | B8: 若林 | C8: 医療法人仁泉会 | D8: みやぎ健診プラザ | E8: 藤田 直孝 | F8: 41015 | G8: 984-0015 | H8: 若林区卸町一丁目6-9 | I8: 022-231-3655 | J8: ○ | AK8: ○
A9: 7 | B9: 若林 | C9: 医療法人ORS | D9: おろしまちクリニック 内科・内視鏡内科 | E9: 野口 謙治 | F9: 44743 | G9: 984-0015 | H9: 若林区卸町三丁目1-2 卸町ｺﾐｭﾆﾃｨﾌﾟﾗｻﾞ2階 | I9: 022-264-2282 | J9: ○ | P9: ○ | Q9: ○ | AS9: 消化器内科、胃腸内科、内視鏡内科
A10: 8 | B10: 若林 | C10: 一般社団法人喜清会 | D10: サンピア仙台健診クリニック | E10: 長嶺 義秀 | F10: 44718 | G10: 984-0016 | H10: 若林区蒲町東4番地の2 | I10: 022-781-6310 | J10: ○
A11: 9 | B11: 若林 | C11: 医療法人双桜会 | D11: やまと内科クリニック | E11: 大和 博 | F11: 43678 | G11: 984-0017 | H11: 若林区なないろの里一丁目15-11 | I11: 022-766-8521 | J11: ○ | N11: ○ | O11: ○ | AS11: 糖尿病内科，呼吸器内科
A12: 10 | B12: 若林 | C12: 医療法人あべこども・アレルギークリニック | D12: あべこども・アレルギークリニック | E12: 阿部 弘 | F12: 43831 | G12: 984-0017 | H12: 若林区なないろの里一丁目15-15 | I12: 022-349-5486 | S12: ○ | U12: ○
A13: 11 | B13: 若林 | C13: 医療法人佳美会 | D13: なないろの里クリニック | E13: 佐々木 剛 | F13: 44562 | G13: 984-0017 | H13: 若林区なないろの里一丁目19-4 メデルなないろの里1階 | I13: 022-352-7022 | J13: ○ | U13: ○ | V13: ○
A14: 12 | B14: 若林 | C14: 大内 謙太郎 | D14: なないろの里皮膚科 | E14: 大内 謙太郎 | F14: 46092 | G14: 984-0017 | H14: 若林区なないろの里1丁目19-4 メデルなないろの里2階 | I14: 022-766-8601 | AE14: ○ | AS14: 美容皮膚科
A15: 13 | B15: 若林 | C15: 小島 純一 | D15: 荒井西ゆずの木整形外科クリニック | E15: 小島 純一 | F15: 42979 | G15: 984-0017 | H15: 若林区なないろの里二丁目1-1 | I15: 022-354-1733 | W15: ○ | AO15: ○
A16: 14 | B16: 若林 | C16: 支倉 翔太郎 | D16: なないろ消化器・内視鏡クリニック | E16: 支倉 翔太郎 | F16: 44986 | G16: 984-0017 | H16: 若林区なないろの里三丁目4-12 | I16: 022-385-7763 | J16: ○ | P16: ○ | AS16: 消化器内科、内視鏡内科
A17: 15 | B17: 若林 | C17: 大友 孝昭 | D17: 荒井西おおとも眼科 | E17: 大友 孝昭 | F17: 43958 | G17: 984-0017 | H17: 若林区なないろの里一丁目13-1 | I17: 022-349-5655 | AL17: ○
A18: 16 | B18: 若林 | C18: 医療法人壮健会 | D18: 荒井駅前のぐち内科クリニック | E18: 野口 哲也 | F18: 44562 | G18: 984-0030 | H18: 若林区荒井東一丁目3-1 ＥａｓｔＦｏｒｔ2階 | I18: 022-762-7221 | J18: ○ | P18: ○ | AS18: 消化器内科
A19: 17 | B19: 若林 | C19: 滑川 明男 | D19: せんだいG&Aクリニック | E19: 滑川 明男 | F19: 44444 | G19: 984-0030 | H19: 若林区荒井東一丁目3-1 ＥａｓｔＦｏｒｔ2階 | I19: 022-781-7852 | L19: ○
A20: 18 | B20: 若林 | C20: 鈴木 弘実 | D20: 荒井駅前すずきクリニック | E20: 鈴木 弘実 | F20: 44621 | G20: 984-0030 | H20: 若林区荒井東一丁目3-1 イーストフォート2F-B | I20: 022-352-0708 | AE20: ○ | AH20: ○ | AS20: 肛門内科
A21: 19 | B21: 若林 | C21: 社会福祉法人杜の里福祉会 | D21: 杜の里福祉会医務室 | E21: 今野 喜郎 | F21: 42161 | G21: 984-0030 | H21: 若林区荒井東二丁目12-1 | I21: 022-289-7111 | J21: ○
A22: 20 | B22: 若林 | C22: 社会福祉法人杜の里福祉会 | D22: 杜の里内科クリニック | E22: 松本 明里 | F22: 43617 | G22: 984-0030 | H22: 若林区荒井東二丁目12-7 | I22: 022-762-8281 | J22: ○ | AS22: 腎臓内科
A23: 21 | B23: 若林 | C23: 医療法人やよい寿 | D23: あらい内科・胃腸内科クリニック | E23: 菅井 俊一郎 | F23: 38869 | G23: 984-0032 | H23: 若林区荒井一丁目1-3 | I23: 022-294-6633 | J23: ○ | Q23: ○ | AS23: 胃腸内科
A24: 22 | B24: 若林 | C24: 須知 高照 | D24: あらいメンタルクリニック | E24: 須知 高照 | F24: 39251 | G24: 984-0032 | H24: 若林区荒井二丁目1-10 | I24: 022-393-6290 | K24: ○ | L24: ○
A25: 23 | B25: 若林 | C25: 医療法人はなクリニック | D25: はなクリニック | E25: 高橋 雅司 | F25: 42917 | G25: 984-0032 | H25: 若林区荒井二丁目18-11 | I25: 022-288-8777 | J25: ○ | U25: ○ | V25: ○ | AH25: ○ | AQ25: ○ | AS25: 肛門外科
A26: 24 | B26: 若林 | C26: 医療法人七郷クリニック | D26: 七郷クリニック | E26: 阿部 基 | F26: 36143 | G26: 984-0032 | H26: 若林区荒井三丁目25-4 | I26: 022-287-1475 | Q26: ○ | U26: ○ | V26: ○ | AE26: ○
A27: 25 | B27: 若林 | C27: 山形 和正 | D27: わかばやし眼科 | E27: 山形 和正 | F27: 36054 | G27: 984-0032 | H27: 若林区荒井三丁目25-6 | I27: 022-390-0301 | AL27: ○
A28: 26 | B28: 若林 | C28: 医療法人緑梓会 | D28: すがわら皮ふ科 | E28: 菅原 正幸 | F28: 43831 | G28: 984-0032 | H28: 若林区荒井四丁目12-7 | I28: 022-357-0567 | AE28: ○
A29: 27 | B29: 若林 | C29: 田代 尚久 | D29: あらい整形外科クリニック | E29: 田代 尚久 | F29: 41000 | G29: 984-0032 | H29: 若林区荒井五丁目8-23 | I29: 022-355-4655 | W29: ○ | AO29: ○
A30: 28 | B30: 若林 | C30: 狩野 茂之 | D30: かの耳鼻咽喉科クリニック | E30: 狩野 茂之 | F30: 40486 | G30: 984-0032 | H30: 若林区荒井六丁目2-2 | I30: 022-781-7454 | AM30: ○
A31: 29 | B31: 若林 | C31: 防衛省 | D31: 陸上自衛隊霞目駐屯地医務室 | E31: 渡邉 樹一 | F31: 20854 | G31: 984-0035 | H31: 若林区霞目一丁目1-1 | I31: 022-286-3101 | J31: ○ | V31: ○ | AR31: ○ | AT31: 3 | AV31: 3
A32: 30 | B32: 若林 | C32: 高橋 広延 | D32: 荒井たかはし内科・糖尿病クリニック | E32: 高橋 広延 | F32: 45737 | G32: 984-0036 | H32: 若林区長喜城字山神45-2 | I32: 022-352-3677 | J32: ○ | AS32: 糖尿病内科
A33: 31 | B33: 若林 | C33: 医療法人たくまこどもクリニック | D33: たくまこどもクリニック | E33: 松木 琢磨 | F33: 45658 | G33: 984-0036 | H33: 若林区長喜城字山神45-6 | I33: 022-355-7785 | U33: ○
A34: 32 | B34: 若林 | C34: 医療法人社団英会 | D34: 佐藤内科クリニック | E34: 佐藤 英幸 | F34: 37987 | G34: 984-0037 | H34: 若林区蒲町27-21 | I34: 022-781-2521 | J34: ○
A35: 33 | B35: 若林 | C35: 医療法人社団太陽会 | D35: 仙台在宅支援たいようクリニック | E35: 清野 景好 | F35: 41640 | G35: 984-0037 | H35: 若林区蒲町30-3 | I35: 022-355-2533 | J35: ○ | V35: ○
A36: 34 | B36: 若林 | C36: 医療法人宏誠会大和町たかはし整形外科クリニック | D36: 大和町たかはし整形外科クリニック | E36: 高橋 康明 | F36: 39814 | G36: 984-0042 | H36: 若林区大和町一丁目4-13 | I36: 022-239-2777 | W36: ○ | AO36: ○
A37: 35 | B37: 若林 | C37: 医療法人悠聡会 | D37: 仙台やまと町脳外科クリニック | E37: 宇都宮 昭裕 | F37: 42370 | G37: 984-0042 | H37: 若林区大和町二丁目6-3 | I37: 022-762-5681 | J37: ○ | N37: ○ | V37: ○ | Z37: ○
A38: 36 | B38: 若林 | C38: 医療法人やまとまちレディースクリニック | D38: やまとまちレディースクリニック | E38: 岩本 充 | F38: 42370 | G38: 984-0042 | H38: 若林区大和町二丁目6-3 | I38: 022-762-5685 | AJ38: ○ | AK38: ○
A39: 37 | B39: 若林 | C39: 医療法人かんのキッズクリニック | D39: かんのキッズクリニック | E39: 菅野 弘之 | F39: 40969 | G39: 984-0042 | H39: 若林区大和町二丁目6-3 2階 | I39: 022-762-5684 | S39: ○ | U39: ○
A40: 38 | B40: 若林 | C40: 医療法人常寿会 | D40: しばた整形外科 | E40: 柴田 常博 | F40: 41456 | G40: 984-0042 | H40: 若林区大和町二丁目6-3 大和町メディカルセンター1階 | I40: 022-762-5682 | T40: ○ | W40: ○ | AO40: ○
A41: 39 | B41: 若林 | C41: 医療法人はやし會 | D41: はやし内科クリニック | E41: 林 克敏 | F41: 41821 | G41: 984-0042 | H41: 若林区大和町二丁目6-3 大和町メディカルセンター2階 | I41: 022-762-5686 | J41: ○ | O41: ○ | R41: ○ | S41: ○ | AS41: 循環器内科，呼吸器内科
A42: 40 | B42: 若林 | C42: 医療法人清和 | D42: 大和耳鼻咽喉科医院 | E42: 髙梨 芳崇 | F42: 41821 | G42: 984-0042 | H42: 若林区大和町三丁目1-19 | I42: 022-239-8508 | S42: ○ | AM42: ○
A43: 41 | B43: 若林 | C43: 医療法人社団やまと | D43: やまと在宅診療所あゆみ仙台 | E43: 星野 智祥 | F43: 46174 | G43: 984-0042 | H43: 若林区大和町四丁目23-33 栄福ビル２階 | I43: 022-766-8513 | J43: ○ | O43: ○ | P43: ○ | AE43: ○ | AS43: 呼吸器内科 消化器内科
A44: 42 | B44: 若林 | C44: 一般社団法人あかざ | D44: 卸町えきまえクリニック | E44: 松下 勝則 | F44: 44774 | G44: 984-0042 | H44: 若林区大和町四丁目19-22 2階 | I44: 022-355-5560 | J44: ○ | P44: ○ | V44: ○ | AF44: ○ | AS44: 消化器内科
A45: 43 | B45: 若林 | C45: 医療法人誠明昂会 | D45: ファミリアクリニック 卸町 | E45: 大橋 威信 | F45: 44896 | G45: 984-0042 | H45: 若林区大和町四丁目19-22 サンデー仙台卸町店２階 | I45: 022-369-3784 | S45: ○ | X45: ○ | AE45: ○ | AS45: 美容皮膚科、小児皮膚科
A46: 44 | B46: 若林 | C46: 医療法人惺夏会 | D46: ピッコリーチェパパママクリニック | E46: 及川 善嗣 | F46: 45658 | G46: 984-0042 | H46: 若林区大和町四丁目23-24 | I46: 022-762-9825 | J46: ○ | U46: ○
A47: 45 | B47: 若林 | C47: 猪岡 望 | D47: 猪岡内科医院 | E47: 猪岡 望 | F47: 39787 | G47: 984-0047 | H47: 若林区木ノ下一丁目25-31 | I47: 022-295-3751 | J47: ○
A48: 46 | B48: 若林 | C48: 医療法人社団暁宏会 | D48: 大橋記念薬師堂眼科クリニック | E48: 山口 慶子 | F48: 43901 | G48: 984-0047 | H48: 若林区木ノ下三丁目16-21 薬師堂ATTRAビル2階 | I48: 022-353-7355 | AL48: ○
A49: 47 | B49: 若林 | C49: 石橋 潤一 | D49: 仙台薬師堂いしばし消化器内視鏡クリニック | E49: 石橋 潤一 | F49: 43953 | G49: 984-0047 | H49: 若林区木ノ下三丁目16-21 3階 | I49: 022-369-3763 | J49: ○ | P49: ○ | AH49: ○ | AS49: 消化器内科
A50: 48 | B50: 若林 | C50: 三浦 裕 | D50: みうら内科・心臓血管クリニック | E50: 三浦 裕 | F50: 45717 | G50: 984-0048 | H50: 若林区白萩町29-30 | I50: 022-762-5338 | J50: ○ | R50: ○ | AS50: 循環器内科
A51: 49 | B51: 若林 | C51: 石川 泉 | D51: 新寺内科 | E51: 石川 泉 | F51: 43313 | G51: 984-0051 | H51: 若林区新寺一丁目8-1 2階 | I51: 022-355-9623 | J51: ○ | U51: ○
A52: 50 | B52: 若林 | C52: 医療法人誠仁会 | D52: しんてらこどもクリニック | E52: 青海 仁 | F52: 43466 | G52: 984-0051 | H52: 若林区新寺一丁目8-1 ｺｰﾌﾟｴｽﾃｰﾄ新寺ﾋﾞﾙ 2階 | I52: 022-298-6188 | U52: ○
A53: 51 | B53: 若林 | C53: 鈴木 康之 | D53: ＧＩスズキクリニック | E53: 鈴木 康之 | F53: 40703 | G53: 984-0051 | H53: 若林区新寺二丁目2-11 新寺211ﾋﾞﾙ 4階 | I53: 022-293-0211 | J53: ○ | P53: ○ | V53: ○ | AH53: ○ | AS53: 消化器内科，肛門外科
A54: 52 | B54: 若林 | C54: 黒澤 昌啓 | D54: 黒沢医院 | E54: 黒澤 昌啓 | F54: 42095 | G54: 984-0052 | H54: 若林区連坊一丁目1-43 | I54: 022-256-3769 | U54: ○ | AE54: ○ | AF54: ○
A55: 53 | B55: 若林 | C55: 簱福 みどり | D55: れんぼう眼科クリニック | E55: 簱福 みどり | F55: 40247 | G55: 984-0052 | H55: 若林区連坊一丁目5-53 | I55: 022-292-5531 | AL55: ○
A56: 54 | B56: 若林 | C56: 戸澤 智浩 | D56: TOMクリニック | E56: 戸澤 智浩 | F56: 45224 | G56: 984-0053 | H56: 若林区連坊小路45-3 鈴木コーポ1階 | I56: 022-797-4485 | J56: ○ | K56: ○
A57: 55 | B57: 若林 | C57: 医療法人社団公杏会 | D57: 石田医院 | E57: 石田 一彦 | F57: 32857 | G57: 984-0053 | H57: 若林区連坊小路53 | I57: 022-256-1237 | J57: ○ | P57: ○ | AE57: ○ | AS57: 消化器内科
A58: 56 | B58: 若林 | C58: 今野 喜郎 | D58: 今野外科整形外科 | E58: 今野 喜郎 | F58: 33222 | G58: 984-0061 | H58: 若林区南鍛冶町196 | I58: 022-223-3285 | V58: ○ | W58: ○
A59: 57 | B59: 若林 | C59: 鍵本 香子 | D59: なみ皮ふ科クリニック | E59: 鍵本 香子 | F59: 43648 | G59: 984-0063 | H59: 若林区石名坂5 | I59: 022-797-6839 | AE59: ○
A60: 58 | B60: 若林 | C60: 医療法人のごころ会 | D60: 愛宕橋にしざわ脳神経外科クリニック | E60: 西澤 義彦 | F60: 40179 | G60: 984-0065 | H60: 若林区土樋62 | I60: 022-263-2438 | Z60: ○
A61: 59 | B61: 若林 | C61: 佐瀬 友彦 | D61: 佐瀬総合診療所 | E61: 佐瀬 友彦 | F61: 45810 | G61: 984-0073 | H61: 若林区荒町20 | I61: 022-395-5215 | J61: ○ | V61: ○
A62: 60 | B62: 若林 | C62: 上野 聖平 | D62: 仙台五橋駅前こころのクリニックこまくさ | E62: 上野 聖平 | F62: 45965 | G62: 984-0073 | H62: 若林区荒町106-1 ナナアーク荒町3階 | I62: 022-226-8201 | K62: ○ | L62: ○
A63: 61 | B63: 若林 | C63: 深町 佳世子 | D63: Ｋ＆Ｆ乳腺クリニック | E63: 深町 佳世子 | F63: 46176 | G63: 984-0073 | H63: 若林区荒町106-1 ナナアーク荒町3階 | I63: 022-302-6020 | AS63: 乳腺外科
A64: 62 | B64: 若林 | C64: 矢尾板 啓 | D64: あらまち内科クリニック | E64: 矢尾板 啓 | F64: 38968 | G64: 984-0073 | H64: 若林区荒町123 123ビル2階 | I64: 022-225-0271 | J64: ○ | O64: ○ | P64: ○ | R64: ○
A65: 63 | B65: 若林 | C65: 医療法人恵信会 | D65: みみ・はな・のどクリニックもも | E65: 小澤 大樹 | F65: 43983 | G65: 984-0073 | H65: 若林区荒町123 123ビル3階 | I65: 022-796-0188 | S65: ○ | AM65: ○ | AS65: 小児耳鼻咽喉科
A66: 64 | B66: 若林 | C66: 医療法人恵信会 | D66: おざわ女性総合クリニック | E66: 小澤 信義 | F66: 42373 | G66: 984-0073 | H66: 若林区荒町192 | I66: 022-222-9716 | J66: ○ | AJ66: ○ | AK66: ○
A67: 65 | B67: 若林 | C67: 医療法人王心会 | D67: 医療法人王心会 五橋駅前クリニック | E67: 深瀬 滋太 | F67: 41554 | G67: 984-0075 | H67: 若林区清水小路8 ﾏﾙﾀﾏﾌｧｲﾌﾞﾘｯｼﾞﾋﾞﾙ 2階 | I67: 022-796-3120 | J67: ○ | O67: ○ | P67: ○ | R67: ○ | AS67: 循環器内科，呼吸器内科，消化器内科
A68: 66 | B68: 若林 | C68: 榛沢 清昭 | D68: はんざわ内科胃腸科 | E68: 榛沢 清昭 | F68: 38505 | G68: 984-0804 | H68: 若林区南石切町14-10 | I68: 022-726-5381 | J68: ○ | P68: ○
A69: 67 | B69: 若林 | C69: 医療法人社団桜蘭会 | D69: Ｍ＆Ｔ在宅クリニック | E69: 佐藤 信 | F69: 42917 | G69: 984-0806 | H69: 若林区舟丁3 | I69: 022-397-9297 | J69: ○ | L69: ○
A70: 68 | B70: 若林 | C70: 仙台市 | D70: 仙台市急患センター | E70: 今井 克忠 | F70: 37110 | G70: 984-0806 | H70: 若林区舟丁64-12 | I70: 022-266-6561 | J70: ○ | V70: ○ | W70: ○ | AK70: ○ | AL70: ○ | AM70: ○
A71: 69 | B71: 若林 | C71: 仙台市 | D71: 仙台市保健所若林支所 | E71: 山本 夏男 | F71: 32509 | G71: 984-0811 | H71: 若林区保春院前丁3-1 | I71: 022-282-1111 | J71: ○ | U71: ○ | W71: ○ | AR71: ○
A72: 70 | B72: 若林 | C72: 大友 淳 | D72: 五十人町おおとも内科 | E72: 大友 淳 | F72: 39336 | G72: 984-0812 | H72: 若林区五十人町35 | I72: 022-286-8541 | J72: ○ | O72: ○ | R72: ○ | AS72: 心臓・循環器内科，呼吸器内科
A73: 71 | B73: 若林 | C73: 医療法人社団桜信会 | D73: さくらい循環器・内科クリニック | E73: 櫻井 信 | F73: 42005 | G73: 984-0816 | H73: 若林区河原町一丁目1-5 ﾘﾗｲｱﾝｽ 河原町 2階 | I73: 022-217-6757 | J73: ○ | R73: ○ | AS73: 循環器内科
A74: 72 | B74: 若林 | C74: 医療法人社団鴻志会 | D74: 河原町メンタルクリニック | E74: 田邊 陽一郎 | F74: 45748 | G74: 984-0816 | H74: 若林区河原町一丁目1-5 ﾘﾗｲｱﾝｽ河原町 4階402号室 | I74: 022-738-7757 | K74: ○ | L74: ○
A75: 73 | B75: 若林 | C75: 畠山 孝仁 | D75: 河原町泌尿器科クリニック | E75: 畠山 孝仁 | F75: 40793 | G75: 984-0816 | H75: 若林区河原町一丁目1-5 ﾘﾗｲｱﾝｽ河原町 4階 | I75: 022-738-9771 | AF75: ○ | AS75: 腎臓内科
A76: 74 | B76: 若林 | C76: 松永 弦 | D76: 松永女性クリニック | E76: 松永 弦 | F76: 38153 | G76: 984-0816 | H76: 若林区河原町一丁目3-17 | I76: 022-722-3288 | J76: ○ | AJ76: ○ | AK76: ○
A77: 75 | B77: 若林 | C77: 医療法人前川眼科医院 | D77: 前川眼科医院 | E77: 前川 暢男 | F77: 32857 | G77: 984-0816 | H77: 若林区河原町一丁目5-28 | I77: 022-223-3727 | AL77: ○ | AT77: 9 | AV77: 9
A78: 76 | B78: 若林 | C78: 佐竹 学 | D78: からだとこころのクリニック ラポール | E78: 佐竹 学 | F78: 41542 | G78: 984-0817 | H78: 若林区堰場12-5 ｿﾚｱｰﾄﾞ舟丁 1階 | I78: 022-217-0855 | J78: ○ | K78: ○ | L78: ○ | P78: ○ | AS78: 消化器内科
