Workbook
Name 食事リスト食堂: [1]リスト!$A$2:$A$4
Name 食事リスト追加: [1]リスト!$E$2:$E$4
Name 食事リスト弁当: [1]リスト!$D$2:$D$5
Name 食事リスト野炊昼食・夕食: [1]リスト!$C$2:$C$18
Name 食事リスト野炊朝食: [1]リスト!$B$2:$B$12

Sheet 冬型事務手続き資料（家族用）
A1: =RIGHT(CELL("filename",A1),LEN(CELL("filename",A1))-FIND("]",CELL("filename",A1))) -> 冬型事務手続き資料（家族用）
A4: １【家族用】活動日の１か月前まで提出する書類 | I4: こちらをご提出ください
B5: 1 | C5: 【様式第1号】使用許可申請書 | J5: ※入力すると各様式に反映
B6: 2 | C6: 【別紙1－3】利用者名簿〈家族用〉
B7: 3 | C7: 【別紙2】食事関係確認票（冬型）
B8: 4 | C8: 【別紙3】食物アレルギーに関する調査票 | J8: ※希望がある場合のみ提出
B9: 5 | C9: 【別紙4-1】蔵王自然の家スキー講師依頼申込書
B10: 6 | C10: 【別紙4-2】各種予約集計表 | J10: ※えぼし利用の場合のみ提出
B11: 7 | C11: 【別紙5-1】アルペンスキー・靴・スキーウェアサイズ集計表 | J11: ※雪遊びやスノートレッキングでウエアをレンタルする場合も「別紙5-1」に入力し提出
B12: 8 | C12: 【別紙5-2】歩くスキー・靴・スキーウェアサイズ集計表
B13: ・ | C13: 【参考資料別紙5関係】
A15: Ⅱ その他の書類
B16: ・ | C16: 変更点連絡用 送信票 | J16: ※変更がある場合に提出
C17: →変更する内容について、変更がわかるように記入して送信してください。
A19: Ⅲ 活動日当日に提出する書類
B20: ・ | C20: スキー活動（ｺﾞﾝﾄﾞﾗ･ﾘﾌﾄ）利用証明書 | J20: ※利用当日の打合わせで受取り、記入して提出
A22: ＊＊＊＊＊＊＊＊＊＊＊＊＊＊＊＊＊＊＊＊＊＊＊＊＊＊＊＊＊＊＊＊＊＊＊＊＊＊＊＊＊＊＊＊
C24: ① 後日、メールまたは郵送で送付される使用料確認票を利用当日ご持参ください。
C26: ② 提出に必要な書類は資料集よりコピーしてお使いください。
C27: →蔵王自然の家のWebサイト「利用手続き書類（冬型）」からもダウンロードできます。
A29: 宮城県蔵王自然の家

Sheet 【様式1】申請書
A1: 様式第１号（第５条関係） | AT1: 様式第1号（第5条関係） | BM1: ＜記入例＞
A2: 自然の家使用許可申請書 | AT2: 自然の家使用許可申請書
AH3: 令和 | AK3: 年 | AN3: 月 | AQ3: 日 | BZ3: 令和〇 | CD3: 年 | CE3: × | CG3: 月 | CH3: 15 | CJ3: 日
A5: 宮城県蔵王自然の家所長 殿 | AT5: 宮城県蔵王自然の家所長 殿
X8: 申請者 住所 | AE8: 〒 | BL8: 申請者 | BP8: 住 所 | BT8: 〒 | BU8: 989-0916
BT9: 宮城県刈田郡蔵王町遠刈田温泉 字上ノ原155-1
AB11: 氏名又は名称 | BP11: 氏名又は名称
AB12: （法人その他の団体にあっては，代表者の氏名） | BP12: （法人その他の団体にあっては、代表者の氏名）
AD13: 団体名 | BR13: 団 体 名 | BW13: ○○町立○○小学校
AD14: 代表者名 | BR14: 代表者名 | BW14: 校長 蔵王 太郎
AB15: 電話番号 | BP15: 電話番号 | BU15: 0224-××-××××
A17: 下記のとおり使用したいので許可されるよう申請します。 | AT17: 下記のとおり使用したいので許可されるよう申請します。
A19: 記 | AT19: 記
A20: 行事名称 | W20: 連絡先 | AA20: 氏 名 | AT20: 行事名称 | AY20: 蔵王宿泊体験学習 | BP20: 連絡先 | BT20: 氏 名 | BY20: 駒草 咲
A21: 使用の 目 的 | AA21: 電話番号 | AT21: 使用の 目 的 | AY21: 自然体験を通して、活動の楽しさや自然の美しさを味わい、豊かな感性と自然を愛する心を養う。 | BT21: 電話番号 | BY21: 0224-××-××××
AA22: FAX番号 | BT22: FAX番号 | BY22: 0224-××-×××△
AA23: E-mail | BT23: E-mail | BY23: ○○-es@○○.town.ed.jp
A24: 使用しよう と す る 人 員 | W24: 使用しよう とする日時 | AJ24: =IF(AA24=0," ",WEEKDAY(AA24,1)) | AO24: 時 | AR24: 分から | AT24: 使用しよう と す る 人 員 | AY24: 67 | BP24: 使用しよう とする日時 | BT24: 令和〇年△月15日 | CB24: （木） | CE24: 10 | CG24: 時 | CH24: 00 | CJ24: 分から
AJ25: =IF(AA25=0," ",WEEKDAY(AA25,1)) | AO25: 時 | AR25: 分まで | BT25: 令和〇年△月17日 | CB25: （土） | CE25: 15 | CG25: 時 | CH25: 00 | CJ25: 分まで
A27: 区 分 | J27: 中学生及び これに準ず る者以下 | P27: 高校生及び これに準ず る者 | V27: 学習活動 等 の 引 率 者 | AB27: 一 般 （大学生を 含む。） | AH27: 計 | AN27: ※使用料 | AT27: 区 分 | BC27: 中学生及び これに準ず る者以下 | BI27: 高校生及び これに準ず る者以下 | BO27: 学習活動 等 の 引 率 者 | BU27: 一 般 （大学生を 含む。） | CA27: 計 | CG27: ※使用料
J30: 男 | M30: 女 | P30: 男 | S30: 女 | V30: 男 | Y30: 女 | AB30: 男 | AE30: 女 | AH30: 男 | AK30: 女 | BC30: 男 | BF30: 女 | BI30: 男 | BL30: 女 | BO30: 男 | BR30: 女 | BU30: 男 | BX30: 女 | CA30: 男 | CD30: 女
A31: 宿泊室 | AH31: =IF(J31+P31+V31+AB31=0," ",J31+P31+V31+AB31) | AK31: =IF(M31+S31+Y31+AE31=0," ",M31+S31+Y31+AE31) | AN31: 円 | AT31: 宿泊室 | BC31: 31 | BF31: 30 | BO31: 2 | BR31: 2 | CA31: =IF(SUM($BC31:$BZ31)=0," ",BC31+BI31+BO31+BU31) -> 33 | CD31: =IF(SUM($BC31:$BZ31)=0," ",BF31+BL31+BR31+BX31) -> 32 | CK31: 円
A32: テントサイト | AH32: =IF(J32+P32+V32+AB32=0," ",J32+P32+V32+AB32) | AK32: =IF(M32+S32+Y32+AE32=0," ",M32+S32+Y32+AE32) | AN32: 円 | AT32: テントサイト | CA32: =IF(SUM($BC32:$BZ32)=0," ",BC32+BI32+BO32+BU32) | CD32: =IF(SUM($BC32:$BZ32)=0," ",BF32+BL32+BR32+BX32) | CK32: 円
A33: 山小屋 | AH33: =IF(J33+P33+V33+AB33=0," ",J33+P33+V33+AB33) | AK33: =IF(M33+S33+Y33+AE33=0," ",M33+S33+Y33+AE33) | AN33: 円 | AT33: 山小屋 | CA33: =IF(SUM($BC33:$BZ33)=0," ",BC33+BI33+BO33+BU33) | CD33: =IF(SUM($BC33:$BZ33)=0," ",BF33+BL33+BR33+BX33) | CK33: 円
A34: コテージ | AH34: =IF(J34+P34+V34+AB34=0," ",J34+P34+V34+AB34) | AK34: =IF(M34+S34+Y34+AE34=0," ",M34+S34+Y34+AE34) | AN34: 円 | AT34: コテージ | CA34: =IF(SUM($BC34:$BZ34)=0," ",BC34+BI34+BO34+BU34) | CD34: =IF(SUM($BC34:$BZ34)=0," ",BF34+BL34+BR34+BX34) | CK34: 円
A35: 研修室等 | C35: 研修室 | AH35: =IF(J35+P35+V35+AB35=0," ",J35+P35+V35+AB35) | AK35: =IF(M35+S35+Y35+AE35=0," ",M35+S35+Y35+AE35) | AN35: 円 | AT35: 研修室等 | AV35: 研修室 | CA35: =IF(SUM($BC35:$BZ35)=0," ",BC35+BI35+BO35+BU35) | CD35: =IF(SUM($BC35:$BZ35)=0," ",BF35+BL35+BR35+BX35) | CK35: 円
C36: オリエンテーション室 | AH36: =IF(J36+P36+V36+AB36=0," ",J36+P36+V36+AB36) | AK36: =IF(M36+S36+Y36+AE36=0," ",M36+S36+Y36+AE36) | AN36: 円 | AV36: オリエンテーション室 | CA36: =IF(SUM($BC36:$BZ36)=0," ",BC36+BI36+BO36+BU36) | CD36: =IF(SUM($BC36:$BZ36)=0," ",BF36+BL36+BR36+BX36) | CK36: 円
C37: プレイルーム | AH37: =IF(J37+P37+V37+AB37=0," ",J37+P37+V37+AB37) | AK37: =IF(M37+S37+Y37+AE37=0," ",M37+S37+Y37+AE37) | AN37: 円 | AV37: プレイルーム | CA37: =IF(SUM($BC37:$BZ37)=0," ",BC37+BI37+BO37+BU37) | CD37: =IF(SUM($BC37:$BZ37)=0," ",BF37+BL37+BR37+BX37) | CK37: 円
C38: 音楽室 | AH38: =IF(J38+P38+V38+AB38=0," ",J38+P38+V38+AB38) | AK38: =IF(M38+S38+Y38+AE38=0," ",M38+S38+Y38+AE38) | AN38: 円 | AV38: 音楽室 | CA38: =IF(SUM($BC38:$BZ38)=0," ",BC38+BI38+BO38+BU38) | CD38: =IF(SUM($BC38:$BZ38)=0," ",BF38+BL38+BR38+BX38) | CK38: 円
C39: 会議室 | AH39: =IF(J39+P39+V39+AB39=0," ",J39+P39+V39+AB39) | AK39: =IF(M39+S39+Y39+AE39=0," ",M39+S39+Y39+AE39) | AN39: 円 | AV39: 会議室 | CA39: =IF(SUM($BC39:$BZ39)=0," ",BC39+BI39+BO39+BU39) | CD39: =IF(SUM($BC39:$BZ39)=0," ",BF39+BL39+BR39+BX39) | CK39: 円
C40: コテージ | AH40: =IF(J40+P40+V40+AB40=0," ",J40+P40+V40+AB40) | AK40: =IF(M40+S40+Y40+AE40=0," ",M40+S40+Y40+AE40) | AN40: 円 | AV40: コテージ | CA40: =IF(SUM($BC40:$BZ40)=0," ",BC40+BI40+BO40+BU40) | CD40: =IF(SUM($BC40:$BZ40)=0," ",BF40+BL40+BR40+BX40) | CK40: 円
A41: 体育館 | AH41: =IF(J41+P41+V41+AB41=0," ",J41+P41+V41+AB41) | AK41: =IF(M41+S41+Y41+AE41=0," ",M41+S41+Y41+AE41) | AN41: 円 | AT41: 体育館 | CA41: =IF(SUM($BC41:$BZ41)=0," ",BC41+BI41+BO41+BU41) | CD41: =IF(SUM($BC41:$BZ41)=0," ",BF41+BL41+BR41+BX41) | CK41: 円
A42: 野外炊飯施設 | AH42: =IF(J42+P42+V42+AB42=0," ",J42+P42+V42+AB42) | AK42: =IF(M42+S42+Y42+AE42=0," ",M42+S42+Y42+AE42) | AN42: 円 | AT42: 野外炊飯施設 | CA42: =IF(SUM($BC42:$BZ42)=0," ",BC42+BI42+BO42+BU42) | CD42: =IF(SUM($BC42:$BZ42)=0," ",BF42+BL42+BR42+BX42) | CK42: 円
A43: 運動場 | AH43: =IF(J43+P43+V43+AB43=0," ",J43+P43+V43+AB43) | AK43: =IF(M43+S43+Y43+AE43=0," ",M43+S43+Y43+AE43) | AN43: 円 | AT43: 運動場 | CA43: =IF(SUM($BC43:$BZ43)=0," ",BC43+BI43+BO43+BU43) | CD43: =IF(SUM($BC43:$BZ43)=0," ",BF43+BL43+BR43+BX43) | CK43: 円
A44: その他 | AH44: =IF(J44+P44+V44+AB44=0," ",J44+P44+V44+AB44) | AK44: =IF(M44+S44+Y44+AE44=0," ",M44+S44+Y44+AE44) | AN44: 円 | AT44: その他 | BC44: 1 | BU44: 1 | CA44: =IF(SUM($BC44:$BZ44)=0," ",BC44+BI44+BO44+BU44) -> 2 | CD44: =IF(SUM($BC44:$BZ44)=0," ",BF44+BL44+BR44+BX44) -> 0 | CK44: 円
A45: 備考 | AT45: 備考
A46: （注） ※印の欄は記入しないでください。 | AT46: （注） ※印の欄は記入しないでください。

Sheet 【別紙1-3】利用者名簿
A2: （別紙1-3） 利用者名簿（冬型） | AJ2: （別紙1-3） 利用者名簿（冬型） 例
A3: 〈家族用〉 | AJ3: 〈家族用〉
A4: 団体名 | D4: =IF(【様式1】申請書!AI13=0," ",【様式1】申請書!AI13) | Q4: 利用月日 | U4: =IF(【様式1】申請書!AA24=0," ",【様式1】申請書!AA24) | AA4: ～ | AB4: =IF(【様式1】申請書!AA25=0," ",【様式1】申請書!AA25) | AJ4: 団体名 | AM4: ○△ファミリー | AZ4: 利用月日 | BD4: 〇月１５日 ～ 〇月１７日
E6: 中学生及びこれに準ずる者以下 | K6: 高校生及びこれに準ずる者 | Q6: 学習活動等の 引率者 | V6: 一般（大学生含む） | AA6: 合 計 | AN6: 中学生及びこれに準ずる者以下 | AT6: 高校生及びこれに準ずる者 | AZ6: 学習活動等の引率者 | BE6: 一般（大学生含む） | BJ6: 合 計
A7: 男 | AA7: =IF(SUM(E7:Z7)=0," ",SUM(E7:Z7)) | AJ7: 男 | AN7: 1 | AT7: 0 | AZ7: 0 | BE7: 2 | BJ7: 3
A8: 女 | AA8: =IF(SUM(E8:Z8)=0," ",SUM(E8:Z8)) | AJ8: 女 | AN8: 1 | AT8: 0 | AZ8: 0 | BE8: 1 | BJ8: 2
A9: 計 | E9: =IF(AND(E7=0,E8=0)," ",E7+E8) | K9: =IF(AND(K7=0,K8=0)," ",K7+K8) | V9: =IF(AND(V7=0,V8=0)," ",V7+V8) | AA9: =IF(SUM(E9:Z9)=0," ",SUM(E9:Z9)) | AJ9: 計 | AN9: 2 | AT9: 0 | AZ9: 0 | BE9: 3 | BJ9: 5
A10: ＜記入の仕方＞ | AJ10: ＜記入の仕方＞
A11: （１）「区分」は「中学生以下」「高校生等」「一般」のいずれかを選択または記入してください。 | AJ11: （１）「区分」は「中学生以下」「高校生等」「一般」のいずれかを選択または記入してください。
A12: （２）ウェアサイズは、「別紙5参考資料」を参考に記入してください。 | AJ12: （２）ウェアサイズは、「別紙5関係参考資料」を参考に記入してください。
A13: （３）「学年等」は、校種・学年がわかるように記入してください。一般の方は記入不要です。 | AJ13: （３）「学年等」は、校種・学年がわかるように記入してください。一般の方は記入不要です。
A14: （４）「ウェア番号」は当日借りるときに記入してください。 | AJ14: （４）「ウェア番号」は当日借りるときに記入してください。
A15: （５）「貸出区分」は 「１日→①、１泊２日→②、２泊３日→③」 の数字で記入してください。 | AJ15: （５）「貸出区分」は 「１日→①、１泊２日→②、２泊３日→③」 の数字で記入してください。
A16: № | B16: 区分 | D16: 氏 名 | K16: 性別 | L16: 学年等 | P16: 宿泊状況 | T16: スキー割当資料 | X16: 貸出 区分 | Z16: スキーウェア | AD16: 貸出 区分 | AF16: 返却 確認 | AJ16: № | AK16: 区分 | AM16: 氏 名 | AT16: 性別 | AU16: 学年等 | AY16: 宿泊状況 | BC16: スキー割当資料 | BG16: 貸出 区分 | BI16: スキーウェア | BM16: 貸出 区分 | BO16: 返却 確認
T17: 靴の サイズ | V17: 身長 | Z17: サイズ | AB17: 番号 | BC17: 靴の サイズ | BE17: 身長 | BI17: サイズ | BK17: 番号
A18: ① | AJ18: ① | AK18: 一般 | AM18: ☆☆ ☆☆ | AT18: 男 | AY18: 2泊 | BC18: 持参 | BI18: 持参
A19: ② | AJ19: ② | AK19: 一般 | AM19: ○○ ○○ | AT19: 女 | AY19: 2泊 | BC19: 23 | BE19: 158 | BG19: ③ | BI19: 持参
A20: ③ | AJ20: ③ | AK20: 中学生以下 | AM20: △△ △△ | AT20: 男 | AU20: 小５ | AY20: 2泊 | BC20: 21.5 | BE20: 143 | BG20: ③ | BI20: S
A21: ④ | AJ21: ④ | AK21: 中学生以下 | AM21: □□ □□ | AT21: 女 | AU21: 中1 | AY21: 2泊 | BC21: 持参 | BI21: M
A22: ⑤ | AJ22: ⑤ | AK22: 一般 | AM22: ○△ □☆ | AT22: 男 | AY22: 1泊 | BC22: 23 | BE22: 160 | BG22: ② | BI22: 持参
A23: ⑥ | AJ23: ⑥
A24: ⑦ | AJ24: ⑦
A25: ⑧ | AJ25: ⑧
A26: ⑨ | AJ26: ⑨
A27: ⑩ | AJ27: ⑩
A28: ⑪ | AJ28: ⑪
A29: ⑫ | AJ29: ⑫
A30: ⑬ | AJ30: ⑬
A31: ⑭ | AJ31: ⑭
A32: ⑮ | AJ32: ⑮

Sheet 【別紙2】食事数確認票
A1: (別紙2） | AG1: (別紙2) | AT1: ＜記入例＞
A2: 食事関係確認票（冬型） | AG2: 食事関係確認票（冬型）
A4: 団体名 | D4: =IF(【様式1】申請書!AI13=0," ",【様式1】申請書!AI13) | O4: 利用日 | Q4: =IF(【様式1】申請書!AA24=0," ",【様式1】申請書!AA24) | X4: ～ | Y4: =IF(【様式1】申請書!AA25=0," ",【様式1】申請書!AA25) | AG4: 団体名 | AJ4: ○○町立○○小学校 | AU4: 利用日 | AW4: 46303 | BD4: ～ | BE4: 令和×年〇月17日（土）
A6: ◆食物アレルギー対応希望者の有無 | AG6: ◆食物アレルギー対応希望者の有無
C8: 有 | D8: （ | G8: 名） | I8: → | J8: 別紙3は食物アレルギーの対応希望者分のみ提出してください。 | AI8: 有 | AJ8: （ | AK8: 3 | AM8: 名） | AO8: → | AP8: 別紙3は食物アレルギーの対応希望者分のみ提出してください。
C10: 無 | AI10: 無
A12: ◆食事内容・食数確認 | AG12: ◆食事内容・食数確認
H14: =Q4 | L14: =H14+1 -> #VALUE! | X14: =H14+2 -> #VALUE! | AN14: 〇月15日（木） | AR14: 〇月16日（金） | BD14: 〇月17日（土）
A15: ・希望メニュー☐に✔を記入してください。 ・その他は、「ホットサンド」「ポリナポリタン」「えぼし」「外注」から選択してください。 | H15: 夕食 | L15: 朝食 | P15: 昼食 | T15: 夕食 | X15: 朝食 | AB15: 昼食 | AG15: ・希望メニュー☐に✔を記入してください。 ・その他は、「ホットサンド」「ポリナポリタン」「えぼし」「外注」から選択してください。 | AN15: 夕食 | AR15: 朝食 | AV15: 昼食 | AZ15: 夕食 | BD15: 朝食 | BH15: 昼食
I16: 食堂 | M16: 食堂 | Q16: 食堂 | U16: 食堂 | Y16: 食堂 | AC16: 食堂 | AO16: 食堂 | AS16: 食堂 | AW16: 食堂 | BA16: 食堂 | BE16: 食堂 | BI16: 食堂
AN17: （定食） | AR17: （定食） | AZ17: （定食）
I18: その他 | M18: その他 | Q18: その他 | U18: その他 | Y18: その他 | AC18: その他 | AO18: その他 | AS18: その他 | AW18: その他 | BA18: その他 | BE18: その他 | BI18: その他
H19: （ ） | L19: （ ） | P19: （ ） | T19: （ ） | X19: （ ） | AB19: （ ） | AN19: （ ） | AR19: （ ） | AV19: （えぼし） | AZ19: （ ） | BD19: （ ） | BH19: （ポリナポリタン）
A20: 食事数 | C20: 中学生以下 | AG20: 食事数 | AI20: 中学生以下 | AN20: 51 | AR20: 51 | AZ20: 61 | BD20: 61 | BH20: 62
C21: 高校生 | AI21: 高校生
C22: 引率者 | AI22: 引率者 | AN22: 5 | AR22: 5 | AZ22: 4 | BD22: 4 | BH22: 4
C23: 一般 | AI23: 一般 | AN23: 2 | AR23: 2 | AZ23: 1 | BD23: 1 | BH23: 1
C24: 合計 | H24: =IF(SUM(H20:K23)=0,"",SUM(H20:K23)) | L24: =IF(SUM(L20:O23)=0,"",SUM(L20:O23)) | P24: =IF(SUM(P20:S23)=0,"",SUM(P20:S23)) | T24: =IF(SUM(T20:W23)=0,"",SUM(T20:W23)) | X24: =IF(SUM(X20:AA23)=0,"",SUM(X20:AA23)) | AB24: =IF(SUM(AB20:AE23)=0,"",SUM(AB20:AE23)) | AI24: 合計 | AN24: =IF(SUM(AN20:AQ23)=0,"",SUM(AN20:AQ23)) -> 58 | AR24: =IF(SUM(AR20:AU23)=0,"",SUM(AR20:AU23)) -> 58 | AV24: =IF(SUM(AV20:AY23)=0,"",SUM(AV20:AY23)) | AZ24: =IF(SUM(AZ20:BC23)=0,"",SUM(AZ20:BC23)) -> 66 | BD24: =IF(SUM(BD20:BG23)=0,"",SUM(BD20:BG23)) -> 66 | BH24: =IF(SUM(BH20:BK23)=0,"",SUM(BH20:BK23)) -> 67
A25: ※食事数の変更は、利用初日７日前の午後３時（休業日の場合はその前日）までです。 | AG25: ※食事数の変更は、利用初日７日前の午後３時（休業日の場合はその前日）までです。
A27: ◆防災クッキング活動確認 | AG27: ◆防災クッキング活動確認
A28: ＜グループ別人数＞ ※「№」は「食材かご」の番号になります。 | AG28: ＜グループ別人数＞ ※「№」は「食材かご」の番号になります。
F29: 月 | H29: 日 | J29: 時 | L29: 分 | M29: ～ | V29: 月 | X29: 日 | Z29: 時 | AB29: 分 | AC29: ～ | AG29: 昼食 | AK29: 〇 | AL29: 月 | AM29: 17 | AN29: 日 | AO29: 11 | AP29: 時 | AQ29: 00 | AR29: 分 | AS29: ～ | BB29: 月 | BD29: 日 | BF29: 時 | BH29: 分 | BI29: ～
A30: No． | B30: 児童 | D30: 一般 | F30: 計 | H30: No． | J30: 児童 | L30: 一般 | N30: 計 | Q30: No． | R30: 児童 | T30: 一般 | V30: 計 | X30: No． | Z30: 児童 | AB30: 一般 | AD30: 計 | AG30: No． | AH30: 児童 | AJ30: 引率 | AL30: 計 | AN30: No． | AP30: 児童 | AR30: 引率 | AT30: 計 | AW30: No． | AX30: 児童 | AZ30: 引率 | BB30: 計 | BD30: No． | BF30: 児童 | BH30: 引率 | BJ30: 計
B31: 生徒 | J31: 生徒 | R31: 生徒 | Z31: 生徒 | AH31: 生徒 | AJ31: 指導 | AP31: 生徒 | AR31: 指導 | AX31: 生徒 | AZ31: 指導 | BF31: 生徒 | BH31: 指導
A32: 1 | F32: =IF(B32+D32=0,"",B32+D32) | H32: 9 | N32: =IF(J32+L32=0,"",J32+L32) | Q32: 1 | V32: =IF(R32+T32=0,"",R32+T32) | X32: 9 | AD32: =IF(Z32+AB32=0,"",Z32+AB32) | AG32: 1 | AH32: 7 | AL32: =IF(AH32+AJ32=0,"",AH32+AJ32) -> 7 | AN32: 9 | AT32: =IF(AP32+AR32=0,"",AP32+AR32) | AW32: 1 | BB32: =IF(AX32+AZ32=0,"",AX32+AZ32) | BD32: 9 | BJ32: =IF(BF32+BH32=0,"",BF32+BH32)
A33: 2 | F33: =IF(B33+D33=0,"",B33+D33) | H33: 10 | N33: =IF(J33+L33=0,"",J33+L33) | Q33: 2 | V33: =IF(R33+T33=0,"",R33+T33) | X33: 10 | AD33: =IF(Z33+AB33=0,"",Z33+AB33) | AG33: 2 | AH33: 8 | AJ33: 1 | AL33: =IF(AH33+AJ33=0,"",AH33+AJ33) -> 9 | AN33: 10 | AT33: =IF(AP33+AR33=0,"",AP33+AR33) | AW33: 2 | BB33: =IF(AX33+AZ33=0,"",AX33+AZ33) | BD33: 10 | BJ33: =IF(BF33+BH33=0,"",BF33+BH33)
A34: 3 | F34: =IF(B34+D34=0,"",B34+D34) | H34: 11 | N34: =IF(J34+L34=0,"",J34+L34) | Q34: 3 | V34: =IF(R34+T34=0,"",R34+T34) | X34: 11 | AD34: =IF(Z34+AB34=0,"",Z34+AB34) | AG34: 3 | AH34: 7 | AL34: =IF(AH34+AJ34=0,"",AH34+AJ34) -> 7 | AN34: 11 | AT34: =IF(AP34+AR34=0,"",AP34+AR34) | AW34: 3 | BB34: =IF(AX34+AZ34=0,"",AX34+AZ34) | BD34: 11 | BJ34: =IF(BF34+BH34=0,"",BF34+BH34)
A35: 4 | F35: =IF(B35+D35=0,"",B35+D35) | H35: 12 | N35: =IF(J35+L35=0,"",J35+L35) | Q35: 4 | V35: =IF(R35+T35=0,"",R35+T35) | X35: 12 | AD35: =IF(Z35+AB35=0,"",Z35+AB35) | AG35: 4 | AH35: 8 | AJ35: 1 | AL35: =IF(AH35+AJ35=0,"",AH35+AJ35) -> 9 | AN35: 12 | AT35: =IF(AP35+AR35=0,"",AP35+AR35) | AW35: 4 | BB35: =IF(AX35+AZ35=0,"",AX35+AZ35) | BD35: 12 | BJ35: =IF(BF35+BH35=0,"",BF35+BH35)
A36: 5 | F36: =IF(B36+D36=0,"",B36+D36) | H36: 13 | N36: =IF(J36+L36=0,"",J36+L36) | Q36: 5 | V36: =IF(R36+T36=0,"",R36+T36) | X36: 13 | AD36: =IF(Z36+AB36=0,"",Z36+AB36) | AG36: 5 | AH36: 8 | AL36: =IF(AH36+AJ36=0,"",AH36+AJ36) -> 8 | AN36: 13 | AT36: =IF(AP36+AR36=0,"",AP36+AR36) | AW36: 5 | BB36: =IF(AX36+AZ36=0,"",AX36+AZ36) | BD36: 13 | BJ36: =IF(BF36+BH36=0,"",BF36+BH36)
A37: 6 | F37: =IF(B37+D37=0,"",B37+D37) | H37: 14 | N37: =IF(J37+L37=0,"",J37+L37) | Q37: 6 | V37: =IF(R37+T37=0,"",R37+T37) | X37: 14 | AD37: =IF(Z37+AB37=0,"",Z37+AB37) | AG37: 6 | AH37: 8 | AJ37: 1 | AL37: =IF(AH37+AJ37=0,"",AH37+AJ37) -> 9 | AN37: 14 | AT37: =IF(AP37+AR37=0,"",AP37+AR37) | AW37: 6 | BB37: =IF(AX37+AZ37=0,"",AX37+AZ37) | BD37: 14 | BJ37: =IF(BF37+BH37=0,"",BF37+BH37)
A38: 7 | F38: =IF(B38+D38=0,"",B38+D38) | H38: 15 | N38: =IF(J38+L38=0,"",J38+L38) | Q38: 7 | V38: =IF(R38+T38=0,"",R38+T38) | X38: 15 | AD38: =IF(Z38+AB38=0,"",Z38+AB38) | AG38: 7 | AH38: 8 | AJ38: 1 | AL38: =IF(AH38+AJ38=0,"",AH38+AJ38) -> 9 | AN38: 15 | AT38: =IF(AP38+AR38=0,"",AP38+AR38) | AW38: 7 | BB38: =IF(AX38+AZ38=0,"",AX38+AZ38) | BD38: 15 | BJ38: =IF(BF38+BH38=0,"",BF38+BH38)
A39: 8 | F39: =IF(B39+D39=0,"",B39+D39) | H39: 16 | N39: =IF(J39+L39=0,"",J39+L39) | Q39: 8 | V39: =IF(R39+T39=0,"",R39+T39) | X39: 16 | AD39: =IF(Z39+AB39=0,"",Z39+AB39) | AG39: 8 | AH39: 8 | AJ39: 1 | AL39: =IF(AH39+AJ39=0,"",AH39+AJ39) -> 9 | AN39: 16 | AT39: =IF(AP39+AR39=0,"",AP39+AR39) | AW39: 8 | BB39: =IF(AX39+AZ39=0,"",AX39+AZ39) | BD39: 16 | BJ39: =IF(BF39+BH39=0,"",BF39+BH39)
A40: 【ガス釜の利用】 | F40: 無 | H40: 計 | J40: =IF(SUM(B32:C40,J32:K39)=0,"",SUM(B32:C40,J32:K39)) | L40: =IF(SUM(D32:E40,L32:M39)=0,"",SUM(D32:E40,L32:M39)) | N40: =IF(ISERROR(J40+L40),"",J40+L40) | Q40: 【ガス釜の利用】 | V40: 無 | X40: 計 | Z40: =IF(SUM(R32:S40,Z32:AA39)=0,"",SUM(R32:S40,Z32:AA39)) | AB40: =IF(SUM(T32:U40,AB32:AC39)=0,"",SUM(T32:U40,AB32:AC39)) | AD40: =IF(ISERROR(Z40+AB40),"",Z40+AB40) | AG40: 【ガス釜の利用】 | AL40: 無 | AN40: 計 | AP40: =IF(SUM(AH32:AI40,AP32:AQ39)=0,"",SUM(AH32:AI40,AP32:AQ39)) -> 62 | AR40: =IF(SUM(AJ32:AK40,AR32:AS39)=0,"",SUM(AJ32:AK40,AR32:AS39)) -> 5 | AT40: =IF(ISERROR(AP40+AR40),"",AP40+AR40) -> 67 | AW40: 【ガス釜の利用】 | BB40: 無 | BD40: 計 | BF40: =IF(SUM(AX32:AY40,BF32:BG39)=0,"",SUM(AX32:AY40,BF32:BG39)) | BH40: =IF(SUM(AZ32:BA40,BH32:BI39)=0,"",SUM(AZ32:BA40,BH32:BI39)) | BJ40: =IF(ISERROR(BF40+BH40),"",BF40+BH40)
A41: ※1グループの人数は、８～１２人程度で調整してください。 | AG41: ※1グループの人数は、８～１２人程度で調整してください。
A43: 引率・指導者の役割分担 | AG43: 引率・指導者の役割分担
A44: 係 | B44: 調理係 | L44: 飯ごう係 | V44: かまど係 | AG44: 係 | AH44: 調理係 | AR44: 飯ごう係 | BB44: かまど係
A45: 氏名 | I45: （ | K45: ） | S45: （ | U45: ） | AC45: （ | AE45: ） | AG45: 氏名 | AO45: （ | AQ45: ） | AY45: （ | BA45: ） | BI45: （ | BK45: ）
I46: （ | K46: ） | S46: （ | U46: ） | AC46: （ | AE46: ） | AO46: （ | AQ46: ） | AY46: （ | BA46: ） | BI46: （ | BK46: ）
I47: （ | K47: ） | S47: （ | U47: ） | AC47: （ | AE47: ） | AO47: （ | AQ47: ） | AY47: （ | BA47: ） | BI47: （ | BK47: ）
I48: （ | K48: ） | S48: （ | U48: ） | AC48: （ | AE48: ） | AO48: （ | AQ48: ） | AY48: （ | BA48: ） | BI48: （ | BK48: ）
I49: （ | K49: ） | S49: （ | U49: ） | AC49: （ | AE49: ） | AO49: （ | AQ49: ） | AY49: （ | BA49: ） | BI49: （ | BK49: ）
I50: （ | K50: ） | S50: （ | U50: ） | AC50: （ | AE50: ） | AO50: （ | AQ50: ） | AY50: （ | BA50: ） | BI50: （ | BK50: ）
A51: ※引率・指導者は全員入るようにし、（ ）に何班か記入してください。 | AG51: ※引率・指導者は全員入るようにし、（ ）に何班か記入してください。
A52: 各係の点検をする引率・指導者には○印をつけてください。 | AG52: 各係の点検をする引率・指導者には○印をつけてください。
D55: 朝食メニュー | J55: 昼食・夕食メニュー | P55: 弁当
A56: 朝食 | D56: （ハンバーグ100） | J56: （カレー100） | P56: （おにぎり２）
A57: 昼食 | D57: （ハンバーグ200） | J57: （カレー120） | P57: （おにぎり＆パン）
A58: 夕食 | D58: （ハンバーグ300） | J58: （カレー140） | P58: （パン２）
D59: （ハンバーグ食パン） | J59: （芋煮0）
A60: 有 | D60: （ホットサンド） | J60: （芋煮100）
A61: 無 | J61: （芋煮120）
J62: （芋煮140）
A63: ○ | J63: （BBQ0）
J64: （BBQ100）
J65: （BBQ120）
J66: （BBQ140）
J67: （焼きそば）
J68: （ホットサンド）
J69: （ポリナポリタン）

Sheet 【別紙3】アレルギーに関する調査票
A1: （別紙3） | AC1: （別紙3） | AN1: ＜記入例＞
A3: 食物アレルギーに関する調査票 | AC3: 食物アレルギーに関する調査票
AA4: 宮城県蔵王自然の家 | BC4: 宮城県蔵王自然の家
B6: 自然の家では、食物アレルギーのある人も含め、利用される全ての方ができる限り同じメニューで食べることができるよう、栄養士が献立を作成しています。 この調査票は、情報を正確に把握し、提供できる食事内容を検討するためのものです。 施設利用の1か月前までに、蔵王自然の家へ提出をお願いいたします。 献立案については、後日お知らせいたします。 | AD6: 自然の家では、食物アレルギーのある人も含め、利用される全ての方ができる限り同じメニューで食べることができるよう、栄養士が献立を作成しています。 この調査票は、情報を正確に把握し、提供できる食事内容を検討するためのものです。 施設利用の1か月前までに、蔵王自然の家へ提出をお願いいたします。 献立案については、後日お知らせいたします。
B8: 利 用 日 | G8: ： | H8: =IF(【様式1】申請書!AA24=0," ",【様式1】申請書!AA24) | P8: ～ | R8: =IF(【様式1】申請書!AA25=0," ",【様式1】申請書!AA25) | AD8: 利 用 日： | AJ8: 令和×年〇月15日（木） | AR8: ～ | AT8: 令和×年〇月1７日（土）
B10: 団体（学校）名 | G10: ： | H10: =IF([2]【様式1】申請書!AD13=0," ",[2]【様式1】申請書!AD13) | AD10: 団体（学校）名： | AJ10: 校長 蔵王 太郎
B12: 氏 名 | G12: ： | V12: （イニシャル等でも可） | AD12: 氏 名： | AJ12: O.M | AW12: （イニシャル等でも可）
B15: 以下の質問の該当する項目に✔を御記入ください。 | AD15: 以下の質問の該当する項目に✔を御記入ください。
B17: 質問１ 食物アレルギーの対応を希望しますか？ | AD17: 質問１ 食物アレルギーの対応を希望しますか？
F19: はい | S19: いいえ | AH19: はい | AU19: いいえ
E20: （質問２へお進みください。） | R20: （質問１で終わりです。） | AG20: （質問２へお進みください。） | AT20: （質問１で終わりです。）
E21: ※ 可能な範囲で対応いたします。 | AG21: ※ 可能な範囲で対応いたします。
B23: 質問２ 除去しなければならない食物は何ですか？ | AD23: 質問２ 除去しなければならない食物は何ですか？
E25: 食物名： | AG25: 食物名： | AJ25: 卵（加熱しても不可）、魚（だし・缶詰は可）、りんご
E26: ※ できるだけ詳しく御記入ください。 例：生卵（つなぎや加熱した卵は可） | AG26: ※ できるだけ詳しく御記入ください。 例：生卵（つなぎや加熱した卵は可）
B29: 質問３ 特定の食物で、過去にアナフィラキシー（全身性のショック症状） | AD29: 質問３ 特定の食物で、過去にアナフィラキシー（全身性のショック症状）
D30: を起こしたことはありますか？ | AF30: を起こしたことはありますか？
F32: はい（食物名： | T32: ） | W32: いいえ | AH32: はい（食物名： | AM32: 卵 | AV32: ） | AY32: いいえ
F33: （いつ頃： | T33: ） | AH33: （いつ頃： | AM33: 生後8か月頃 | AV33: ）
B35: 質問４ エピペン（アドレナリン自己注射薬）を持参する予定ですか？ | AD35: 質問４ エピペン（アドレナリン自己注射薬）を持参する予定ですか？
F37: はい（保管者： | T37: ） | W37: いいえ | AH37: はい（保管者： | AM37: 本人 | AV37: ） | AY37: いいえ
B39: 質問５ 現在かかりつけの病院があればお書きください。 | AD39: 質問５ 現在かかりつけの病院があればお書きください。
AG41: 仙南こども病院

Sheet 【別紙4-1】講師依頼
A1: （別紙4-1 ） | L1: （別紙4-1 ）
A3: 蔵王自然の家スキー講師依頼申込書 | L3: 蔵王自然の家スキー講師依頼申込書 例
A4: ※蔵王自然の家のスキー講師を依頼しない学校・団体も提出してください。 | L4: ※蔵王自然の家のスキー講師を依頼しない学校・団体も提出してください。
A5: 学校名又は団体名 | C5: =IF(【様式1】申請書!AI13=0," ",【様式1】申請書!AI13) | L5: 学校名又は団体名 | N5: ○○町立○○小学校
A6: 校長名又は団体長名 | C6: =IF(【様式1】申請書!AI14=0," ",【様式1】申請書!AI14) | L6: 校長名又は団体長名 | N6: 校長 蔵王 太郎
A7: 学校住所又は代表者住所 | C7: 〒 | D7: =IF(【様式1】申請書!AF8=0," ",【様式1】申請書!AF8) | L7: 学校住所又は代表者住所 | N7: 〒 | O7: 989-0916
C8: =IF(【様式1】申請書!AE9=0," ",【様式1】申請書!AE9) | N8: 宮城県刈田郡蔵王町遠刈田温泉字上ノ原155-1
A9: ＴＥＬ | C9: =IF(【様式1】申請書!AG15=0," ",【様式1】申請書!AG15) | L9: ＴＥＬ | N9: 0224-××-××××
A10: ＦＡＸ | C10: =IF(【様式1】申請書!AF22=0," ",【様式1】申請書!AF22) | L10: ＦＡＸ | N10: 0224-××-××××
A11: E-mail | C11: =IF(【様式1】申請書!AF23=0," ",【様式1】申請書!AF23) | L11: E-mail | N11: ○○-es@○○.town.ed.jp
A12: １ えぼしスキー場を | D12: 利用する → 別紙4-2を記入 | J12: 利用しない | L12: １ えぼしスキー場を | O12: 利用する → 別紙4-2を記入 | U12: 使用しない
A13: ２ 蔵王自然の家のスキー講師を | L13: ２ 蔵王自然の家のスキー講師を
B14: 依頼する → ３以下をご記入ください | H14: 依頼しない → ここで記入終了です。 | M14: 依頼する → ３以下をご記入ください | S14: 依頼しない → ここで記入終了です。
A16: ３ 蔵王自然の家スキー講師の依頼日と人数は以下のとおりです。 | L16: ３ 蔵王自然の家スキー講師の依頼日と人数は以下のとおりです。
A17: 日程 | B17: 依頼日 | D17: ｱﾙﾍﾟﾝｽｷｰ | F17: ｸﾛｽｶﾝﾄﾘｰｽｷｰ | H17: ｽﾉｰｼｭｰ | J17: 依頼時間帯 | L17: 日程 | M17: 依頼日 | O17: ｱﾙﾍﾟﾝｽｷｰ | Q17: ｸﾛｽｶﾝﾄﾘｰｽｷｰ | S17: ｽﾉｰｼｭｰ | U17: 依頼時間帯
D18: (通常ｽｷｰ) | F18: (歩くスキー) | H18: (かんじき) | J18: リストから選択する | O18: (通常ｽｷｰ) | Q18: (歩くスキー) | S18: (かんじき) | U18: リストから選択する
A19: １日目 | B19: =IF(【様式1】申請書!AA24=0," ",【様式1】申請書!AA24) | E19: 名 | G19: 名 | I19: 名 | L19: １日目 | M19: 〇月15日（木） | O19: 8 | P19: 名 | R19: 名 | T19: 名 | U19: 午後
A20: ２日目 | B20: =IF(【様式1】申請書!AA24=0," ",【様式1】申請書!AA24+1) | E20: 名 | G20: 名 | I20: 名 | L20: ２日目 | M20: 〇月1６日（金） | O20: 8 | P20: 名 | R20: 名 | T20: 名 | U20: 1日
A21: ３日目 | B21: =IF(【様式1】申請書!AA24=0," ",【様式1】申請書!AA24+2) | E21: 名 | G21: 名 | I21: 名 | L21: ３日目 | M21: 〇月17日（土） | O21: 8 | P21: 名 | R21: 名 | T21: 名 | U21: 午前
A23: スキー講師を依頼するにあたって（ 確認事項 ） | L23: スキー講師を依頼するにあたって（ 確認事項 ）
A24: (１)効果的なスキー教室にするには、１名の講師に対して６～８名程度が適当です。 | L24: (１)効果的なスキー教室にするには、１名の講師に対して６～８名程度が適当です。
A25: 特に初心者のグループは１０名以下が望ましく、できれば学校・団体の指導者も配置してください。 | L25: 特に初心者のグループは１０名以下が望ましく、できれば学校・団体の指導者も配置してください。
A26: (２)講師謝金は、１名全日６,０００円。半日４,０００円となります。 | L26: (２)講師謝金は、１名全日６,０００円。半日４,０００円となります。
A27: 講師のゴンドラ・リフト代、昼食代と駐車料金【平日無料、土日祝日、年末年始（12/29～1/3）１，０００円】は学校・団体が負担します。 | L27: 講師のゴンドラ・リフト代、昼食代と駐車料金【平日無料、土日祝日、年末年始（12/29～1/3）１，0００円】 は学校・団体が負担します。
A28: ①講師の昼食について、午前のみの依頼であっても講師の昼食代を負担して頂きます。 午後から講師を依頼する学校・団体については、昼食代は必要ありません。 | L28: ①講師の昼食について、午前のみの依頼であっても講師の昼食代を負担して頂きます。 午後から講師を依頼する学校・団体については、昼食代は必要ありません。
A29: ②講師がシーズン券を持っている場合は、ゴンドラ・リフト代、駐車料金の負担はありません。 | L29: ②講師がシーズン券を持っている場合は、ゴンドラ・リフト代、駐車料金の負担はありません。
A30: ③各学校・団体からの講師依頼を受けて講師を割当てます。こちらの様式を早めに提出していただけると、事前に調整し、 担当の方をお知らせすることができます。 | L30: ③各学校・団体からの講師依頼を受けて講師を割当てます。こちらの様式を早めに提出していただけると、事前に調整し、 担当の方をお知らせすることができます。
A31: (３)講師の追加や取り消しなど、変更のないようにお願いします。 | L31: (３)講師の追加や取り消しなど、変更のないようにお願いします。
A32: ※講師は、割当日に本来の仕事を休んで支援に来ている場合があります。 | L32: ※講師は、割当日に本来の仕事を休んで支援に来ている場合があります。
A33: (４)蔵王自然の家のスキー講師の数は限られていますので、できるだけ各学校・団体でも指導にあたるようにしてください。 | L33: (４)蔵王自然の家のスキー講師の数は限られていますので、できるだけ各学校・団体でも指導にあたるようにしてください。

Sheet 【別紙4-2】各種予約
B1: （別紙4-2） | R1: （別紙4-2）
B4: 団体名 | H4: =IF(【様式1】申請書!AI13=0," ",【様式1】申請書!AI13) | L4: 利用期間 | M4: =IF(【様式1】申請書!AA24=0," ",【様式1】申請書!AA24) | P4: =IF(【様式1】申請書!AA25=0," ",【様式1】申請書!AA25) | R4: 団体名 | X4: ○△□小学校 | AB4: 利用期間 | AC4: １月〇日（水）～１月△日（金）
B6: 各種予約集計表 | R6: 各種予約集計表 例
B8: ※えぼしスキー場を利用する団体のみ提出 | R8: ※えぼしスキー場を利用する団体のみ提出
B10: ゴンドラ・リフト利用について | K10: 時間券については、昼食時間も含んでの利用時間となります。 | R10: ゴンドラ・リフト利用について | AA10: 時間券については，昼食時間も含んでの利用時間となります。
C11: １ 日 目 | G11: ２日目 | K11: ３日目 | O11: 備 考 | S11: １ 日 目 | W11: ２日目 | AA11: ３日目 | AE11: 備 考
B12: 月日 | C12: 月 日（ ） | G12: =IF(【様式1】申請書!AA24=0," ",【様式1】申請書!AA24+1) | K12: =IF(【様式1】申請書!AA24=0," ",【様式1】申請書!AA24+2) | R12: 月日 | S12: 月 日（ ） | W12: 〇月１６日（金） | AA12: 〇月１７日（土）
B13: 利用 時間 | G13: 開始予定 | K13: 開始予定 | R13: 利用 時間 | W13: 開始予定 | X13: 0.39583333 | AA13: 開始予定 | AB13: 0.39583333
G14: 終了予定 | K14: 終了予定 | W14: 終了予定 | X14: 0.60416667 | AA14: 終了予定 | AB14: 0.52083333
G15: リフト券 | K15: リフト券 | W15: リフト券 | X15: 1日券 | AA15: リフト券 | AB15: 3時間券
B16: 利用人数 | G16: ① | H16: 未就学児 | J16: 人 | K16: ① | L16: 未就学児 | N16: 人 | O16: ※団体独自のスキー講師は一般に含めて記入してください。 | R16: 利用人数 | W16: ① | X16: 未就学児 | Z16: 人 | AA16: ① | AB16: 未就学児 | AD16: 人 | AE16: ※団体独自のスキー講師は一般に含めて記入してください。 | AJ16: 3時間券
G17: ② | H17: 小・中学生 | J17: 人 | K17: ② | L17: 小・中学生 | N17: 人 | W17: ② | X17: 小・中学生 | Y17: 61 | Z17: 人 | AA17: ② | AB17: 小・中学生 | AC17: 61 | AD17: 人 | AJ17: 5時間券
G18: ③ | H18: 高校生 | J18: 人 | K18: ③ | L18: 高校生 | N18: 人 | W18: ③ | X18: 高校生 | Z18: 人 | AA18: ③ | AB18: 高校生 | AD18: 人 | AJ18: 1日券
G19: ④ | H19: 引率 | J19: 人 | K19: ④ | L19: 引率 | N19: 人 | W19: ④ | X19: 引率 | Y19: 4 | Z19: 人 | AA19: ④ | AB19: 引率 | AC19: 4 | AD19: 人
G20: ⑤ | H20: スキー講師(自然の家依頼) | J20: 人 | K20: ⑤ | L20: スキー講師(自然の家依頼) | N20: 人 | W20: ⑤ | X20: スキー講師(自然の家依頼) | Y20: 8 | Z20: 人 | AA20: ⑤ | AB20: スキー講師(自然の家依頼) | AC20: 8 | AD20: 人
G21: ⑥ | H21: 一般(団体ｽｷｰ講師含む) | J21: 人 | K21: ⑥ | L21: 一般(団体ｽｷｰ講師含む) | N21: 人 | W21: ⑥ | X21: 一般(団体ｽｷｰ講師含む) | Y21: 1 | Z21: 人 | AA21: ⑥ | AB21: 一般(団体ｽｷｰ講師含む) | AC21: 1 | AD21: 人
G22: 合 計 | I22: =IF(SUM(I16:I21)=0," ",SUM(I16:I21)) | J22: 人 | K22: 合 計 | M22: =IF(SUM(M16:M21)=0," ",SUM(M16:M21)) | N22: 人 | W22: 合 計 | Y22: =SUM(Y16:Y21) -> 74 | Z22: 人 | AA22: 合 計 | AC22: 74 | AD22: 人
B25: 昼食予約について | K25: 平日利用団体・学校のみ記入 | R25: 昼食予約について | AA25: 平日利用団体・学校のみ記入
C26: １ 日 目 | G26: ２日目 | K26: ３日目 | O26: 備 考 | S26: １ 日 目 | W26: ２ 日 目 | AA26: ３ 日 目 | AE26: 備 考
B27: 月日 | C27: 月 日（ ） | G27: =IF(G12=0," ",G12) | K27: =IF(K12=0," ",K12) | R27: 月日 | S27: 月 日（ ） | W27: 〇月１６日（金）
H28: ①カレー・とん汁セット | L28: ①カレー・とん汁セット | O28: ※いずれかを選び☑をつけてください。 | X28: ①カレー・とん汁セット | AB28: ①カレー・とん汁セット | AE28: ※いずれかを選び☑をつけてください。
H29: ②牛丼・とん汁セット | L29: ②牛丼・とん汁セット | X29: ②牛丼・とん汁セット | AB29: ②牛丼・とん汁セット
B30: 人数 | C30: 予約人数 | F30: 人 | G30: 予約人数 | J30: 人 | K30: 予約人数 | N30: 人 | R30: 人数 | S30: 予約人数 | V30: 人 | W30: 予約人数 | Y30: 74 | Z30: 人 | AA30: 予約人数 | AD30: 人
B31: 金額 | C31: 金額 | F31: 円 | G31: 金額 | I31: =IF(I30=0," ",I30*1000) | J31: 円 | K31: 金額 | M31: =IF(M30=0," ",M30*1000) | N31: 円 | R31: 金額 | S31: 金額 | V31: 円 | W31: 金額 | X31: =1100*74 -> 81400 | Z31: 円 | AA31: 金額 | AD31: 円
C32: （７００円×人数） | G32: （1,100円×人数） | K32: （1,100円×人数） | S32: （７００円×人数） | W32: （1,100円×人数） | AA32: （1,100円×人数）
G33: 注：スキー講師を依頼する団体は、講師分も含めた人数を記入してください。 | W33: 注：スキー講師を依頼する団体は、講師分も含めた人数を記入してください。
G34: 食事の場所・時刻については、えぼしスキー場と調整して、後日お知らせします。 | W34: 食事の場所・時刻については、えぼしスキー場と調整して、後日お知らせします。

Sheet 【別紙5‐1】アルペン用 
Z1: （別紙5関係 参考資料）
A2: （別紙5-1 ）【貸出用】 | K2: ※活動日の１か月前まで提出
A3: アルペンスキー靴・スキーウェアサイズ集計表 | Z3: スキーウェア貸出し（リース）について
A5: 団体名 | E5: =IF(【様式1】申請書!AI13=0," ",【様式1】申請書!AI13) | L5: 利用期間 | O5: =IF(【様式1】申請書!AA24=0," ",【様式1】申請書!AA24) | S5: ～ | T5: =IF(【様式1】申請書!AA25=0," ",【様式1】申請書!AA25) | AA5: １ リース品・リース代
A7: ス キ ー 靴 サ イ ズ 集 計 表 | M7: ウ ェ ア サ イ ズ 集 計 表 | AA7: 貸出し区分 | AC7: スキーウェア（上・下）１組
A8: 靴サイズ | H8: 人数 | M8: ウェアサイズ | U8: 人数 | AA8: ①半日～１日 | AC8: 2,500円
A9: １９．５ｃｍ未満 | K9: 人 | M9: ジュニア130 (１１５～１３５ｃｍ未満) | X9: 人 | AA9: ②１泊２日 | AC9: 3,200円
A10: １９．５ｃｍ | K10: 人 | M10: ジュニア140 (１２５～１４５ｃｍ未満) | X10: 人 | AA10: ③２泊３日 | AC10: 3,900円
A11: ２０．０ｃｍ | K11: 人 | M11: ジュニア150 (１３５～１５５ｃｍ未満) | X11: 人
A12: ２１．０ｃｍ | K12: 人 | M12: ジュニア160 (１４５～１６５ｃｍ未満) | X12: 人
A13: ２１．５ｃｍ | K13: 人 | M13: 大人Ｓ(１６５ｃｍ) | X13: 人 | AA13: ２ サイズ・数量
A14: ２２．０ｃｍ | K14: 人 | M14: 大人Ｍ(１７０ｃｍ) | X14: 人 | AA14: ウェアサイズ | AC14: 適応する身長 | AF14: 数量 | AG14: 備考
A15: ２２．５ｃｍ | K15: 人 | M15: 大人Ｌ(１７５ｃｍ) | X15: 人 | AA15: ジュニア １３０ (J130) | AC15: １１５～１３５ｃｍ未満 | AF15: 3
A16: ２３．０ｃｍ | K16: 人 | M16: 大人２Ｌ(１８０ｃｍ) | X16: 人 | AA16: ジュニア １４０ (J140) | AC16: １２５～１４５ｃｍ未満 | AF16: 7
A17: ２３．５ｃｍ | K17: 人 | M17: 大人３Ｌ(１８５ｃｍ) | X17: 人 | AA17: ジュニア １５０ (J150) | AC17: １３５～１５５ｃｍ未満 | AF17: 7
A18: ２４．０ｃｍ | K18: 人 | M18: 大人４Ｌ(１８５ｃｍ) | X18: 人 | AA18: ジュニア １６０ (J160) | AC18: １４５～１６５ｃｍ未満 | AF18: 7
A19: ２４．５ｃｍ | K19: 人 | M19: 小 計 | U19: =IF(SUM(U9:W18)=0," ",SUM(U9:W18)) | X19: 人 | AA19: 大人 Ｓ | AC19: １６５ｃｍ | AF19: 3
A20: ２５．０ｃｍ | K20: 人 | M20: ウェア持参 | X20: 人 | AA20: 大人 Ｍ | AC20: １７０ｃｍ | AF20: 3
A21: ２５．５ｃｍ | K21: 人 | M21: 合 計 | U21: =IF(U19=" "," ",U19+U20) | X21: 人 | AA21: 大人 Ｌ | AC21: １７５ｃｍ | AF21: 3
A22: ２６．０ｃｍ | K22: 人 | AA22: 大人 ２Ｌ | AC22: １８０ｃｍ | AF22: 2
A23: ２６．５ｃｍ | K23: 人 | M23: ※この表から必要数を確認します。 利用者名簿（別紙1-1、1-2、1-3）を参考に記入して ください。身長と靴サイズでスキーの割当をします。 ※ウェアの数量の数量・料金などについては、 右の 「（別紙5参考資料）スキーウエア貸出し （リース）について」を参照してください。 ※引率者分も含めて記入してください。 ※１９．５ｃｍ未満のサイズは、数に限りがございます。 事前にご相談ください。 | AA23: 大人 ３Ｌ | AC23: １８５ｃｍ | AF23: 2
A24: ２７．０ｃｍ | K24: 人 | AA24: 大人 ４Ｌ | AC24: １８５ｃｍ | AF24: 2
A25: ２７．５ｃｍ | K25: 人 | AA25: ※ この他にも在庫があるサイズもございますので、お問い合わせください。
A26: ２８．０ｃｍ | K26: 人
A27: ２９．０ｃｍ | K27: 人 | AA27: ３ 汚した場合、紛失・破損した場合について
A28: ３０．０ｃｍ | K28: 人 | AA28: ○ 明らかに使用者が汚した場合は、下記のクリーニング代をいただくことになります。
A29: ３０．０ｃｍ超 | K29: 人 | AB29: ・スキーウェア（上）・・・2,200円 | AE29: ・スキーウェア（下）・・・2,200円
A30: 小 計 | H30: =IF(SUM(H9:J29)=0," ",SUM(H9:J29)) | K30: 人
A31: スキー持参 | K31: 人 | AA31: ○ 紛失・破損した場合は、別途料金をいただきますのでご了承ください。
A32: 合 計 | H32: =IF(H30=" "," ",H30+H31) | K32: 人 | AB32: ・スキーウェア（上）・・・6,500円 | AE32: ・スキーウェア（下）・・・6,500円
AA33: ※ 破損部位によっては金額が変わることがございますのでご了承ください。

Sheet 【別紙5-2】歩くスキー用 
Z1: （別紙5関係 参考資料）
A2: （別紙5-2）【貸出用】 | K2: ※活動日の１か月前まで提出
A3: 歩くスキー靴・スキーウェアサイズ集計表
A5: 団 体 名 | E5: =IF(【様式1】申請書!AI13=0," ",【様式1】申請書!AI13) | L5: 利用期間 | O5: =IF(【様式1】申請書!AA24=0," ",【様式1】申請書!AA24) | S5: ～ | T5: =IF(【様式1】申請書!AA25=0," ",【様式1】申請書!AA25) | AA5: １ リース品・リース代
A7: ス キ ー 靴 サ イ ズ 集 計 表 | M7: ウ ェ ア サ イ ズ 集 計 表 | AA7: 貸出し区分 | AC7: スキーウェア（上・下）１組
A8: 靴サイズ | H8: 人数 | M8: ウェアサイズ | U8: 人数 | AA8: ①半日～１日 | AC8: 2,500円
A9: １９．０ｃｍ | K9: 人 | M9: ジュニア130 (１１５～１３５ｃｍ未満) | X9: 人 | AA9: ②１泊２日 | AC9: 3,200円
A10: ２０．０ｃｍ | K10: 人 | M10: ジュニア140 (１２５～１４５ｃｍ未満) | X10: 人 | AA10: ③２泊３日 | AC10: 3,900円
A11: ２１．０ｃｍ | K11: 人 | M11: ジュニア150 (１３５～１５５ｃｍ未満) | X11: 人
A12: ２２．０ｃｍ | K12: 人 | M12: ジュニア160 (１４５～１６５ｃｍ未満) | X12: 人
A13: ２３．５ｃｍ | K13: 人 | M13: 大人Ｓ(１６５ｃｍ) | X13: 人 | AA13: ２ サイズ・数量
A14: ２４．０ｃｍ | K14: 人 | M14: 大人Ｍ(１７０ｃｍ) | X14: 人 | AA14: ウェアサイズ | AC14: 適応する身長 | AF14: 数量 | AG14: 備考
A15: ２４．５ｃｍ | K15: 人 | M15: 大人Ｌ(１７５ｃｍ) | X15: 人 | AA15: ジュニア １３０ (J130) | AC15: １１５～１３５ｃｍ未満 | AF15: 3
A16: ２５．０ｃｍ | K16: 人 | M16: 大人２Ｌ(１８０ｃｍ) | X16: 人 | AA16: ジュニア １４０ (J140) | AC16: １２５～１４５ｃｍ未満 | AF16: 7
A17: ２５．５ｃｍ | K17: 人 | M17: 大人３Ｌ(１８５ｃｍ) | X17: 人 | AA17: ジュニア １５０ (J150) | AC17: １３５～１５５ｃｍ未満 | AF17: 7
A18: ２６．０ｃｍ | K18: 人 | M18: 大人４Ｌ(１８５ｃｍ) | X18: 人 | AA18: ジュニア １６０ (J160) | AC18: １４５～１６５ｃｍ未満 | AF18: 7
A19: ２６．５ｃｍ | K19: 人 | M19: 小 計 | U19: =IF(SUM(U9:W18)=0," ",SUM(U9:W18)) | X19: 人 | AA19: 大人 Ｓ | AC19: １６５ｃｍ | AF19: 3
A20: ２７．０ｃｍ | K20: 人 | M20: ウェア持参 | X20: 人 | AA20: 大人 Ｍ | AC20: １７０ｃｍ | AF20: 3
A21: ２７．５ｃｍ | K21: 人 | M21: 合 計 | U21: =IF(U19=" "," ",U19+U20) | X21: 人 | AA21: 大人 Ｌ | AC21: １７５ｃｍ | AF21: 3
A22: ２８．０ｃｍ | K22: 人 | AA22: 大人 ２Ｌ | AC22: １８０ｃｍ | AF22: 2
A23: ２９．０ｃｍ | K23: 人 | M23: ※この表から必要数を確認します。 利用者名簿（別紙1-1、1-2、1-3）を参考に記入してください。身長と靴サイズでスキーの割当をします。 ※ウェアの数量の数量・料金などについては、 右の 「（別紙5参考資料）スキーウェア貸出し （リース）について」を参照してください。 ※引率者分も含めて記入してください。 | AA23: 大人 ３Ｌ | AC23: １８５ｃｍ | AF23: 2
A24: ※歩くスキーの靴は、インチサイズのため通常の靴の大きさとは異なります。 ※当日、サイズが合わない場合は変更しますので、お声がけください。 | AA24: 大人 ４Ｌ | AC24: １８５ｃｍ | AF24: 2
AA25: ※ この他にも在庫があるサイズもございますので、お問い合わせください。
AA27: ３ 汚した場合、紛失・破損した場合について
A28: 小 計 | H28: =IF(SUM(H7:J27)=0," ",SUM(H7:J27)) | K28: 人 | AA28: ○ 明らかに使用者が汚した場合は、下記のクリーニング代をいただくことになります。
A29: スキー持参 | K29: 人 | AB29: ・スキーウェア（上）・・・2,200円 | AE29: ・スキーウェア（下）・・・2,200円
A30: 合 計 | H30: =IF(H28=" "," ",H28+H29) | K30: 人
AA31: ○ 紛失・破損した場合は、別途料金をいただきますのでご了承ください。
AB32: ・スキーウェア（上）・・・6,500円 | AE32: ・スキーウェア（下）・・・6,500円
AA33: ※ 破損部位によっては金額が変わることがございますのでご了承ください。

Sheet 変更点連絡用送信票
A2: 蔵王自然の家 変更点連絡用 送信票
A4: 宮城県蔵王自然の家 宛
A5: 【ＦＡＸ番号0224－34－2102、E-mail: zao-ukeire@pref.miyagi.lg.jp 】
G7: 送信回数 回目
B9: 団 体 名 | D9: =IF(【様式1】申請書!AI13=0," ",【様式1】申請書!AI13)
B10: 利用予定日 | D10: =IF(【様式1】申請書!AA24=0," ",【様式1】申請書!AA24) | G10: =IF(【様式1】申請書!AA25=0," ",【様式1】申請書!AA25)
B11: 電話・ＦＡＸ・Ｅ－mail | D11: 電話番号 | F11: =IF(【様式1】申請書!AG15=0," ",【様式1】申請書!AG15)
D12: ＦＡＸ番号 | F12: =IF(【様式1】申請書!AF22=0," ",【様式1】申請書!AF22)
D13: メールアドレス | F13: =IF(【様式1】申請書!AF23=0," ",【様式1】申請書!AF23)
B15: 変 | C15: 前 日まで | D15: （ ）活動プログラムの変更（ ）名簿記載内容の変更
B16: 更 | D16: （ ）利用人数の変更（ ）宿泊者数の変更
B17: 点 | C17: ７日前まで | D17: （ ）食事数の変更 ※午後３時まで
B18: その他の変更点 | D18: （ ）について
B19: 【変更点の内容】具体的に記入してください。変更後の各種用紙も送信してください。
B40: 自然の家確認欄 | D40: 受信確認 | E40: 月 日 時 分受信確認 確認者
D41: 内容確認 | E41: 活動プログラム関係 | H41: 利用人数関係
E42: 食事関係 | H42: 名簿関係
E43: ゴンドラ関係 | H43: その他
